Workbook

Sheet WEO Chapter 1 Apr. 2019
I3: 43564
B5: International Monetary Fund
B6: World Economic Outlook
B21: April 2019
B23: Chapter 1. Global Prospects and Policies
B25: This datafile includes the tables, charts, and underlying data from the Chapter 1 of the April 2019 World Economic Outlook. When using the data, please refer to the
B26: IMF, World Economic Outlook, April 2019.
B28: Disclaimer: Should there be any discrepancies with the print version, the latter represents the official version.
C30: Please refer any questions to the WEO Data Forum: | H30: https://forums.imf.org/

Sheet Table of Contents
B5: International Monetary Fund
B6: World Economic Outlook
B9: ='WEO Chapter 1 Apr. 2019'!B23:J23 -> Chapter 1. Global Prospects and Policies
B11: Table of Contents
B13: Figures
B14: ='Figure 1.1.'!J2 -> Figure 1.1. Global Activity Indicators
B15: ='Figure 1.2.'!J2 -> Figure 1.2. Trade Indicators
B16: ='Figure 1.3.'!J2 -> Figure 1.3. Commodity Prices
B17: ='Figure 1.4.'!J2 -> Figure 1.4. Global Inflation
B18: ='Figure 1.5.'!J2 -> Figure 1.5. Advanced Economies: Monetary and Financial Market Conditions
B19: ='Figure 1.6.'!J2 -> Figure 1.6. Emerging Market Economies: Interest Rates and Spreads
B20: ='Figure 1.7.'!J2 -> Figure 1.7. Emerging Market Economies: Equity Markets and Credit
B21: ='Figure 1.8.'!J2 -> Figure 1.8. Real Effective Exchange Rate Changes, September 2018–March 2019
B22: ='Figure 1.9.'!J2 -> Figure 1.9. Emerging Market Economies: Capital Flows
B23: ='Figure 1.10.'!J2 -> Figure 1.10. Half-Yearly Growth Forecasts
B24: ='Figure 1.11.'!J2 -> Figure 1.11. Forecast Assumptions: Fiscal Indicators
B25: ='Figure 1.12.'!J2 -> Figure 1.12. Commodity Price Assumptions and Terms-of-Trade Windfall Gains and Losses
B26: ='Figure 1.13.'!J2 -> Figure 1.13. Growth Rate: Emerging Market and Developing Economies
B27: ='Figure 1.14.'!J2 -> Figure 1.14. Contributions to GDP Growth
B28: ='Figure 1.15.'!J2 -> Figure 1.15. Per Capita Real GDP Growth
B29: ='Figure 1.16.'!J2 -> Figure 1.16. Global Current Account Balance
B30: ='Figure 1.17.'!J2 -> Figure 1.17. Current Account Balances in Relation to Economic Fundamentals
B31: ='Figure 1.18.'!J2 -> Figure 1.18. Net International Investment Positions
B32: ='Figure 1.19.'!J2 -> Figure 1.19. Policy Uncertainty and Trade Tensions
B33: ='Figure 1.20.'!J2 -> Figure 1.20. Geopolitical Risk Index
B34: ='Figure 1.21.'!J2 -> Figure 1.21. Risks to the Global Outlook
B35: ='Scenario Figure 1.'!J2 -> Scenario Figure 1. Real GDP in Brexit Scenario
B36: ='Scenario Figure 2.'!J2 -> Scenario Figure 2. Brexit Long-Term Real GDP Effects
B37: ='Figure 1.1.1.'!M2 -> Figure 1.1.1. Labor Market Dynamics in Selected Advanced Economies
B38: ='Figure 1.3.1.'!J2 -> Figure 1.3.1. Regional Disparities in GDP per Capita
B39: ='Figure 1.SF.1.'!J2 -> Figure 1.SF.1. Commodity Market Developments
B40: ='Figure 1.SF.2.'!J2 -> Figure 1.SF.2. Commodity Cycles and Economic Activity
B41: ='Figure 1.SF.3.'!J2 -> Figure 1.SF.3. Synchronization with Economic Activity
B42: ='Figure 1.SF.4.'!J2 -> Figure 1.SF.4. Commodity-Wide Synchronization
B43: ='Figure 1.SF.5.'!J2 -> Figure 1.SF.5. Latest Factors and Economic Activity
B44: ='Figure 1.SF.6.'!J2 -> Figure 1.SF.6. Global Real GDP Growth Nowcast: Actual versus Fitted Value

Sheet Figure 1.1.
J2: Figure 1.1. Global Activity Indicators
J3: (Three-month moving average; year-over-year percent change, unless noted otherwise)
J5: 1. World Trade, Industrial Production, and Manufacturing PMI | O5: 2. Industrial Production | W5: 3. Consumer Confidence
J6: (Deviations from 50 for Manufacturing PMI) | W6: (Index, 2015 = 100)
K8: Industrial production | L8: World trade volumes | M8: Manufacturing PMI: new orders | P8: United States | Q8: United Kingdom | R8: Germany | S8: Japan | T8: China | U8: Euro area 4 | X8: Advanced economies | Y8: Emerging market economies | Z8: World
J9: 2015M1 | K9: 3.1685718 | L9: 3.3316166 | M9: 2.1446 | O9: 2015M1 | P9: 3.3364049 | Q9: 1.2688615 | R9: 0.23497818 | S9: -1.366298 | T9: 7.24121 | U9: -0.71280886 | W9: 2015M1 | X9: 100.88611 | Y9: 101.5748 | Z9: 101.08225
J10: 2015M2 | K10: 2.9019427 | L10: 3.6317647 | M10: 2.2698 | O10: 2015M2 | P10: 2.6877527 | Q10: 1.2324546 | R10: 0.43638805 | S10: -1.8488485 | T10: 7.2111975 | U10: 0.40318484 | W10: 2015M2 | X10: 100.18409 | Y10: 102.07897 | Z10: 100.72377
J11: 2015M3 | K11: 2.5031217 | L11: 3.2042676 | M11: 1.8654 | O11: 2015M3 | P11: 1.7645439 | Q11: 1.4715948 | R11: 0.30252101 | S11: -2.8001287 | T11: 6.501387 | U11: 0.72378861 | W11: 2015M3 | X11: 100.85188 | Y11: 100.9333 | Z11: 100.87507
J12: 2015M4 | K12: 2.1354667 | L12: 2.7719216 | M12: 0.811 | O12: 2015M4 | P12: 0.68132752 | Q12: 1.6051913 | R12: 0.77415012 | S12: -2.5774878 | T12: 6.1889176 | U12: 0.88614189 | W12: 2015M4 | X12: 99.322364 | Y12: 100.56308 | Z12: 99.675736
J13: 2015M5 | K13: 1.8542207 | L13: 1.9498669 | M13: 1.2505 | O13: 2015M5 | P13: -0.21476599 | Q13: 1.7741385 | R13: 1.4193984 | S13: -2.4206739 | T13: 5.9392155 | U13: 1.1313518 | W13: 2015M5 | X13: 99.320308 | Y13: 101.788 | Z13: 100.02314
J14: 2015M6 | K14: 1.7190813 | L14: 1.8760919 | M14: 1.2573 | O14: 2015M6 | P14: -0.91710928 | Q14: 1.7729287 | R14: 1.7282277 | S14: -0.79522863 | T14: 6.2772678 | U14: 1.1301401 | W14: 2015M6 | X14: 100.37492 | Y14: 100.35459 | Z14: 100.36913
J15: 2015M7 | K15: 1.709651 | L15: 1.8413299 | M15: 0.9241 | O15: 2015M7 | P15: -1.273786 | Q15: 1.3614704 | R15: 1.6886187 | S15: -0.69467417 | T15: 6.2045608 | U15: 1.5810019 | W15: 2015M7 | X15: 98.233245 | Y15: 98.868842 | Z15: 98.414271
J16: 2015M8 | K16: 1.9610461 | L16: 2.1812031 | M16: 0.9306 | O16: 2015M8 | P16: -1.3853101 | Q16: 1.2938372 | R16: 1.8329939 | S16: -0.20006669 | T16: 6.2300499 | U16: 1.6074946 | W16: 2015M8 | X16: 100.76029 | Y16: 98.936768 | Z16: 100.24092
J17: 2015M9 | K17: 1.8410006 | L17: 1.5972728 | M17: 0.8329 | O17: 2015M9 | P17: -1.4920238 | Q17: 1.1896669 | R17: 1.5254237 | S17: -0.26640027 | T17: 5.9324775 | U17: 1.7791877 | W17: 2015M9 | X17: 100.86187 | Y17: 98.811517 | Z17: 100.2779
J18: 2015M10 | K18: 1.885493 | L18: 1.4224271 | M18: 1.5117 | O18: 2015M10 | P18: -1.8509495 | Q18: 1.4960898 | R18: 1.3940836 | S18: -0.2328676 | T18: 5.8496718 | U18: 2.2164028 | W18: 2015M10 | X18: 100.2967 | Y18: 98.618554 | Z18: 99.818739
J19: 2015M11 | K19: 1.5345564 | L19: 1.0320428 | M19: 1.1225 | O19: 2015M11 | P19: -2.6555821 | Q19: 0.98371778 | R19: 0.60708263 | S19: -0.099502488 | T19: 5.8152731 | U19: 2.8210383 | W19: 2015M11 | X19: 99.02176 | Y19: 98.98099 | Z19: 99.010148
J20: 2015M12 | K20: 1.283628 | L20: 1.105952 | M20: 0.7011 | O20: 2015M12 | P20: -3.3302234 | Q20: 0.27118644 | R20: 0.20113979 | S20: -0.53209179 | T20: 5.8589175 | U20: 2.3842937 | W20: 2015M12 | X20: 99.886474 | Y20: 98.490586 | Z20: 99.488906
... J57: 2019M1 | K57: 2.1215844 | L57: -0.38104853 | M57: 0.065 | O57: 2019M1 | P57: 4.0394476 | Q57: -0.97244733 | R57: -3.4365325 | S57: -0.064350064 | T57: 5.5270987 | U57: -1.5302524 | W57: 2019M1 | X57: 106.87422 | Y57: 107.7252 | Z57: 107.05913
J58: 2019M2 | M58: 0.1398 | W58: 2019M2 | X58: 109.38792 | Y58: 108.63385 | Z58: 109.10917

Sheet Figure 1.2.
J2: Figure 1.2. Trade Indicators
J3: (Year-over-year percent change)
J5: 1. Real Exports | Q5: 2. US Imports from China
K8: United States | L8: United Kingdom | M8: Japan | N8: China | O8: Euro area | R8: $34bn effective | S8: $16bn effective | T8: $200bn 10% effective | U8: Other
J9: 2015Q1 | K9: 2.4474319 | L9: 5.6777928 | M9: 7.2534297 | N9: 0.25656425 | O9: 7.6421908 | Q9: 2018M1 | R9: 7.4035172 | S9: 20.341812 | T9: 12.361761 | U9: 9.5054867
J10: 2015Q2 | K10: 1.3684744 | L10: 4.2473346 | M10: 2.2076905 | N10: -2.1617907 | O10: 7.1756237 | Q10: 2018M2 | R10: 11.267909 | S10: 27.947945 | T10: 20.836855 | U10: 18.261952
J11: 2015Q3 | K11: 0.13468013 | L11: 4.831266 | M11: 3.2711919 | N11: -3.0646709 | O11: 5.5797005 | Q11: 2018M3 | R11: 11.496043 | S11: 35.030401 | T11: 12.079284 | U11: 10.549142
J12: 2015Q4 | K12: -1.5809619 | L12: 3.0640442 | M12: -0.69964898 | N12: 4.1264008 | O12: 5.0116896 | Q12: 2018M4 | R12: 8.7885831 | S12: 15.49131 | T12: 4.1450582 | U12: -1.2615738
J13: 2016Q1 | K13: -1.1103634 | L13: 0.96398212 | M13: -1.2867001 | N13: -0.88262996 | O13: 2.2971114 | Q13: 2018M5 | R13: 7.430788 | S13: 13.786462 | T13: 8.8038489 | U13: 0.75882585
J14: 2016Q2 | K14: -1.2166667 | L14: 1.081406 | M14: 1.5079275 | N14: 1.1650964 | O14: 2.8923674 | Q14: 2018M6 | R14: 9.5455364 | S14: 15.488545 | T14: 10.972026 | U14: 0.25179832
J15: 2016Q3 | K15: 1.1432414 | L15: -1.1963962 | M15: 1.4240695 | N15: 1.0251276 | O15: 2.9570488 | Q15: 2018M7 | R15: -9.7318137 | S15: 39.666081 | T15: 14.647631 | U15: 3.9743767
J16: 2016Q4 | K16: 0.79472438 | L16: 3.2661605 | M16: 5.0656353 | N16: 0.37545324 | O16: 3.6704466 | Q16: 2018M8 | R16: -17.374873 | S16: 36.229504 | T16: 14.763371 | U16: -1.3913867
J17: 2017Q1 | K17: 2.6369513 | L17: 4.3550907 | M17: 6.5471697 | N17: 10.607488 | O17: 4.9077426 | Q17: 2018M9 | R17: -18.852338 | S17: -13.165272 | T17: 20.712388 | U17: 7.5946211
J18: 2017Q2 | K18: 2.7163827 | L18: 4.6670106 | M18: 7.1344956 | N18: 8.4038315 | O18: 4.7592667 | Q18: 2018M10 | R18: -22.113354 | S18: -23.679601 | T18: 5.3258034 | U18: 15.051433
J19: 2017Q3 | K19: 2.0611702 | L19: 10.177784 | M19: 7.0717643 | N19: 5.415732 | O19: 5.6909654 | Q19: 2018M11 | R19: -25.310291 | S19: -28.144854 | T19: 1.5407401 | U19: -2.9118398
J20: 2017Q4 | K20: 4.6804227 | L20: 3.450957 | M20: 6.5307396 | N20: 12.099585 | O20: 6.4284208
J21: 2018Q1 | K21: 4.3427814 | L21: 1.871452 | M21: 5.1064982 | N21: 5.69416 | O21: 3.881575
J22: 2018Q2 | K22: 5.7161629 | L22: -0.48813216 | M22: 5.6348966 | N22: 4.6244328 | O22: 3.9839741
J23: 2018Q3 | K23: 3.5179153 | L23: -1.3139951 | M23: 1.5451615 | N23: 7.289497 | O23: 2.8531474
J24: 2018Q4 | K24: 2.2435897 | L24: -0.19997584 | M24: 0.32789004 | N24: -0.97547125 | O24: 1.5251324

Sheet Figure 1.3.
J2: Figure 1.3. Commodity Prices
J3: (Deflated using US consumer price index; index, 2014 = 100)
K7: Food | L7: Metals | M7: Average petroleum spot price
J8: 2014M1 | K8: 100.03249 | L8: 110.39914 | M8: 106.05594
J9: 2014M2 | K9: 102.47561 | L9: 107.32892 | M9: 108.27675
J10: 2014M3 | K10: 108.13157 | L10: 102.1522 | M10: 106.72223
J11: 2014M4 | K11: 110.39044 | L11: 105.38323 | M11: 107.3983
J12: 2014M5 | K12: 105.68564 | L12: 102.35371 | M12: 108.05556
J13: 2014M6 | K13: 103.33351 | L13: 99.82786 | M13: 111.04897
J14: 2014M7 | K14: 101.22958 | L14: 102.67693 | M14: 107.71618
J15: 2014M8 | K15: 96.788723 | L15: 102.04203 | M15: 103.46947
J16: 2014M9 | K16: 94.306001 | L16: 97.104151 | M16: 100.94322
J17: 2014M10 | K17: 93.626846 | L17: 92.633005 | M17: 91.459981
J18: 2014M11 | K18: 92.662063 | L18: 91.288774 | M18: 82.941318
J19: 2014M12 | K19: 91.337527 | L19: 86.810044 | M19: 65.912081
... J69: 2019m2 | K69: 78.024751 | L69: 86.266856 | M69: 65.019283

Sheet Figure 1.4.
J2: Figure 1.4. Global Inflation
J3: (Three-month moving average; annualized percent change, unless noted otherwise)
J5: 1. Advanced Economies | N5: 2. Emerging Market and Developing Economies | R5: 3. Core Consumer Price Inflation | X5: 4. Consumer Price Inflation Expectations
R6: (Three-month moving average; year-over-year percent change) | X6: (Percent)
K8: Consumer price inflation | L8: Core consumer price inflation | O8: Consumer price inflation | P8: Core consumer price inflation | S8: United States | T8: United Kingdom | U8: Euro area | V8: Japan | Y8: AEs | Z8: EMDEs
J9: 2015M1 | K9: -0.99597517 | L9: 1.1578089 | N9: 2015M1 | O9: 3.8799204 | P9: 4.3403269 | R9: 2015M1 | S9: 1.4425505 | T9: 1.2563667 | U9: 0.71537034 | V9: 2.5455796 | X9: 2016M1 | Y9: 1.9771718 | Z9: 3.5020341
J10: 2015M2 | K10: -1.4298448 | L10: 1.0319899 | N10: 2015M2 | O10: 4.4943764 | P10: 5.2403805 | R10: 2015M2 | S10: 1.3979594 | T10: 1.2550882 | U10: 0.70453396 | V10: 2.5790922 | X10: 2016M2 | Y10: 1.928045 | Z10: 3.5354811
J11: 2015M3 | K11: -1.0769331 | L11: 1.0429073 | N11: 2015M3 | O11: 4.9281322 | P11: 5.7346792 | R11: 2015M3 | S11: 1.3612079 | T11: 1.2195122 | U11: 0.68366282 | V11: 2.6116838 | X11: 2016M3 | Y11: 1.8745025 | Z11: 3.535444
J12: 2015M4 | K12: 0.17386009 | L12: 1.1645914 | N12: 2015M4 | O12: 5.1783464 | P12: 5.4300684 | R12: 2015M4 | S12: 1.3539533 | T12: 1.0480054 | U12: 0.6729928 | V12: 2.0136519 | X12: 2016M4 | Y12: 1.8742958 | Z12: 3.5770066
J13: 2015M5 | K13: 1.3507891 | L13: 1.4207158 | N13: 2015M5 | O13: 5.1936281 | P13: 4.8688981 | R13: 2015M5 | S13: 1.3183608 | T13: 0.9790682 | U13: 0.72673441 | V13: 1.4237288 | X13: 2016M5 | Y13: 1.8651692 | Z13: 3.5046351
J14: 2015M6 | K14: 1.8795508 | L14: 1.5453243 | N14: 2015M6 | O14: 4.7281644 | P14: 4.4546039 | R14: 2015M6 | S14: 1.3010798 | T14: 0.87601078 | U14: 0.78372015 | V14: 0.84175084 | X14: 2016M6 | Y14: 1.8039442 | Z14: 3.4692398
J15: 2015M7 | K15: 1.8092763 | L15: 1.4916778 | N15: 2015M7 | O15: 4.4345939 | P15: 4.1954842 | R15: 2015M7 | S15: 1.2666938 | T15: 0.94244362 | U15: 0.86441761 | V15: 0.80726539 | X15: 2016M7 | Y15: 1.7671852 | Z15: 3.5332562
J16: 2015M8 | K16: 1.2800857 | L16: 1.3685566 | N16: 2015M8 | O16: 4.2490742 | P16: 3.8887315 | R16: 2015M8 | S16: 1.2661618 | T16: 0.90725806 | U16: 0.85702763 | V16: 0.84033613 | X16: 2016M8 | Y16: 1.7579626 | Z16: 3.5110663
J17: 2015M9 | K17: 0.61950968 | L17: 1.3042899 | N17: 2015M9 | O17: 4.1144594 | P17: 3.5019452 | R17: 2015M9 | S17: 1.2623715 | T17: 1.0080645 | U17: 0.85645194 | V17: 0.94086022 | X17: 2016M9 | Y17: 1.7002303 | Z17: 3.4631817
J18: 2015M10 | K18: -0.014475095 | L18: 1.2147851 | N18: 2015M10 | O18: 3.7310534 | P18: 3.4510535 | R18: 2015M10 | S18: 1.2639151 | T18: 1.0409671 | U18: 0.90637484 | V18: 1.0077259 | X18: 2016M10 | Y18: 1.7162305 | Z18: 3.4417035
J19: 2015M11 | K19: -0.27242823 | L19: 1.149325 | N19: 2015M11 | O19: 3.2770592 | P19: 3.4823065 | R19: 2015M11 | S19: 1.2564374 | T19: 1.1417058 | U19: 0.9529242 | V19: 1.0745467 | X19: 2016M11 | Y19: 1.7323183 | Z19: 3.420275
J20: 2015M12 | K20: -0.19475138 | L20: 0.99658338 | N20: 2015M12 | O20: 3.3900861 | P20: 3.5751598 | R20: 2015M12 | S20: 1.2447253 | T20: 1.2420275 | U20: 0.97582241 | V20: 1.1077543 | X20: 2016M12 | Y20: 1.7687721 | Z20: 3.5049834
... J46: 2018M2 | K46: 2.4955511 | L46: 1.5273782 | N46: 2018M2 | O46: 3.8799167 | P46: 3.307742 | R46: 2018M2 | S46: 1.6409743 | T46: 2.5105967 | U46: 1.0030255 | V46: 0.39774611 | X46: 2019M2 | Y46: 1.8865258 | Z46: 3.408661
J47: 2018M3 | K47: 2.3283164 | L47: 1.6042813 | N47: 2018M3 | O47: 3.0115122 | P47: 3.1607545 | R47: 2018M3 | S47: 1.7479315 | T47: 2.4072869 | U47: 1.0351287 | V47: 0.46419098
J48: 2018M4 | K48: 1.7230818 | L48: 1.5841248 | N48: 2018M4 | O48: 2.340903 | P48: 3.0772544 | R48: 2018M4 | S48: 1.8354572 | T48: 2.2380798 | U48: 0.98766242 | V48: 0.43103448
J49: 2018M5 | K49: 1.5364045 | L49: 1.5943172 | N49: 2018M5 | O49: 2.2470356 | P49: 3.016227 | R49: 2018M5 | S49: 1.9428068 | T49: 2.1028793 | U49: 1.0130151 | V49: 0.39774611
J50: 2018M6 | K50: 1.6721956 | L50: 1.5279033 | N50: 2018M6 | O50: 2.84097 | P50: 3.2111919 | R50: 2018M6 | S50: 1.9401493 | T50: 2.03357 | U50: 1.0120198 | V50: 0.29811196
J51: 2018M7 | K51: 2.0306351 | L51: 1.5174339 | N51: 2018M7 | O51: 3.4617337 | P51: 3.3009197 | R51: 2018M7 | S51: 1.9897269 | T51: 1.9652062 | U51: 1.0638994 | V51: 0.29801325
J52: 2018M8 | K52: 2.0705711 | L52: 1.362244 | N52: 2018M8 | O52: 4.0468715 | P52: 3.5411444 | R52: 2018M8 | S52: 1.978792 | T52: 1.9607843 | U52: 1.0103322 | V52: 0.2979146
J53: 2018M9 | K53: 2.0298255 | L53: 1.2841335 | N53: 2018M9 | O53: 4.4051301 | P53: 3.8495183 | R53: 2018M9 | S53: 1.9823748 | T53: 1.9249278 | U53: 0.97017607 | V53: 0.36411784
J54: 2018M10 | K54: 1.8461093 | L54: 1.1425282 | N54: 2018M10 | O54: 4.9235225 | P54: 4.3169926 | R54: 2018M10 | S54: 1.9165238 | T54: 1.9538757 | U54: 1.0124763 | V54: 0.36399735
J55: 2018M11 | K55: 1.5445179 | L55: 1.0856623 | N55: 2018M11 | O55: 4.5960907 | P55: 4.3221822 | R55: 2018M11 | S55: 1.909957 | T55: 1.887396 | U55: 1.018576 | V55: 0.33068783
J56: 2018M12 | K56: 1.0073984 | L56: 1.1112568 | N56: 2018M12 | O56: 3.5055258 | P56: 3.984291 | R56: 2018M12 | S56: 1.906664 | T56: 1.884382 | U56: 1.031197 | V56: 0.29742234
J57: 2019M1 | K57: 0.38701052 | L57: 1.2125982 | N57: 2019M1 | O57: 1.8806557 | P57: 3.4013737 | R57: 2019M1 | S57: 1.8888845 | T57: 1.848311 | U57: 0.96799426 | V57: 0.33025099

Sheet Figure 1.5.
J2: Figure 1.5. Advanced Economies: Monetary and Financial Market Conditions
J3: (Percent, unless noted otherwise)
J5: 1. US Policy Rate Expectations | O5: 2. Policy Rate Expectations | W5: 3. Ten-Year Government Bond Yields | AD5: 4. Credit Spreads | AF5: 5. Equity Markets | AL5: 6. Price-to-Earnings Ratios
O6: (Dashed lines are from the October 2018 WEO) | AD6: (Basis points) | AF6: (Index, 2007 = 100)
P7: Apr. 2019 WEO | S7: Oct. 2018 WEO
K8: Mar. 21, 2018 | L8: Sep. 17, 2018 | M8: Mar. 22, 2019 | P8: United States | Q8: Euro area | R8: United Kingdom | S8: United States | T8: Euro area | U8: United Kingdom | X8: Japan | Y8: United States | Z8: United Kingdom | AA8: Germany | AB8: Italy | AD8: Data not available | AG8: Euro Stoxx | AH8: S&P 500 | AI8: MSCI Emerging Market | AJ8: TOPIX | AM8: Germany | AN8: Italy | AO8: Japan | AP8: United States
J9: 2018M3 | K9: 1.43 | O9: 2018M9 | S9: 1.91 | T9: -0.366 | U9: 0.7013 | W9: 42005 | X9: 0.331 | Y9: 2.171 | Z9: 1.755 | AA9: 0.541 | AB9: 1.878 | AF9: 42005 | AI9: 121.89271 | AL9: 42005 | AM9: 16 | AN9: 18.9 | AO9: 16.3 | AP9: 19.8
J10: 2018M4 | K10: 1.5025 | O10: 2018M10 | S10: 1.9525 | T10: -0.3593 | U10: 0.703 | W10: 42006 | X10: 0.331 | Y10: 2.115 | Z10: 1.73 | AA10: 0.499 | AB10: 1.76 | AF10: 42006 | AG10: 76.660133 | AH10: 139.33255 | AI10: 122.21926 | AL10: 42006 | AM10: 15.9 | AN10: 19.1 | AO10: 16.3 | AP10: 19.8
J11: 2018M5 | K11: 1.68 | O11: 2018M11 | S11: 2.165 | T11: -0.3593 | U11: 0.71 | W11: 42009 | X11: 0.324 | Y11: 2.034 | Z11: 1.663 | AA11: 0.513 | AB11: 1.812 | AF11: 42009 | AG11: 74.295414 | AH11: 136.78581 | AI11: 121.48731 | AJ11: 84.188218 | AL11: 42009 | AM11: 15.5 | AN11: 18.3 | AO11: 16.3 | AP11: 19.4
J12: 2018M6 | K12: 1.69 | O12: 2018M12 | S12: 2.165 | T12: -0.359 | U12: 0.708 | W12: 42010 | X12: 0.291 | Y12: 1.939 | Z12: 1.59 | AA12: 0.45 | AB12: 1.836 | AF12: 42010 | AG12: 73.887289 | AH12: 135.56931 | AI12: 121.25697 | AJ12: 81.787716 | AL12: 42010 | AM12: 15.5 | AN12: 18.2 | AO12: 15.8 | AP12: 19.2
J13: 2018M7 | K13: 1.785 | O13: 2019M1 | S13: 2.245 | T13: -0.35 | U13: 0.711 | W13: 42011 | X13: 0.3 | Y13: 1.97 | Z13: 1.615 | AA13: 0.471 | AB13: 1.926 | AF13: 42011 | AG13: 74.21619 | AH13: 137.14596 | AI13: 122.31305 | AJ13: 81.707199 | AL13: 42011 | AM13: 15.7 | AN13: 18.2 | AO13: 15.8 | AP13: 19.5
J14: 2018M8 | K14: 1.875 | O14: 2019M2 | S14: 2.365 | T14: -0.35 | U14: 0.716 | W14: 42012 | X14: 0.289 | Y14: 2.018 | Z14: 1.649 | AA14: 0.511 | AB14: 1.85 | AF14: 42012 | AG14: 76.530494 | AH14: 139.59927 | AI14: 123.98545 | AJ14: 82.780965 | AL14: 42012 | AM14: 16 | AN14: 18.8 | AO14: 16 | AP14: 19.8
J15: 2018M9 | K15: 1.9 | L15: 1.91 | O15: 2019M3 | P15: 2.4 | Q15: -0.369 | R15: 0.7053 | S15: 2.38 | T15: -0.357 | U15: 0.726 | W15: 42013 | X15: 0.282 | Y15: 1.951 | Z15: 1.6 | AA15: 0.484 | AB15: 1.889 | AF15: 42013 | AG15: 74.950813 | AH15: 138.4261 | AI15: 123.83334 | AJ15: 82.95582 | AL15: 42013 | AM15: 15.8 | AN15: 18.3 | AO15: 16 | AP15: 19.7
J16: 2018M10 | K16: 1.905 | L16: 1.9525 | O16: 2019M4 | P16: 2.405 | Q16: -0.3615 | R16: 0.705 | S16: 2.435 | T16: -0.3553 | U16: 0.733 | W16: 42016 | X16: 0.282 | Y16: 1.909 | Z16: 1.574 | AA16: 0.48 | AB16: 1.8 | AF16: 42016 | AG16: 75.757459 | AH16: 137.30572 | AI16: 123.05021 | AL16: 42016 | AM16: 16 | AN16: 18.4 | AO16: 16.1 | AP16: 19.6
J17: 2018M11 | K17: 2.035 | L17: 2.165 | O17: 2019M5 | P17: 2.405 | Q17: -0.3602 | R17: 0.6991 | S17: 2.54 | T17: -0.3528 | U17: 0.742 | W17: 42017 | X17: 0.268 | Y17: 1.906 | Z17: 1.586 | AA17: 0.477 | AB17: 1.794 | AF17: 42017 | AG17: 76.933817 | AH17: 136.95167 | AI17: 123.57022 | AJ17: 82.601904 | AL17: 42017 | AM17: 16 | AN17: 18.8 | AO17: 16 | AP17: 19.6
J18: 2018M12 | K18: 2.065 | L18: 2.165 | O18: 2019M6 | P18: 2.4 | Q18: -0.36 | R18: 0.695 | S18: 2.575 | T18: -0.352 | U18: 0.756 | W18: 42018 | X18: 0.256 | Y18: 1.856 | Z18: 1.517 | AA18: 0.433 | AB18: 1.741 | AF18: 42018 | AG18: 75.954319 | AH18: 136.15556 | AI18: 123.10936 | AJ18: 81.597839 | AL18: 42018 | AM18: 16 | AN18: 18.5 | AO18: 15.8 | AP18: 19.4
J19: 2019M1 | K19: 2.105 | L19: 2.245 | O19: 2019M7 | P19: 2.385 | Q19: -0.359 | R19: 0.69 | S19: 2.62 | T19: -0.3506 | U19: 0.768 | W19: 42019 | X19: 0.255 | Y19: 1.728 | Z19: 1.521 | AA19: 0.417 | AB19: 1.741 | AF19: 42019 | AG19: 77.423566 | AH19: 134.89641 | AI19: 123.90578 | AJ19: 82.716671 | AL19: 42019 | AM19: 16.2 | AN19: 18.9 | AO19: 16 | AP19: 19.3
J20: 2019M2 | K20: 2.17 | L20: 2.365 | O20: 2019M8 | P20: 2.365 | Q20: -0.359 | R20: 0.68473 | S20: 2.695 | T20: -0.349 | U20: 0.781 | W20: 42020 | X20: 0.243 | Y20: 1.831 | Z20: 1.542 | AA20: 0.405 | AB20: 1.663 | AF20: 42020 | AG20: 78.371854 | AH20: 136.70729 | AI20: 123.97087 | AJ20: 81.943343 | AL20: 42020 | AM20: 16.5 | AN20: 19.3 | AO20: 15.9 | AP20: 19.5
J21: 2019M3 | K21: 2.2 | L21: 2.38 | M21: 2.4 | O21: 2019M9 | P21: 2.34 | Q21: -0.358 | R21: 0.68325 | S21: 2.725 | T21: -0.345 | U21: 0.793 | W21: 42023 | X21: 0.209 | Y21: 1.831 | Z21: 1.527 | AA21: 0.389 | AB21: 1.665 | AF21: 42023 | AG21: 78.974438 | AI21: 122.10753 | AJ21: 82.464904 | AL21: 42023 | AM21: 16.6 | AN21: 19.5 | AO21: 16 | AP21: 19.6
J22: 2019M4 | K22: 2.235 | L22: 2.435 | M22: 2.405 | O22: 2019M10 | P22: 2.32 | Q22: -0.3575 | R22: 0.6835 | S22: 2.75 | W22: 42024 | X22: 0.221 | Y22: 1.792 | Z22: 1.527 | AA22: 0.397 | AB22: 1.673 | AF22: 42024 | AG22: 79.483393 | AH22: 136.91918 | AI22: 123.16233 | AJ22: 83.980315 | AL22: 42024 | AM22: 16.6 | AN22: 19.6 | AO22: 16.3 | AP22: 19.6
J23: 2019M5 | K23: 2.305 | L23: 2.54 | M23: 2.405 | O23: 2019M11 | P23: 2.285 | Q23: -0.3572 | R23: 0.6795 | S23: 2.79 | W23: 42025 | X23: 0.253 | Y23: 1.876 | Z23: 1.484 | AA23: 0.466 | AB23: 1.696 | AF23: 42025 | AG23: 80.059568 | AH23: 137.56703 | AI23: 125.71099 | AJ23: 83.5585 | AL23: 42025 | AM23: 16.7 | AN23: 19.9 | AO23: 16.2 | AP23: 19.7
J24: 2019M6 | K24: 2.34 | L24: 2.575 | M24: 2.4 | O24: 2019M12 | P24: 2.26 | Q24: -0.3565 | R24: 0.67825 | S24: 2.8 | T24: -0.3323 | U24: 0.83 | W24: 42026 | X24: 0.324 | Y24: 1.872 | Z24: 1.507 | AA24: 0.403 | AB24: 1.563 | AF24: 42026 | AG24: 81.31515 | AH24: 139.66765 | AI24: 126.68124 | AJ24: 83.487596 | AL24: 42026 | AM24: 16.9 | AN24: 20.3 | AO24: 16.2 | AP24: 20.2
J25: 2019M7 | K25: 2.375 | L25: 2.62 | M25: 2.385 | O25: 2020M1 | P25: 2.23 | Q25: -0.3555 | R25: 0.67779 | S25: 2.825 | W25: 42027 | X25: 0.249 | Y25: 1.789 | Z25: 1.475 | AA25: 0.327 | AB25: 1.521 | AF25: 42027 | AG25: 82.669162 | AH25: 138.90065 | AI25: 127.47585 | AJ25: 84.316205 | AL25: 42027 | AM25: 17.2 | AN25: 20.4 | AO25: 16.3 | AP25: 20.1
J26: 2019M8 | K26: 2.44 | L26: 2.695 | M26: 2.365 | O26: 2020M2 | P26: 2.2 | Q26: -0.3545 | R26: 0.68025 | S26: 2.84 | W26: 42030 | X26: 0.228 | Y26: 1.829 | Z26: 1.496 | AA26: 0.354 | AB26: 1.472 | AF26: 42030 | AG26: 83.490212 | AH26: 139.25741 | AI26: 127.13807 | AJ26: 84.247705 | AL26: 42030 | AM26: 17.5 | AN26: 20.7 | AO26: 16.3 | AP26: 20.3
J27: 2019M9 | K27: 2.455 | L27: 2.725 | M27: 2.34 | O27: 2020M3 | P27: 2.155 | Q27: -0.3532 | R27: 0.679 | S27: 2.84 | T27: -0.3085 | U27: 0.865 | W27: 42031 | X27: 0.271 | Y27: 1.829 | Z27: 1.477 | AA27: 0.343 | AB27: 1.534 | AF27: 42031 | AG27: 82.508313 | AH27: 137.39305 | AI27: 126.84142 | AJ27: 85.707835 | AL27: 42031 | AM27: 17.3 | AN27: 20.6 | AO27: 16.6 | AP27: 20.1
J28: 2019M10 | K28: 2.48 | L28: 2.75 | M28: 2.32 | O28: 2020M4 | P28: 2.14 | S28: 2.845 | W28: 42032 | X28: 0.294 | Y28: 1.719 | Z28: 1.467 | AA28: 0.318 | AB28: 1.606 | AF28: 42032 | AG28: 82.330659 | AH28: 135.53885 | AI28: 126.07037 | AJ28: 85.920545 | AL28: 42032 | AM28: 17.4 | AN28: 20.5 | AO28: 16.6 | AP28: 19.8
J29: 2019M11 | K29: 2.525 | L29: 2.79 | M29: 2.285 | O29: 2020M5 | P29: 2.115 | S29: 2.85 | W29: 42033 | X29: 0.294 | Y29: 1.757 | Z29: 1.413 | AA29: 0.319 | AB29: 1.605 | AF29: 42033 | AG29: 82.587538 | AH29: 136.83117 | AI29: 125.10969 | AJ29: 84.938713 | AL29: 42033 | AM29: 17.4 | AN29: 20.6 | AO29: 16.4 | AP29: 19.9
J30: 2019M12 | K30: 2.435 | L30: 2.8 | M30: 2.26 | O30: 2020M6 | P30: 2.075 | Q30: -0.349 | R30: 0.684 | S30: 2.845 | T30: -0.278 | U30: 0.899 | W30: 42034 | X30: 0.285 | Y30: 1.639 | Z30: 1.361 | AA30: 0.274 | AB30: 1.628 | AF30: 42034 | AG30: 82.16741 | AH30: 135.05347 | AI30: 124.33502 | AJ30: 85.028244 | AL30: 42034 | AM30: 17.3 | AN30: 20.6 | AO30: 16.4 | AP30: 19.8
J31: 2020M1 | K31: 2.57 | L31: 2.825 | M31: 2.23 | O31: 2020M7 | P31: 2.055 | S31: 2.845 | W31: 42037 | X31: 0.288 | Y31: 1.675 | Z31: 1.388 | AA31: 0.314 | AB31: 1.62 | AF31: 42037 | AG31: 82.460299 | AH31: 136.80409 | AI31: 124.35496 | AJ31: 84.64849 | AL31: 42037 | AM31: 17.5 | AN31: 20.6 | AO31: 16.2 | AP31: 20.1
J32: 2020M2 | K32: 2.605 | L32: 2.84 | M32: 2.2 | O32: 2020M8 | P32: 2.025 | S32: 2.84 | W32: 42038 | X32: 0.36 | Y32: 1.799 | Z32: 1.446 | AA32: 0.348 | AB32: 1.593 | AF32: 42038 | AG32: 83.48301 | AH32: 138.77947 | AI32: 125.84102 | AJ32: 83.665456 | AL32: 42038 | AM32: 17.3 | AN32: 21 | AO32: 16 | AP32: 20.5
J33: 2020M3 | K33: 2.595 | L33: 2.84 | M33: 2.155 | O33: 2020M9 | P33: 1.985 | Q33: -0.341 | R33: 0.69084 | S33: 2.835 | T33: -0.2444 | U33: 0.927 | W33: 42039 | X33: 0.379 | Y33: 1.747 | Z33: 1.526 | AA33: 0.366 | AB33: 1.539 | AF33: 42039 | AG33: 83.629455 | AH33: 138.2027 | AI33: 126.07562 | AJ33: 85.144213 | AL33: 42039 | AM33: 17.4 | AN33: 21 | AO33: 16.2 | AP33: 20.5
J34: 2020M4 | K34: 2.615 | L34: 2.845 | M34: 2.14 | O34: 2020M10 | P34: 1.97 | S34: 2.835 | W34: 42040 | X34: 0.363 | Y34: 1.817 | Z34: 1.538 | AA34: 0.368 | AB34: 1.551 | AF34: 42040 | AG34: 83.622253 | AH34: 139.625 | AI34: 126.82333 | AJ34: 84.730209 | AL34: 42040 | AM34: 17.4 | AN34: 20.9 | AO34: 16.1 | AP34: 20.7
J35: 2020M5 | K35: 2.625 | L35: 2.85 | M35: 2.115 | O35: 2020M11 | P35: 1.95 | S35: 2.825 | W35: 42041 | X35: 0.342 | Y35: 1.959 | Z35: 1.643 | AA35: 0.375 | AB35: 1.578 | AF35: 42041 | AG35: 83.410988 | AH35: 139.14774 | AI35: 126.80951 | AJ35: 85.155629 | AL35: 42041 | AM35: 17.3 | AN35: 20.8 | AO35: 16.2 | AP35: 20.6
J36: 2020M6 | K36: 2.62 | L36: 2.845 | M36: 2.075 | O36: 2020M12 | P36: 1.925 | Q36: -0.332 | R36: 0.7 | S36: 2.815 | W36: 42044 | X36: 0.359 | Y36: 1.978 | Z36: 1.598 | AA36: 0.359 | AB36: 1.662 | AF36: 42044 | AG36: 82.241832 | AH36: 138.55675 | AI36: 126.40353 | AJ36: 85.620107 | AL36: 42044 | AM36: 17 | AN36: 20.5 | AO36: 16.3 | AP36: 20.5
J37: 2020M7 | K37: 2.635 | L37: 2.845 | M37: 2.055 | O37: 2021M1 | P37: 1.91 | S37: 2.81 | W37: 42045 | X37: 0.394 | Y37: 2.004 | Z37: 1.654 | AA37: 0.369 | AB37: 1.678 | AF37: 42045 | AG37: 83.130103 | AH37: 140.03591 | AI37: 126.06832 | AJ37: 85.788353 | AL37: 42045 | AM37: 17.2 | AN37: 20.8 | AO37: 16.3 | AP37: 20.5
J38: 2020M8 | K38: 2.65 | L38: 2.84 | M38: 2.025 | O38: 2021M2 | P38: 1.9 | S38: 2.81 | W38: 42046 | X38: 0.394 | Y38: 2.022 | Z38: 1.675 | AA38: 0.358 | AB38: 1.671 | AF38: 42046 | AG38: 82.962052 | AH38: 140.03185 | AI38: 125.84056 | AL38: 42046 | AM38: 17.1 | AN38: 20.8 | AO38: 16.2 | AP38: 20.5
J39: 2020M9 | K39: 2.64 | L39: 2.835 | M39: 1.985 | O39: 2021M3 | P39: 1.89 | Q39: -0.319 | R39: 0.70833 | S39: 2.81 | W39: 42047 | X39: 0.391 | Y39: 1.993 | Z39: 1.66 | AA39: 0.325 | AB39: 1.653 | AF39: 42047 | AG39: 84.102399 | AH39: 141.38239 | AI39: 127.69714 | AJ39: 87.090452 | AL39: 42047 | AM39: 17.5 | AN39: 21.2 | AO39: 16.6 | AP39: 20.7
J40: 2020M10 | K40: 2.65 | L40: 2.835 | M40: 1.97 | O40: 2021M4 | P40: 1.885 | S40: 2.805 | W40: 42048 | X40: 0.418 | Y40: 2.054 | Z40: 1.674 | AA40: 0.343 | AB40: 1.619 | AF40: 42048 | AG40: 84.692978 | AH40: 141.95849 | AI40: 129.23708 | AJ40: 87.089851 | AL40: 42048 | AM40: 17.4 | AN40: 21.3 | AO40: 16.6 | AP40: 20.8
J41: 2020M11 | K41: 2.665 | L41: 2.825 | M41: 1.95 | O41: 2021M5 | P41: 1.875 | S41: 2.8 | W41: 42051 | X41: 0.447 | Y41: 2.054 | Z41: 1.694 | AA41: 0.347 | AB41: 1.636 | AF41: 42051 | AG41: 84.407291 | AI41: 128.98624 | AJ41: 87.693732 | AL41: 42051 | AM41: 17.3 | AN41: 21.3 | AO41: 16.6 | AP41: 20.8
J42: 2020M12 | K42: 2.66 | L42: 2.815 | M42: 1.925 | O42: 2021M6 | P42: 1.875 | S42: 2.8 | W42: 42052 | X42: 0.394 | Y42: 2.154 | Z42: 1.75 | AA42: 0.37 | AB42: 1.646 | AF42: 42052 | AG42: 84.426497 | AH42: 142.18527 | AI42: 129.06023 | AJ42: 87.852364 | AL42: 42052 | AM42: 17.4 | AN42: 21.6 | AO42: 16.7 | AP42: 20.9
...

Sheet Figure 1.6.
J2: Figure 1.6. Emerging Market Economies: Interest Rates and Spreads
J5: 1. Policy Rate | Q5: 2. Ten-Year Government Bond Yield | W5: 3. Change in EMBI Spreads | AC5: 4. Current Account Balance and Change in EMBI Spreads
J6: (Percent) | Q6: (Percent) | W6: (Basis points)
K8: China | L8: Mexico | M8: Brazil | N8: Turkey | O8: Argentina | R8: China | S8: Mexico | T8: Brazil | U8: Turkey | X8: September 2018 over April 2018 | Y8: Latest over September 2018 | AD8: Change in EMBI spread (basis points, Apr. 16, 2018–Mar. 22, 2019) | AE8: Current account 2017 (percent of GDP)
J9: 2015M1 | K9: 5.6 | L9: 3 | M9: 12.25 | N9: 8.07 | O9: 13 | Q9: 42005 | R9: 3.63 | S9: 5.786 | U9: 7.939 | W9: ARG | X9: 260 | Y9: 103 | AC9: CHN | AD9: -4 | AE9: 1.3669608
J10: 2015M2 | K10: 5.6 | L10: 3 | M10: 12.25 | N10: 7.7 | O10: 13 | Q10: 42006 | R10: 3.63 | S10: 5.7775 | T10: 12.2725 | U10: 7.895 | W10: BRA | X10: 90 | Y10: -77 | AC10: IND | AD10: 15 | AE10: -1.8347476
J11: 2015M3 | K11: 5.35 | L11: 3 | M11: 12.75 | N11: 7.5 | O11: 13 | Q11: 42009 | R11: 3.63 | S11: 5.779 | T11: 12.1795 | U11: 7.627 | W11: CHL | X11: 10 | Y11: 0 | AC11: RUS | AD11: -13 | AE11: 2.1078711
J12: 2015M4 | K12: 5.35 | L12: 3 | M12: 13.25 | N12: 7.5 | O12: 13 | Q12: 42010 | R12: 3.63 | S12: 5.72 | T12: 12.158 | U12: 7.5605 | W12: CHN | X12: 6 | Y12: -10 | AC12: IDN | AD12: 22 | AE12: -1.5951952
J13: 2015M5 | K13: 5.17 | L13: 3 | M13: 13.25 | N13: 7.5 | O13: 13 | Q13: 42011 | R13: 3.63 | S13: 5.712 | T13: 12.152 | U13: 7.466 | W13: COL | X13: 1 | Y13: 14 | AC13: BRA | AD13: 13 | AE13: -0.35237376
J14: 2015M6 | K14: 5.08 | L14: 3 | M14: 13.75 | N14: 7.5 | O14: 13 | Q14: 42012 | R14: 3.64 | S14: 5.599 | T14: 12.242 | U14: 7.2585 | W14: EGY | X14: 95 | Y14: -11 | AC14: MEX | AD14: 62 | AE14: -1.6750745
J15: 2015M7 | K15: 4.85 | L15: 3 | M15: 14.25 | N15: 7.5 | O15: 14.086957 | Q15: 42013 | R15: 3.63 | S15: 5.529 | T15: 12.239 | U15: 7.1875 | W15: HUN | X15: 8 | Y15: 14 | AC15: TUR | AD15: 154 | AE15: -5.5602886
J16: 2015M8 | K16: 4.8 | L16: 3 | M16: 14.25 | N16: 7.5 | O16: 18 | Q16: 42016 | R16: 3.62 | S16: 5.569 | T16: 12.1145 | U16: 7.17 | W16: IDN | X16: 24 | Y16: -2 | AC16: EGY | AD16: 84 | AE16: -6.0855405
J17: 2015M9 | K17: 4.6 | L17: 3 | M17: 14.25 | N17: 7.5 | O17: 18 | Q17: 42017 | R17: 3.55 | S17: 5.58 | T17: 12.113 | U17: 7.07 | W17: IND | X17: 28 | Y17: -13 | AC17: POL | AD17: 11 | AE17: 0.11431954
J18: 2015M10 | K18: 4.54 | L18: 3 | M18: 14.25 | N18: 7.5 | O18: 18.545455 | Q18: 42018 | R18: 3.53 | S18: 5.574 | T18: 12.068 | U18: 6.953 | W18: MAR | X18: 4 | Y18: 35 | AC18: MYS | AD18: 12 | AE18: 2.9758509
J19: 2015M11 | K19: 4.35 | L19: 3 | M19: 14.25 | N19: 7.5 | O19: 21 | Q19: 42019 | R19: 3.53 | S19: 5.5155 | T19: 12.064 | U19: 6.976 | W19: MYS | X19: 13 | Y19: -1 | AC19: ARG | AD19: 363 | AE19: -4.91468
J20: 2015M12 | K20: 4.35 | L20: 3.25 | M20: 14.25 | N20: 7.5 | O20: 20.73913 | Q20: 42020 | R20: 3.49 | S20: 5.438 | T20: 11.932 | U20: 7.149 | W20: MEX | X20: 29 | Y20: 33 | AC20: PHL | AD20: -6 | AE20: -0.68960711
J21: 2016M1 | K21: 4.35 | L21: 3.25 | M21: 14.25 | N21: 7.5 | O21: 18 | Q21: 42023 | R21: 3.46 | S21: 5.437 | T21: 11.9055 | U21: 6.9395 | W21: PER | X21: -4 | Y21: 0 | AC21: ZAF | AD21: 73 | AE21: -2.3744095
... J28: 2016M8 | K28: 4.35 | L28: 4.25 | M28: 14.25 | N28: 7.5 | O28: 25.206522 | Q28: 42032 | R28: 3.47 | S28: 5.169 | T28: 11.7035 | U28: 6.8745 | W28: ZAF | X28: 86 | Y28: -13 | AC28: TUN | AD28: 228 | AE28: -10.211531
J29: 2016M9 | K29: 4.35 | L29: 4.75 | M29: 14.25 | N29: 7.5 | O29: 23.113636 | Q29: 42033 | R29: 3.49 | S29: 5.166 | T29: 11.7335 | U29: 7.059
J30: 2016M10 | K30: 4.35 | L30: 4.75 | M30: 14 | N30: 7.5 | O30: 22.5 | Q30: 42034 | R30: 3.49 | S30: 5.2345 | T30: 11.78 | U30: 6.9595
J31: 2016M11 | K31: 4.35 | L31: 5.25 | M31: 14 | N31: 7.55 | O31: 21.909091 | Q31: 42037 | R31: 3.45 | S31: 5.2345 | T31: 11.9525 | U31: 7.047
J32: 2016M12 | K32: 4.35 | L32: 5.75 | M32: 13.75 | N32: 8 | O32: 22.045455 | Q32: 42038 | R32: 3.45 | S32: 5.267 | T32: 12.075 | U32: 7.205
J33: 2017M1 | K33: 4.35 | L33: 5.75 | M33: 13 | N33: 8 | O33: 22.75 | Q33: 42039 | R33: 3.45 | S33: 5.261 | T33: 11.972 | U33: 7.349
J34: 2017M2 | K34: 4.35 | L34: 6.25 | M34: 12.25 | N34: 8 | O34: 22.75 | Q34: 42040 | R34: 3.42 | S34: 5.2585 | T34: 12.109 | U34: 7.3925
J35: 2017M3 | K35: 4.35 | L35: 6.5 | M35: 12.25 | N35: 8 | O35: 22.75 | Q35: 42041 | R35: 3.43 | S35: 5.534 | T35: 12.2905 | U35: 7.474
J36: 2017M4 | K36: 4.35 | L36: 6.5 | M36: 11.25 | N36: 8 | O36: 23.725 | Q36: 42044 | R36: 3.42 | S36: 5.5885 | T36: 12.3705 | U36: 7.474
J37: 2017M5 | K37: 4.35 | L37: 6.75 | M37: 11.25 | N37: 8 | O37: 24.25 | Q37: 42045 | R37: 3.42 | S37: 5.64 | T37: 12.5215 | U37: 7.9465
J38: 2017M6 | K38: 4.35 | L38: 7 | M38: 10.25 | N38: 8 | O38: 24.25 | Q38: 42046 | R38: 3.38 | S38: 5.641 | T38: 12.6035 | U38: 7.742
J39: 2017M7 | K39: 4.35 | L39: 7 | M39: 9.25 | N39: 8 | O39: 24.25 | Q39: 42047 | R39: 3.36 | S39: 5.633 | T39: 12.4345 | U39: 7.549
J40: 2017M8 | K40: 4.35 | L40: 7 | M40: 9.25 | N40: 8 | O40: 24.25 | Q40: 42048 | R40: 3.34 | S40: 5.609 | T40: 12.462 | U40: 7.4815
... J58: 2019M2 | K58: 4.35 | L58: 8.25 | M58: 6.5 | N58: 24 | O58: 37.66 | Q58: 42074 | R58: 3.43 | S58: 5.9905 | T58: 13.0675 | U58: 8.1635
Q59: 42075 | R59: 3.43 | S59: 5.912 | T59: 13.0425 | U59: 8.1545
Q60: 42076 | R60: 3.49 | S60: 5.994 | T60: 13.188 | U60: 8.3555
Q61: 42079 | R61: 3.53 | S61: 5.994 | T61: 13.208 | U61: 8.376
Q62: 42080 | R62: 3.51 | S62: 5.993 | T62: 13.215 | U62: 8.258
Q63: 42081 | R63: 3.54 | S63: 5.873 | T63: 12.927 | U63: 8.145
Q64: 42082 | R64: 3.54 | S64: 5.783 | T64: 12.888 | U64: 7.943
Q65: 42083 | R65: 3.54 | S65: 5.787 | T65: 13.104 | U65: 7.9615
Q66: 42086 | R66: 3.48 | S66: 5.6885 | T66: 12.989 | U66: 7.9095
Q67: 42087 | R67: 3.48 | S67: 5.6855 | T67: 12.9585 | U67: 8.0905
...

Sheet Figure 1.7.
J2: Figure 1.7. Emerging Market Economies: Equity Markets and Credit
J5: 1. Equity Markets | N5: 2. Equity Markets | V5: 3. Real Credit Growth | AB5: 4. Real Credit Growth | AI5: 5. Credit-to-GDP Ratio | AQ5: 6. Credit-to-GDP Ratio
J6: (Index, 2015 = 100) | N6: (Index, 2015 = 100) | V6: (Year-over-year percent change) | AB6: (Year-over-year percent change) | AI6: (Percent) | AQ6: (Percent)
K8: China | L8: Emerging Asia excluding China | O8: Argentina | P8: Brazil | Q8: Mexico | R8: Russia | S8: South Africa | T8: Turkey | W8: BRA | X8: CHN | Y8: IND | Z8: MEX | AC8: MYS | AD8: IDN | AE8: TUR | AF8: COL | AG8: RUS | AJ8: RUS | AK8: BRA | AL8: TUR | AM8: IND | AN8: IDN | AO8: COL | AR8: MYS | AS8: MEX | AT8: CHN
J9: 2015M1 | K9: 96.314421 | L9: 103.42222 | N9: 2015M1 | O9: 90.642074 | P9: 98.671086 | Q9: 96.332119 | R9: 92.517826 | S9: 97.502065 | T9: 110.19591 | V9: 2015M1 | W9: 2.204938 | Y9: 5.0821016 | Z9: 4.3961988 | AB9: 2015M1 | AC9: 8.0490343 | AD9: 5.4076139 | AE9: 8.6824245 | AF9: 12.198378 | AG9: 7.4168818 | AI9: 2006Q1 | AJ9: 27.016704 | AK9: 27.176174 | AL9: 22.468773 | AM9: 39.43205 | AN9: 22.047652 | AO9: 24.125493 | AQ9: 2006Q1 | AR9: 100.83342 | AS9: 15.36019
J10: 2015M2 | K10: 95.469027 | L10: 106.90194 | N10: 2015M2 | O10: 101.82772 | P10: 102.02809 | Q10: 98.525887 | R10: 104.23241 | S10: 102.74638 | T10: 106.30679 | V10: 2015M2 | W10: 1.5463849 | Y10: 4.6069774 | Z10: 5.2912052 | AB10: 2015M2 | AC10: 8.9349895 | AD10: 6.2435649 | AE10: 11.159608 | AF10: 15.138407 | AG10: 2.2504222 | AI10: 2006Q2 | AJ10: 28.446077 | AK10: 28.053357 | AL10: 24.920163 | AM10: 40.308234 | AN10: 21.788029 | AO10: 25.221303 | AQ10: 2006Q2 | AR10: 100.58314 | AS10: 16.093215
J11: 2015M3 | K11: 99.273077 | L11: 107.19875 | N11: 2015M3 | O11: 118.43886 | P11: 101.89727 | Q11: 99.788222 | R11: 99.309735 | S11: 101.78793 | T11: 99.884721 | V11: 2015M3 | W11: 1.547119 | X11: 11.323264 | Y11: 3.8133204 | Z11: 6.4740903 | AB11: 2015M3 | AC11: 8.4575939 | AD11: 5.9941471 | AE11: 13.634549 | AF11: 14.347052 | AG11: -1.0995121 | AI11: 2006Q3 | AJ11: 30.058084 | AK11: 28.494057 | AL11: 24.66665 | AM11: 41.932337 | AN11: 21.609042 | AO11: 26.172007 | AQ11: 2006Q3 | AR11: 99.965203 | AS11: 16.627606
J12: 2015M4 | K12: 118.93678 | L12: 106.75531 | N12: 2015M4 | O12: 118.30599 | P12: 109.42421 | Q12: 102.72756 | R12: 103.21944 | S12: 106.87345 | T12: 102.42776 | V12: 2015M4 | W12: 0.93350155 | Y12: 4.5047857 | Z12: 6.7343937 | AB12: 2015M4 | AC12: 7.0053185 | AD12: 4.6377588 | AE12: 16.082141 | AF12: 12.193434 | AG12: -3.0112081 | AI12: 2006Q4 | AJ12: 32.233829 | AK12: 29.655277 | AL12: 25.01179 | AM12: 42.403571 | AN12: 21.957984 | AO12: 27.248348 | AQ12: 2006Q4 | AR12: 100.27077 | AS12: 17.599223 | AT12: 120.85992
J13: 2015M5 | K13: 124.21831 | L13: 103.0583 | N13: 2015M5 | O13: 112.50799 | P13: 111.84643 | Q13: 102.30145 | R13: 103.60033 | S13: 104.16919 | T13: 104.75516 | V13: 2015M5 | W13: 0.08662253 | Y13: 4.309109 | Z13: 5.2545219 | AB13: 2015M5 | AC13: 6.9310424 | AD13: 4.9619372 | AE13: 16.164683 | AF13: 12.999162 | AG13: -2.9490864 | AI13: 2007Q1 | AJ13: 33.727327 | AK13: 29.705692 | AL13: 25.015396 | AM13: 43.545016 | AN13: 21.373138 | AO13: 27.681193 | AQ13: 2007Q1 | AR13: 99.792227 | AS13: 17.807837 | AT13: 122.10556
J14: 2015M6 | K14: 124.08906 | L14: 100.15572 | N14: 2015M6 | O14: 105.08521 | P14: 107.15237 | Q14: 102.0826 | R14: 100.46501 | S14: 100.23555 | T14: 100.56971 | V14: 2015M6 | W14: -0.77131463 | X14: 10.944071 | Y14: 3.4235291 | Z14: 6.5498159 | AB14: 2015M6 | AC14: 6.1653122 | AD14: 4.4638482 | AE14: 10.006537 | AF14: 12.786191 | AG14: -1.792436 | AI14: 2007Q2 | AJ14: 35.970362 | AK14: 30.317973 | AL14: 26.007087 | AM14: 43.027908 | AN14: 21.848724 | AO14: 29.197807 | AQ14: 2007Q2 | AR14: 100.4749 | AS14: 18.446048 | AT14: 123.00932
J15: 2015M7 | K15: 103.73622 | L15: 100.57847 | N15: 2015M7 | O15: 96.965867 | P15: 103.88906 | Q15: 102.09229 | R15: 98.430015 | S15: 101.21881 | T15: 99.689171 | V15: 2015M7 | W15: -1.2228187 | Y15: 5.2838353 | Z15: 6.7666668 | AB15: 2015M7 | AC15: 5.6924207 | AD15: 3.7975116 | AE15: 11.47552 | AF15: 13.700577 | AG15: -1.7857705 | AI15: 2007Q3 | AJ15: 37.964188 | AK15: 31.661577 | AL15: 27.0079 | AM15: 44.136214 | AN15: 22.262633 | AO15: 30.38876 | AQ15: 2007Q3 | AR15: 103.31721 | AS15: 19.236777 | AT15: 122.64629
J16: 2015M8 | K16: 92.431458 | L16: 96.909616 | N16: 2015M8 | O16: 92.125791 | P16: 95.947545 | Q16: 99.68222 | R16: 98.941984 | S16: 97.638837 | T16: 94.42013 | V16: 2015M8 | W16: -1.5316183 | Y16: 5.3744053 | Z16: 7.949639 | AB16: 2015M8 | AC16: 6.6350683 | AD16: 5.1690671 | AE16: 12.59734 | AF16: 14.122276 | AG16: -0.21380396 | AI16: 2007Q4 | AJ16: 39.027759 | AK16: 33.739432 | AL16: 28.284982 | AM16: 44.838291 | AN16: 23.146758 | AO16: 31.713499 | AQ16: 2007Q4 | AR16: 98.318602 | AS16: 19.186307 | AT16: 119.3626
J17: 2015M9 | K17: 81.715544 | L17: 92.260853 | N17: 2015M9 | O17: 84.163405 | P17: 92.546251 | Q17: 97.849998 | R17: 98.059332 | S17: 94.975346 | T17: 91.590979 | V17: 2015M9 | W17: -1.9888154 | X17: 12.35229 | Y17: 4.854847 | Z17: 11.011532 | AB17: 2015M9 | AC17: 6.600927 | AD17: 5.0981884 | AE17: 16.358199 | AF17: 13.963947 | AG17: -1.7103456 | AI17: 2008Q1 | AJ17: 39.880562 | AK17: 34.743573 | AL17: 30.070737 | AM17: 46.115089 | AN17: 23.092103 | AO17: 32.074387 | AQ17: 2008Q1 | AR17: 95.750314 | AS17: 18.523094 | AT17: 121.40766
J18: 2015M10 | K18: 87.341468 | L18: 96.022579 | N18: 2015M10 | O18: 85.654969 | P18: 94.556693 | Q18: 100.36376 | R18: 99.660653 | S18: 100.28771 | T18: 98.234147 | V18: 2015M10 | W18: -3.2853838 | Y18: 3.8879907 | Z18: 11.081285 | AB18: 2015M10 | AC18: 6.4770711 | AD18: 3.9450347 | AE18: 15.805977 | AF18: 16.027173 | AG18: -3.6902857 | AI18: 2008Q2 | AJ18: 40.806933 | AK18: 36.130321 | AL18: 31.02065 | AM18: 46.806406 | AN18: 23.919781 | AO18: 32.758122 | AQ18: 2008Q2 | AR18: 94.391588 | AS18: 18.724752 | AT18: 121.99972
J19: 2015M11 | K19: 90.196307 | L19: 93.877132 | N19: 2015M11 | O19: 102.85471 | P19: 93.586794 | Q19: 100.81404 | R19: 103.09461 | S19: 99.528687 | T19: 100.38722 | V19: 2015M11 | W19: -4.3518955 | Y19: 3.8524993 | Z19: 11.583138 | AB19: 2015M11 | AC19: 6.1338002 | AD19: 3.9790869 | AE19: 13.290662 | AF19: 12.765307 | AG19: -5.1621499 | AI19: 2008Q3 | AJ19: 41.272677 | AK19: 37.451551 | AL19: 31.793255 | AM19: 47.219283 | AN19: 24.242764 | AO19: 32.471589 | AQ19: 2008Q3 | AR19: 93.750954 | AS19: 18.079745 | AT19: 121.87539
J20: 2015M12 | K20: 86.278321 | L20: 92.859123 | N20: 2015M12 | O20: 91.427434 | P20: 88.454199 | Q20: 97.439856 | R20: 98.468652 | S20: 93.036033 | T20: 91.538295 | V20: 2015M12 | W20: -5.4147414 | X20: 13.122998 | Y20: 4.8571268 | Z20: 13.218496 | AB20: 2015M12 | AC20: 5.7719258 | AD20: 6.0265745 | AE20: 10.363052 | AF20: 10.420753 | AG20: -4.9982135 | AI20: 2008Q4 | AJ20: 42.720345 | AK20: 38.612583 | AL20: 31.154134 | AM20: 48.064175 | AN20: 24.050231 | AO20: 32.296941 | AQ20: 2008Q4 | AR20: 93.540725 | AS20: 18.217934 | AT20: 119.18177
J21: 2016M1 | K21: 72.273248 | L21: 90.78084 | N21: 2016M1 | O21: 88.709538 | P21: 78.327668 | Q21: 93.808077 | R21: 94.390752 | S21: 88.239951 | T21: 88.361065 | V21: 2016M1 | W21: -5.8708226 | Y21: 5.097232 | Z21: 17.778856 | AB21: 2016M1 | AC21: 4.032336 | AD21: 4.9664488 | AE21: 8.908666 | AF21: 5.8798712 | AG21: -4.8783335 | AI21: 2009Q1 | AJ21: 44.769593 | AK21: 38.525808 | AL21: 31.309179 | AM21: 48.130022 | AN21: 23.022217 | AO21: 32.555829 | AQ21: 2009Q1 | AR21: 96.618922 | AS21: 18.338028 | AT21: 131.80709
J22: 2016M2 | K22: 68.914337 | L22: 91.035975 | N22: 2016M2 | O22: 97.715445 | P22: 81.081473 | Q22: 97.748751 | R22: 98.333232 | S22: 91.40916 | T22: 91.135653 | V22: 2016M2 | W22: -6.4566222 | Y22: 5.6764178 | Z22: 17.119459 | AB22: 2016M2 | AC22: 3.522378 | AD22: 4.2450136 | AE22: 8.0290712 | AF22: 3.0773065 | AG22: -0.90231601 | AI22: 2009Q2 | AJ22: 45.281272 | AK22: 39.165018 | AL22: 32.381653 | AM22: 48.78528 | AN22: 22.732857 | AO22: 32.09101 | AQ22: 2009Q2 | AR22: 101.06886 | AS22: 18.396757 | AT22: 142.32848
J23: 2016M3 | K23: 73.814636 | L23: 94.963397 | N23: 2016M3 | O23: 102.25726 | P23: 96.202012 | Q23: 102.69198 | R23: 105.99504 | S23: 98.956268 | T23: 99.770056 | V23: 2016M3 | W23: -6.9574041 | X23: 15.510274 | Y23: 5.7977565 | Z23: 15.250199 | AB23: 2016M3 | AC23: 4.2845608 | AD23: 3.6525459 | AE23: 6.8135261 | AF23: 2.0006427 | AG23: 0.023105836 | AI23: 2009Q3 | AJ23: 46.842259 | AK23: 40.084596 | AL23: 33.450896 | AM23: 49.424966 | AN23: 22.802242 | AO23: 31.851626 | AQ23: 2009Q3 | AR23: 106.49237 | AS23: 18.480225 | AT23: 147.29459
J24: 2016M4 | K24: 77.079732 | L24: 96.063507 | N24: 2016M4 | O24: 102.12263 | P24: 101.191 | Q24: 103.46463 | R24: 109.20368 | S24: 100.64107 | T24: 105.09682 | V24: 2016M4 | W24: -7.4774762 | Y24: 4.1704496 | Z24: 15.646832 | AB24: 2016M4 | AC24: 4.6617942 | AD24: 3.776543 | AE24: 5.3504281 | AF24: 2.6904446 | AG24: 0.98403052 | AI24: 2009Q4 | AJ24: 46.542981 | AK24: 40.700802 | AL24: 34.859268 | AM24: 48.787008 | AN24: 23.2223 | AO24: 31.107971 | AQ24: 2009Q4 | AR24: 107.97462 | AS24: 18.044368 | AT24: 147.32679
J25: 2016M5 | K25: 72.786829 | L25: 95.321132 | N25: 2016M5 | O25: 103.16465 | P25: 98.930633 | Q25: 102.98978 | R25: 108.25204 | S25: 98.633412 | T25: 97.394318 | V25: 2016M5 | W25: -7.8647205 | Y25: 3.6772505 | Z25: 16.38713 | AB25: 2016M5 | AC25: 4.4218242 | AD25: 3.8150284 | AE25: 6.8543344 | AF25: 2.3459735 | AG25: -0.89655547 | AI25: 2010Q1 | AJ25: 44.477951 | AK25: 40.193846 | AL25: 36.29081 | AM25: 49.322391 | AN25: 22.247068 | AO25: 30.801033 | AQ25: 2010Q1 | AR25: 106.40081 | AS25: 17.802781 | AT25: 153.7119
J26: 2016M6 | K26: 72.82961 | L26: 97.864349 | N26: 2016M6 | O26: 107.41113 | P26: 97.294704 | Q26: 102.62083 | R26: 106.42629 | S26: 100.89678 | T26: 95.866379 | V26: 2016M6 | W26: -8.4574786 | X26: 16.648354 | Y26: 3.3656311 | Z26: 17.488209 | AB26: 2016M6 | AC26: 4.433669 | AD26: 3.3065789 | AE26: 4.6367607 | AF26: 2.6987516 | AG26: -1.7275351 | AI26: 2010Q2 | AJ26: 44.438758 | AK26: 40.640057 | AL26: 38.937679 | AM26: 49.42863 | AN26: 23.251109 | AO26: 30.809284 | AQ26: 2010Q2 | AR26: 106.04809 | AS26: 17.709971 | AT26: 156.83704
J27: 2016M7 | K27: 74.080298 | L27: 102.27012 | N27: 2016M7 | O27: 108.1641 | P27: 106.62943 | Q27: 105.20956 | R27: 108.02736 | S27: 103.19642 | T27: 96.366985 | V27: 2016M7 | W27: -9.0366305 | Y27: 3.1826691 | Z27: 17.856574 | AB27: 2016M7 | AC27: 4.6226254 | AD27: 4.6032711 | AE27: 1.9110186 | AF27: 2.1563419 | AG27: -2.3377073 | AI27: 2010Q3 | AJ27: 44.575814 | AK27: 41.284501 | AL27: 39.516398 | AM27: 48.917489 | AN27: 23.60628 | AO27: 31.615483 | AQ27: 2010Q3 | AR27: 105.79085 | AS27: 17.838717 | AT27: 157.92355
J28: 2016M8 | K28: 77.643401 | L28: 105.39459 | N28: 2016M8 | O28: 104.78475 | P28: 111.9178 | Q28: 107.58464 | R28: 110.06937 | S28: 104.77391 | T28: 96.026276 | V28: 2016M8 | W28: -9.7507716 | Y28: 4.0505722 | Z28: 17.095303 | AB28: 2016M8 | AC28: 3.3165139 | AD28: 2.997776 | AE28: 0.86263545 | AF28: -2.4593522 | AG28: -5.1861793 | AI28: 2010Q4 | AJ28: 44.189261 | AK28: 42.175868 | AL28: 42.005669 | AM28: 51.087866 | AN28: 24.36066 | AO28: 32.879905 | AQ28: 2010Q4 | AR28: 107.04383 | AS28: 18.328864 | AT28: 158.19338
J29: 2016M9 | K29: 79.113969 | L29: 104.77196 | N29: 2016M9 | O29: 105.23848 | P29: 112.71483 | Q29: 105.93814 | R29: 112.3228 | S29: 102.29433 | T29: 96.172049 | V29: 2016M9 | W29: -10.067689 | X29: 16.909121 | Y29: 7.8697203 | Z29: 14.649878 | AB29: 2016M9 | AC29: 3.6386399 | AD29: 2.6717435 | AE29: 0.89517888 | AF29: 0.34819711 | AG29: -5.3556469 | AI29: 2011Q1 | AJ29: 43.163662 | AK29: 41.978146 | AL29: 43.447798 | AM29: 49.962566 | AN29: 24.162342 | AO29: 33.569085 | AQ29: 2011Q1 | AR29: 107.27658 | AS29: 18.50484 | AT29: 161.12665
J30: 2016M10 | K30: 78.398222 | L30: 104.51015 | N30: 2016M10 | O30: 111.31687 | P30: 119.57827 | Q30: 107.82005 | R30: 111.76799 | S30: 98.621721 | T30: 96.654933 | V30: 2016M10 | W30: -9.753924 | Y30: 4.4273062 | Z30: 14.352167 | AB30: 2016M10 | AC30: 3.6174426 | AD30: 2.936647 | AE30: 3.8089548 | AF30: -2.142209 | AG30: -4.7532277 | AI30: 2011Q2 | AJ30: 43.413555 | AK30: 42.481731 | AL30: 46.013725 | AM30: 49.740246 | AN30: 25.302747 | AO30: 34.362959 | AQ30: 2011Q2 | AR30: 107.77158 | AS30: 18.722285 | AT30: 161.86353
J31: 2016M11 | K31: 75.758265 | L31: 98.743793 | N31: 2016M11 | O31: 101.99623 | P31: 117.53491 | Q31: 103.2596 | R31: 114.32783 | S31: 94.955786 | T31: 92.887622 | V31: 2016M11 | W31: -9.1200713 | Y31: 2.7987275 | Z31: 16.109289 | AB31: 2016M11 | AC31: 3.6795794 | AD31: 4.1018752 | AE31: 8.2904579 | AF31: 1.2093907 | AG31: -4.5222517 | AI31: 2011Q3 | AJ31: 45.341175 | AK31: 43.45245 | AL31: 47.284075 | AM31: 49.662344 | AN31: 26.057893 | AO31: 34.831194 | AQ31: 2011Q3 | AR31: 107.52139 | AS31: 19.046181 | AT31: 159.25
J32: 2016M12 | K32: 72.889964 | L32: 97.449823 | N32: 2016M12 | O32: 94.397872 | P32: 112.0285 | Q32: 103.09074 | R32: 124.95103 | S32: 93.374553 | T32: 94.055814 | V32: 2016M12 | W32: -8.9730058 | X32: 17.353984 | Y32: 1.4141452 | Z32: 13.842285 | AB32: 2016M12 | AC32: 3.3171222 | AD32: 4.5471211 | AE32: 7.3594561 | AF32: 3.1616784 | AG32: -7.2867217 | AI32: 2011Q4 | AJ32: 46.346313 | AK32: 44.607849 | AL32: 46.630979 | AM32: 50.731201 | AN32: 26.883378 | AO32: 35.376355 | AQ32: 2011Q4 | AR32: 108.35654 | AS32: 19.407393 | AT32: 157.68373
J33: 2017M1 | K33: 74.683259 | L33: 100.56265 | N33: 2017M1 | O33: 109.10946 | P33: 119.76906 | Q33: 105.69155 | R33: 125.7397 | S33: 97.56824 | T33: 99.216495 | V33: 2017M1 | W33: -8.1918668 | Y33: 1.5439159 | Z33: 6.9691952 | AB33: 2017M1 | AC33: 2.3069814 | AD33: 4.0899804 | AE33: 10.112475 | AF33: 4.0913031 | AG33: -7.7639113 | AI33: 2012Q1 | AJ33: 45.54688 | AK33: 44.412069 | AL33: 46.597903 | AM33: 51.068279 | AN33: 27.03065 | AO33: 35.646456 | AQ33: 2012Q1 | AR33: 108.74341 | AS33: 19.05997 | AT33: 160.95313
J34: 2017M2 | K34: 77.826895 | L34: 103.42903 | N34: 2017M2 | O34: 119.26503 | P34: 124.74235 | Q34: 106.91094 | R34: 121.526 | S34: 97.039739 | T34: 108.60977 | V34: 2017M2 | W34: -7.1057483 | Y34: 0.81445837 | Z34: 7.31172 | AB34: 2017M2 | AC34: 0.66228539 | AD34: 3.5400785 | AE34: 6.9803381 | AF34: 2.3907803 | AG34: -8.2381358 | AI34: 2012Q2 | AJ34: 47.299739 | AK34: 45.444109 | AL34: 47.799008 | AM34: 51.741327 | AN34: 28.351765 | AO34: 36.209875 | AQ34: 2012Q2 | AR34: 110.6149 | AS34: 19.442778 | AT34: 164.5237
J35: 2017m3 | K35: 78.876393 | L35: 105.52525 | N35: 2017m3 | O35: 123.07537 | P35: 121.66685 | Q35: 108.656 | R35: 114.88354 | S35: 97.923173 | T35: 110.70874 | V35: 2017m3 | W35: -6.3213399 | X35: 16.072728 | Y35: 4.9222855 | Z35: 7.3970245 | AB35: 2017m3 | AC35: 1.2663802 | AD35: 4.1035644 | AE35: 8.3115683 | AF35: 6.9095314 | AG35: -6.2930841 | AI35: 2012Q3 | AJ35: 48.187706 | AK35: 45.453071 | AL35: 48.136583 | AM35: 50.631109 | AN35: 29.088276 | AO35: 37.081081 | AQ35: 2012Q3 | AR35: 112.3619 | AS35: 19.494472 | AT35: 168.50399
J36: 2017m4 | K36: 79.942559 | L36: 107.89866 | N36: 2017m4 | O36: 132.91817 | P36: 120.39568 | Q36: 110.5501 | R36: 112.54569 | S36: 99.937503 | T36: 112.58507 | V36: 2017m4 | W36: -5.3642565 | Y36: 2.5296413 | Z36: 7.3568741 | AB36: 2017m4 | AC36: 1.6058754 | AD36: 2.9045444 | AE36: 9.1254032 | AF36: 7.6774055 | AG36: -4.0880735 | AI36: 2012Q4 | AJ36: 49.014341 | AK36: 46.713775 | AL36: 49.194523 | AM36: 51.179778 | AN36: 29.893244 | AO36: 38.004182 | AQ36: 2012Q4 | AR36: 114.06709 | AS36: 19.939268 | AT36: 170.08128
J37: 2017m5 | K37: 80.92069 | L37: 109.57767 | N37: 2017m5 | O37: 136.45089 | P37: 121.63465 | Q37: 110.7785 | R37: 111.80854 | S37: 103.29482 | T37: 117.915 | V37: 2017m5 | W37: -5.0087045 | Y37: 3.2740338 | Z37: 5.6043646 | AB37: 2017m5 | AC37: 1.8594886 | AD37: 3.9140371 | AE37: 8.5319248 | AF37: 6.9207676 | AG37: -2.3443033 | AI37: 2013Q1 | AJ37: 49.652447 | AK37: 46.808167 | AL37: 50.212554 | AM37: 51.20032 | AN37: 29.726081 | AO37: 39.112134 | AQ37: 2013Q1 | AR37: 116.13833 | AS37: 19.9966 | AT37: 177.1234
J38: 2017m6 | K38: 85.36603 | L38: 110.95511 | N38: 2017m6 | O38: 137.24697 | P38: 116.01887 | Q38: 110.26927 | R38: 104.54954 | S38: 98.625093 | T38: 122.09707 | V38: 2017m6 | W38: -3.411547 | X38: 14.211048 | Y38: 4.7800692 | Z38: 4.7058681 | AB38: 2017m6 | AC38: 2.5094861 | AD38: 3.4001334 | AE38: 9.8832664 | AF38: 6.4073928 | AG38: -1.4469528 | AI38: 2013Q2 | AJ38: 51.374812 | AK38: 47.324875 | AL38: 53.768837 | AM38: 51.873031 | AN38: 31.094564 | AO38: 39.342426 | AQ38: 2013Q2 | AR38: 118.21712 | AS38: 20.473803 | AT38: 180.24111
J39: 2017m7 | K39: 88.92935 | L39: 113.09192 | N39: 2017m7 | O39: 132.11425 | P39: 120.42126 | Q39: 114.0876 | R39: 108.10833 | S39: 101.60822 | T39: 128.49498 | V39: 2017m7 | W39: -3.2294743 | Y39: 4.1576312 | Z39: 4.5487143 | AB39: 2017m7 | AC39: 2.6997954 | AD39: 2.7914321 | AE39: 11.561182 | AF39: 6.4438377 | AG39: -0.81463823 | AI39: 2013Q3 | AJ39: 52.978179 | AK39: 47.391956 | AL39: 55.84867 | AM39: 52.930318 | AN39: 32.121142 | AO39: 39.813148 | AQ39: 2013Q3 | AR39: 119.11917 | AS39: 21.142409 | AT39: 182.53231
J40: 2017m8 | K40: 94.486691 | L40: 113.55974 | N40: 2017m8 | O40: 134.27045 | P40: 127.89048 | Q40: 115.25792 | R40: 110.35092 | S40: 106.41374 | T40: 132.62456 | V40: 2017m8 | W40: -2.8015078 | Y40: 3.3647572 | Z40: 4.5242248 | AB40: 2017m8 | AC40: 2.0207325 | AD40: 3.0617153 | AE40: 10.978639 | AF40: 10.460489 | AG40: 0.2660481 | AI40: 2013Q4 | AJ40: 53.674185 | AK40: 48.052853 | AL40: 57.260691 | AM40: 51.780413 | AN40: 32.380028 | AO40: 39.819752 | AQ40: 2013Q4 | AR40: 119.87883 | AS40: 22.190561 | AT40: 181.60162
J41: 2017M9 | K41: 103.6573 | L41: 114.74865 | N41: 2017M9 | O41: 144.42451 | P41: 137.45585 | Q41: 113.45962 | R41: 115.83492 | S41: 105.15702 | T41: 129.79818 | V41: 2017M9 | W41: -2.5909455 | X41: 13.886788 | Y41: 3.6686923 | Z41: 4.4112854 | AB41: 2017M9 | AC41: 1.2121709 | AD41: 3.6721844 | AE41: 11.086684 | AF41: 7.4730681 | AG41: 1.5778326 | AI41: 2014Q1 | AJ41: 54.666574 | AK41: 47.122264 | AL41: 57.099567 | AM41: 51.76008 | AN41: 31.61792 | AO41: 40.177912 | AQ41: 2014Q1 | AR41: 119.49548 | AS41: 21.740456 | AT41: 186.93764
J42: 2017M10 | K42: 110.619 | L42: 116.5023 | N42: 2017M10 | O42: 161.60298 | P42: 140.70125 | Q42: 112.81278 | R42: 118.04372 | S42: 108.93874 | T42: 128.51277 | V42: 2017M10 | W42: -2.178857 | Y42: 3.7090516 | Z42: 5.8877694 | AB42: 2017M10 | AC42: 1.7636675 | AD42: 3.6722966 | AE42: 11.206968 | AF42: 8.344912 | AG42: 2.1626906 | AI42: 2014Q2 | AJ42: 55.015559 | AK42: 47.453952 | AL42: 61.054435 | AM42: 51.692593 | AN42: 32.205454 | AO42: 41.044694 | AQ42: 2014Q2 | AR42: 119.12499 | AS42: 21.790228 | AT42: 190.73255
J43: 2017M11 | K43: 114.14698 | L43: 118.20208 | N43: 2017M11 | O43: 156.18963 | P43: 135.46314 | Q43: 108.75706 | R43: 122.15936 | S43: 114.96659 | T43: 130.88471 | V43: 2017M11 | W43: -2.1840032 | Y43: 4.5295672 | Z43: 4.3977895 | AB43: 2017M11 | AC43: 1.5065094 | AD43: 3.4812425 | AE43: 8.7418658 | AF43: 5.4501882 | AG43: 2.4013735 | AI43: 2014Q3 | AJ43: 56.473651 | AK43: 47.530215 | AL43: 59.360921 | AM43: 50.82215 | AN43: 32.293874 | AO43: 41.625166 | AQ43: 2014Q3 | AR43: 119.06162 | AS43: 21.831588 | AT43: 190.34843
J44: 2017M12 | K44: 111.52816 | L44: 119.35156 | N44: 2017M12 | O44: 166.24518 | P44: 135.96002 | Q44: 108.50677 | R44: 122.19978 | S44: 112.10533 | T44: 132.12912 | V44: 2017M12 | W44: -1.6754024 | X44: 12.450048 | Y44: 5.4476494 | Z44: 5.8757035 | AB44: 2017M12 | AC44: 1.9914215 | AD44: 3.5002438 | AE44: 7.6688251 | AF44: 7.5567708 | AG44: 3.0517553 | AI44: 2014Q4 | AJ44: 55.496088 | AK44: 48.634227 | AL44: 60.025454 | AM44: 51.010395 | AN44: 32.943013 | AO44: 42.442106 | AQ44: 2014Q4 | AR44: 120.5811 | AS44: 21.928753 | AT44: 191.88378
...

Sheet Figure 1.8.
J2: Figure 1.8. Real Effective Exchange Rate Changes, September 2018–March 2019
J3: (Percent)
J5: 1. Advanced Economies | N5: 2. Emerging Market Economies
K7: December 2018 over September 2018 | L7: Latest over December 2018 | O7: December 2018 over September 2018 | P7: Latest over December 2018
J8: USA | K8: 1.6096748 | L8: -1.2725236 | N8: ZAF | O8: 5.8244313 | P8: -2.1923358
J9: EA | K9: -1.967638 | L9: -1.4216612 | N9: CHN | O9: 0.35733255 | P9: 1.7144882
J10: JPN | K10: -0.24924196 | L10: 1.8290419 | N10: IND | O10: 5.4891717 | P10: 3.2854673
J11: GBR | K11: -1.5107302 | L11: 4.3351852 | N11: IDN | O11: 4.0080248 | P11: 1.5779045
J12: SWE | K12: 0.57542128 | L12: -2.8092516 | N12: MYS | O12: -0.2216217 | P12: 1.2604189
J13: CHE | K13: -1.1751241 | L13: -0.29725332 | N13: PHL | O13: 2.348857 | P13: 0.3490212
J14: KOR | K14: -0.26704769 | L14: -2.1896493 | N14: THA | O14: -0.33429005 | P14: 2.5584907
J15: TWN | K15: -0.28241146 | L15: -0.99753998 | N15: HUN | O15: -0.71940901 | P15: 1.7750031
J16: SGP | K16: 0.40198837 | L16: 0.068203285 | N16: POL | O16: -1.2135228 | P16: -0.91865896
J17: CAN | K17: -1.9494245 | L17: -0.34958069 | N17: RUS | O17: 2.6267798 | P17: 5.4204641
J18: NOR | K18: -2.3216486 | L18: 0.67571448 | N18: TUR | O18: 21.464344 | P18: -9.4425722
J19: AUS | K19: 0.68095205 | L19: -1.8494176 | N19: ARG | O19: 13.072906 | P19: -3.9995856
J20: NZL | K20: 4.5932413 | L20: 0.72855938 | N20: BRA | O20: 6.344736 | P20: -0.41007311
N21: CHL | O21: 0.4748151 | P21: -0.21518661
N22: COL | O22: -4.0831077 | P22: 1.9390852
N23: MEX | O23: -4.3462836 | P23: 5.4201019
N24: PER | O24: -0.92183905 | P24: 1.411057
N25: PAK | O25: -7.6716983 | P25: 0.034698232

Sheet Figure 1.9.
J2: Figure 1.9. Emerging Market Economies: Capital Flows
J5: 1. Net Flows in Emerging Market Funds | P5: 2. Capital Inflows | X5: 3. Capital Outflows Excluding Change in Reserves | AF5: 4. Change in Reserves
J6: (Billions of U.S. dollars) | P6: (Percent of GDP) | X6: (Percent of GDP) | AF6: (Percent of GDP)
K8: Bond | L8: Equity | M8: EM-VXY | Q8: Emerging Europe | R8: China | S8: Saudi Arabia | T8: Emerging Asia excluding China | U8: Latin America | V8: Total | Y8: Emerging Europe | Z8: China | AA8: Saudi Arabia | AB8: Emerging Asia excluding China | AC8: Latin America | AD8: Total | AG8: Emerging Europe | AH8: China | AI8: Saudi Arabia | AJ8: Emerging Asia excluding China | AK8: Latin America | AL8: Total
J9: 2010M1 | K9: 1.9037561 | L9: 4.0213841 | M9: 12.29 | P9: 2007Q1 | Q9: 3.3340146 | R9: 1.8821922 | S9: 0.20637025 | T9: 1.3501716 | U9: 2.1439451 | V9: 8.9166938 | X9: 2007Q1 | Y9: 1.4441731 | Z9: -0.036014257 | AA9: 0.22282558 | AB9: 0.41818238 | AC9: 1.1225286 | AD9: 3.1716954 | AF9: 2007Q1 | AG9: 1.7366901 | AH9: 5.5969889 | AI9: 0.49682562 | AJ9: 1.3238131 | AK9: 0.90491072 | AL9: 10.059228
J10: 2010M2 | K10: 2.0953037 | L10: -2.74475 | M10: 12.51 | P10: 2007Q2 | Q10: 3.8434379 | R10: 2.2130554 | S10: 0.20924029 | T10: 1.7331856 | U10: 2.6862902 | V10: 10.685209 | X10: 2007Q2 | Y10: 1.515417 | Z10: 0.2126596 | AA10: 0.40244825 | AB10: 0.99789556 | AC10: 1.1607062 | AD10: 4.2891266 | AF10: 2007Q2 | AG10: 2.4438124 | AH10: 4.4717481 | AI10: -0.017127907 | AJ10: 1.0043531 | AK10: 1.6391048 | AL10: 9.5418904
J11: 2010M3 | K11: 4.4973281 | L11: 4.207969 | M11: 10.6 | P11: 2007Q3 | Q11: 2.3311812 | R11: 2.0808775 | S11: 0.20562362 | T11: 1.1815732 | U11: 1.3641784 | V11: 7.1634339 | X11: 2007Q3 | Y11: 1.9414994 | Z11: 1.6932392 | AA11: 0.079543771 | AB11: 0.35672597 | AC11: 0.72021835 | AD11: 4.7912267 | AF11: 2007Q3 | AG11: 0.52079449 | AH11: 3.2043144 | AI11: 0.81408915 | AJ11: 1.2265945 | AK11: 0.503037 | AL11: 6.2688296
J12: 2010M4 | K12: 5.1005307 | L12: 6.2312018 | M12: 10.09 | N12: Greek crisis | P12: 2007Q4 | Q12: 3.2285813 | R12: 2.6361879 | S12: 0.19149032 | T12: 1.1764029 | U12: 1.4512752 | V12: 8.6839377 | X12: 2007Q4 | Y12: 2.4375507 | Z12: 3.4259514 | AA12: 0.07078248 | AB12: 0.31175505 | AC12: 0.54865266 | AD12: 6.7946923 | AF12: 2007Q4 | AG12: 1.4256621 | AH12: 2.586461 | AI12: 1.2217377 | AJ12: 1.1081593 | AK12: 0.68128749 | AL12: 7.0233076
J13: 2010M5 | K13: 1.0153488 | L13: -4.1306167 | M13: 13.65 | P13: 2008Q1 | Q13: 2.5085513 | R13: 2.8440926 | S13: 0.55138154 | T13: 1.2242681 | U13: 1.7925879 | V13: 8.9208814 | X13: 2008Q1 | Y13: 2.7562213 | Z13: 0.89000702 | AA13: 0.061616788 | AB13: -0.16327091 | AC13: 0.80609607 | AD13: 4.3506703 | AF13: 2008Q1 | AG13: 0.65923643 | AH13: 5.3915956 | AI13: 1.3348137 | AJ13: 1.8302797 | AK13: 0.5450514 | AL13: 9.7609769
J14: 2010M6 | K14: 3.0548249 | L14: 4.9492088 | M14: 13.74 | P14: 2008Q2 | Q14: 3.5220108 | R14: 1.8669421 | S14: 0.27770961 | T14: 0.50151948 | U14: 1.5145244 | V14: 7.6827064 | X14: 2008Q2 | Y14: 2.073587 | Z14: 1.4703513 | AA14: 0.37194061 | AB14: 0.55476609 | AC14: 0.77070456 | AD14: 5.2413495 | AF14: 2008Q2 | AG14: 1.8421016 | AH14: 3.0058411 | AI14: 0.8298919 | AJ14: 0.2519659 | AK14: 0.52297257 | AL14: 6.452773
J15: 2010M7 | K15: 3.5582442 | L15: 5.7826394 | M15: 12.25 | P15: 2008Q3 | Q15: 1.8766437 | R15: 0.78453431 | S15: 0.33987524 | T15: 0.09149893 | U15: 1.4252629 | V15: 4.5178151 | X15: 2008Q3 | Y15: 2.5049881 | Z15: 0.67890028 | AA15: -0.069165319 | AB15: 0.37568888 | AC15: 0.22858947 | AD15: 3.7190014 | AF15: 2008Q3 | AG15: 0.18774423 | AH15: 2.6172398 | AI15: 1.4392937 | AJ15: -0.36248281 | AK15: 0.3922313 | AL15: 4.2740262
