Workbook

Sheet WEO Chapter 4 Apr. 2019
I3: 43558
B5: International Monetary Fund
B6: World Economic Outlook
B21: April 2019
B23: Chapter 4. Bilateral Trade and Spillovers from Tariffs
B26: This datafile includes charts and underlying data from the Chapter 4 of the April 2019 World Economic Outlook. When using the data, please refer to the
B27: IMF, World Economic Outlook, April 2019.
B29: Disclaimer: Should there be any discrepancies with the print version, the latter represents the official version.
C31: Please refer any questions to the WEO Data Forum: | H31: https://forums.imf.org/

Sheet Table of Contents
B5: International Monetary Fund
B6: World Economic Outlook
B8: ='WEO Chapter 4 Apr. 2019'!B23:J23 -> Chapter 4. Bilateral Trade and Spillovers from Tariffs
B11: Table of Contents
B13: Figures
B14: ='Figure 4.1.'!J2 -> Figure 4.1. Bilateral Trade Balances, by Major Partners
B15: ='Figure 4.2.'!J2 -> Figure 4.2. Global Trade Imbalances
B16: ='Figure 4.3.'!J2 -> Figure 4.3. Trade Intensity and Barriers to Trade
B17: ='Figure 4.4.'!J2 -> Figure 4.4. Revealed Comparative Advantage
B18: ='Figure 4.5.'!J2 -> Figure 4.5. Largest Trade Flows, 1995 versus 2015
B19: ='Figure 4.6.'!J2 -> Figure 4.6. The Role of Global Value Chains
B20: ='Figure 4.7.'!J2 -> Figure 4.7. Contributions to Changes in Bilateral Trade Balances, 1995–2015
B21: ='Figure 4.8.'!J2 -> Figure 4.8. Effect of a Deterioration of Germany’s Aggregate Trade Balance on Selected Bilateral Balances
B22: ='Figure 4.9.'!J2 -> Figure 4.9. Contributions of Macroeconomic Drivers to the Aggregate Trade Balances, Average 2010–17
B23: ='Figure 4.10.'!J2 -> Figure 4.10. Bilateral Trade Deficit Reversal Episodes
B24: ='Figure 4.11.'!J2 -> Figure 4.11. Tariffs and Global Value Chain Participation
B25: ='Figure 4.12.'!J2 -> Figure 4.12. Illustration of the Effect of Tariff Changes on Real Value Added
B26: ='Figure 4.13.'!J2 -> Figure 4.13. Sectoral Effects from a 25 Percent Increase in Tariffs Affecting All US-China Trade: World Real Value Added
B27: ='Figure 4.1.1'!J2 -> Figure 4.1.1. Gross versus Value Added Trade Balance
B28: ='Figure 4.2.1'!J2 -> Figure 4.2.1. US–China Bilateral and Aggregate Trade Balances
B29: ='Figure 4.3.1'!J2 -> Figure 4.3.1. Improvement in Bilateral Trade Deficits during Overall Trade Deficit Reversal Episodes
B30: ='Figure 4.4.1'!J2 -> Figure 4.4.1. Macro Effects from a 25 Percent Increase in Tariffs Affecting All US–China Trade: Real GDP
B31: ='Figure 4.4.2'!J2 -> Figure 4.4.2. Macro Effects from a 25 Percent Increase in Tariffs Affecting All US–China Trade: Real Exports
B32: ='Figure 4.4.3'!J2 -> Figure 4.4.3. US Imports of Electronics and Machinery before and after Tariffs
B33: ='Figure 4.4.4.'!J2 -> Figure 4.4.4. Mexico’s Imports of Intermediate Inputs for the Electronics and Manufacturing Sectors

Sheet Figure 4.1.
J2: Figure 4.1. Bilateral Trade Balances, by Major Partners
J3: (Percent of global GDP)
J5: 1. Trade Balance by Partners | T5: 2. Trade Balance by Partners
J7: Country | K7: USA | M7: DEU | O7: CHN | Q7: JPN | T7: Country | U7: MEX | W7: CAN | Y7: GBR | AA7: FRA
K8: 1995 | L8: 2015 | M8: 1995 | N8: 2015 | O8: 1995 | P8: 2015 | Q8: 1995 | R8: 2015 | U8: 1995 | V8: 2015 | W8: 1995 | X8: 2015 | Y8: 1995 | Z8: 2015 | AA8: 1995 | AB8: 2015
J9: CHN | K9: -0.07 | L9: -0.34 | N9: 0.05 | T9: CHN | V9: -0.09 | X9: -0.03 | Z9: -0.05
J10: MEX | L10: -0.11 | T10: MEX | W10: -0.01 | X10: -0.02
J11: IND | L11: -0.08 | T11: DEU | Y11: -0.03 | Z11: -0.04 | AB11: -0.04
J12: USA | M12: 0.03 | N12: 0.08 | O12: 0.07 | P12: 0.34 | Q12: 0.12 | R12: 0.04 | T12: USA | U12: 0.03 | V12: 0.11 | W12: 0.08 | X12: 0.04 | Z12: 0.03 | AA12: -0.01
J13: GBR | M13: 0.03 | N13: 0.04 | T13: GBR | W13: -0.01 | AA13: 0.01 | AB13: 0.01
J14: TWN | O14: -0.03 | P14: -0.13 | Q14: 0.06 | R14: 0.02 | T14: FRA | Y14: -0.01
J15: KOR | P15: -0.13 | Q15: 0.04 | R15: 0.02 | T15: CAN | U15: 0.01 | V15: 0.02
J16: CAN | K16: -0.08 | T16: ESP | AB16: -0.01
J17: JPN | K17: -0.12 | M17: -0.03 | T17: AUS | Y17: 0.01
J18: HKG | O18: 0.02 | T18: JPN | U18: -0.01
J19: Others (positive) | K19: 0.22 | L19: 0.27 | M19: 0.14 | N19: 0.26 | O19: 0.05 | P19: 0.55 | Q19: 0.16 | R19: 0.07 | T19: Others (positive) | U19: 0.02 | V19: 0.03 | W19: 0.03 | X19: 0.01 | Y19: 0.09 | Z19: 0.11 | AA19: 0.12 | AB19: 0.08
J20: Others (negative) | K20: -0.26 | L20: -0.43 | M20: -0.13 | N20: -0.09 | O20: -0.04 | P20: -0.21 | Q20: -0.14 | R20: -0.17 | T20: Others (negative) | U20: -0.03 | V20: -0.11 | W20: -0.03 | X20: -0.08 | Y20: -0.05 | Z20: -0.12 | AA20: -0.04 | AB20: -0.08
J21: Total | K21: -0.31 | L21: -0.68 | M21: 0.05 | N21: 0.34 | O21: 0.07 | P21: 0.41 | Q21: 0.23 | R21: -0.02 | T21: Total | U21: 0.03 | V21: -0.04 | W21: 0.06 | X21: -0.08 | Y21: 0.02 | Z21: -0.07 | AA21: 0.07 | AB21: -0.03

Sheet Figure 4.2.
J2: Figure 4.2. Global Trade Imbalances
J4: 1. Overall and Bilateral Trade Balances | N4: 2. Trade Balances: Average Level 2013–15
J5: (Percent of global GDP; sum of absolute values) | N5: (Percent of global GDP; sum of absolute values)
J7: Year | K7: Bilateral trade balance | L7: Overall trade balance | N7: Country | O7: Bilateral trade balances | P7: Overall trade balances
J8: 1995 | K8: 5.179 | L8: 1.57 | N8: CHN | O8: 1.332 | P8: 0.288
J9: 1996 | K9: 5.267 | L9: 1.675 | N9: USA | O9: 1.167 | P9: 0.641
J10: 1997 | K10: 5.519 | L10: 1.739 | N10: DEU | O10: 0.538 | P10: 0.313
J11: 1998 | K11: 5.509 | L11: 2.196 | N11: KOR | O11: 0.388 | P11: 0.095
J12: 1999 | K12: 5.608 | L12: 2.429 | N12: JPN | O12: 0.379 | P12: 0.11
J13: 2000 | K13: 6.806 | L13: 2.733 | N13: GBR | O13: 0.356 | P13: 0.077
J14: 2001 | K14: 6.556 | L14: 2.685 | N14: IND | O14: 0.339 | P14: 0.092
J15: 2002 | K15: 7.095 | L15: 3.193 | N15: MEX | O15: 0.337 | P15: 0.03
J16: 2003 | K16: 7.606 | L16: 3.31 | N16: TWN | O16: 0.308 | P16: 0.079
J17: 2004 | K17: 8.467 | L17: 3.747 | N17: SAU | O17: 0.257 | P17: 0.126
J18: 2005 | K18: 9.298 | L18: 4.087 | N18: ITA | O18: 0.255 | P18: 0.067
J19: 2006 | K19: 9.94 | L19: 4.29 | N19: FRA | O19: 0.253 | P19: 0.05
... J28: 2015 | K28: 9.094 | L28: 3.131 | N28: ESP | O28: 0.14 | P28: 0.039
N29: VNM | O29: 0.135 | P29: 0.004
N30: TUR | O30: 0.129 | P30: 0.05
N31: NOR | O31: 0.122 | P31: 0.053
N32: IDN | O32: 0.118 | P32: 0.007
N33: POL | O33: 0.112 | P33: 0.013
N34: THA | O34: 0.105 | P34: 0.035
N35: MYS | O35: 0.102 | P35: 0.041
N36: SWE | O36: 0.087 | P36: 0.029
N37: DNK | O37: 0.083 | P37: 0.029
N38: BEL | O38: 0.08 | P38: 0.01
N39: HKG | O39: 0.068 | P39: 0.022
N40: CZE | O40: 0.065 | P40: 0.016
... N65: LVA | O65: 0.008 | P65: 0

Sheet Figure 4.3.
J2: Figure 4.3. Trade Intensity and Barriers to Trade
J4: 1. Bilateral Trade Intensities | N4: 2. Average Tariff by Country Groups
N5: (Percent)
J6: Trade intensity 2010-2015 | K6: Trade intensity 1995-1999 | N6: Year | O6: Advanced economies | P6: Emerging market economies excluding China | Q6: China
J7: 20.43587 | K7: 22.24584 | N7: 1995 | O7: 3.42 | P7: 11.8 | Q7: 18.73
J8: 23.76833 | K8: 21.79184 | N8: 1996 | O8: 3.44 | P8: 12.31 | Q8: 18.73
J9: 23.76834 | K9: 21.7182 | N9: 1997 | O9: 3.45 | P9: 12.3 | Q9: 15.89
J10: 21.82587 | K10: 21.69685 | N10: 1998 | O10: 3.36 | P10: 12.35 | Q10: 15.86
J11: 19.75941 | K11: 21.42414 | N11: 1999 | O11: 3.08 | P11: 12.18 | Q11: 15.8
J12: 21.82587 | K12: 18.59084 | N12: 2000 | O12: 3.04 | P12: 12.16 | Q12: 17.94
J13: 20.43587 | K13: 18.45207 | N13: 2001 | O13: 3.1 | P13: 11.92 | Q13: 17.44
J14: 19.75941 | K14: 18.42309 | N14: 2002 | O14: 2.81 | P14: 11.46 | Q14: 12.7
J15: 10.90032 | K15: 16.97148 | N15: 2003 | O15: 2.74 | P15: 11.64 | Q15: 11.76
J16: 8.669895 | K16: 5.31556 | N16: 2004 | O16: 1.42 | P16: 9.85 | Q16: 11.13
J17: 5.238726 | K17: 5.193971 | N17: 2005 | O17: 1.41 | P17: 8.96 | Q17: 9.85
J18: 7.496483 | K18: 5.14924 | N18: 2006 | O18: 1.38 | P18: 8.78 | Q18: 9.86
... J29: 3.582207 | K29: 3.215584 | N29: 2017 | O29: 1.18 | P29: 5.79 | Q29: 8.7
J30: 6.893602 | K30: 3.200156
J31: 3.66007 | K31: 3.193079
J32: 3.036003 | K32: 2.970074
J33: 2.606884 | K33: 2.877938
J34: 3.353699 | K34: 2.719636
J35: 2.384976 | K35: 2.687635
J36: 4.815521 | K36: 2.579483
J37: 1.692054 | K37: 2.554683
J38: 3.06627 | K38: 2.526803
J39: 2.184442 | K39: 2.477107
J40: 2.371813 | K40: 2.421671
J41: 2.054508 | K41: 2.323383
... J3677: 0.037247 | K3677: 0.000878

Sheet Figure 4.4.
J2: Figure 4.4. Revealed Comparative Advantage
J4: 1. Manufacturing | V4: 2. Services | AH4: 3. High-Tech Manufacturing
J6: Year | K6: USA | L6: CHN | M6: JPN | N6: KOR | O6: DEU | P6: GBR | Q6: CAN | R6: MEX | S6: IND | T6: FRA | V6: Year | W6: USA | X6: CHN | Y6: JPN | Z6: KOR | AA6: DEU | AB6: GBR | AC6: CAN | AD6: MEX | AE6: IND | AF6: FRA | AH6: Year | AI6: USA | AJ6: CHN | AK6: JPN | AL6: KOR | AM6: DEU | AN6: GBR | AO6: CAN | AP6: MEX | AQ6: IND | AR6: FRA
J7: 1995 | K7: 0.96612 | L7: 1.07811 | M7: 1.1058 | N7: 1.16982 | O7: 1.21469 | P7: 0.94924 | Q7: 1.1041 | R7: 1.10222 | S7: 0.90365 | T7: 1.02912 | V7: 1995 | W7: 1.15318 | X7: 0.93381 | Y7: 1.0238 | Z7: 0.88726 | AA7: 0.77021 | AB7: 1.15717 | AC7: 0.70203 | AD7: 0.68528 | AE7: 1.21109 | AF7: 1.01732 | AH7: 1995 | AI7: 1.17784 | AJ7: 0.68225 | AK7: 1.61075 | AL7: 1.19836 | AM7: 1.43291 | AN7: 1.08177 | AO7: 1.00602 | AP7: 1.37624 | AQ7: 0.3597 | AR7: 1.07835
J8: 1996 | K8: 0.97075 | L8: 1.10773 | M8: 1.11531 | N8: 1.20527 | O8: 1.22662 | P8: 0.95057 | Q8: 1.1104 | R8: 1.12559 | S8: 0.93552 | T8: 1.05204 | V8: 1996 | W8: 1.15845 | X8: 0.90343 | Y8: 1.02865 | Z8: 0.85527 | AA8: 0.7779 | AB8: 1.16879 | AC8: 0.71406 | AD8: 0.65042 | AE8: 1.16739 | AF8: 0.99541 | AH8: 1996 | AI8: 1.18029 | AJ8: 0.73764 | AK8: 1.60539 | AL8: 1.30383 | AM8: 1.44023 | AN8: 1.09022 | AO8: 1.02704 | AP8: 1.4079 | AQ8: 0.38418 | AR8: 1.11064
J9: 1997 | K9: 0.9899 | L9: 1.11278 | M9: 1.12037 | N9: 1.20217 | O9: 1.22387 | P9: 0.94834 | Q9: 1.10056 | R9: 1.15939 | S9: 0.90715 | T9: 1.06529 | V9: 1997 | W9: 1.1475 | X9: 0.90445 | Y9: 1.01465 | Z9: 0.86543 | AA9: 0.7839 | AB9: 1.19495 | AC9: 0.72614 | AD9: 0.63338 | AE9: 1.24325 | AF9: 0.97684 | AH9: 1997 | AI9: 1.16503 | AJ9: 0.73842 | AK9: 1.59661 | AL9: 1.29568 | AM9: 1.43653 | AN9: 1.09546 | AO9: 1.02006 | AP9: 1.41945 | AQ9: 0.37958 | AR9: 1.1387
J10: 1998 | K10: 0.98518 | L10: 1.12981 | M10: 1.11063 | N10: 1.187 | O10: 1.22058 | P10: 0.91287 | Q10: 1.09798 | R10: 1.20629 | S10: 0.8042 | T10: 1.05827 | V10: 1998 | W10: 1.14234 | X10: 0.8684 | Y10: 0.99503 | Z10: 0.84795 | AA10: 0.75585 | AB10: 1.25451 | AC10: 0.74523 | AD10: 0.61579 | AE10: 1.41698 | AF10: 0.95612 | AH10: 1998 | AI10: 1.15948 | AJ10: 0.80474 | AK10: 1.56135 | AL10: 1.17369 | AM10: 1.43033 | AN10: 1.06259 | AO10: 1.03149 | AP10: 1.48851 | AQ10: 0.31725 | AR10: 1.13675
J11: 1999 | K11: 0.98159 | L11: 1.14329 | M11: 1.13353 | N11: 1.20977 | O11: 1.22091 | P11: 0.87621 | Q11: 1.12668 | R11: 1.21797 | S11: 0.79799 | T11: 1.07027 | V11: 1999 | W11: 1.17486 | X11: 0.87697 | Y11: 0.97616 | Z11: 0.83044 | AA11: 0.77359 | AB11: 1.31822 | AC11: 0.71797 | AD11: 0.59214 | AE11: 1.46701 | AF11: 0.95769 | AH11: 1999 | AI11: 1.13467 | AJ11: 0.84995 | AK11: 1.57232 | AL11: 1.26253 | AM11: 1.42825 | AN11: 1.01557 | AO11: 1.06198 | AP11: 1.51648 | AQ11: 0.31561 | AR11: 1.14677
J12: 2000 | K12: 1.00274 | L12: 1.17 | M12: 1.16155 | N12: 1.22765 | O12: 1.25002 | P12: 0.87613 | Q12: 1.09854 | R12: 1.2044 | S12: 0.85006 | T12: 1.08963 | V12: 2000 | W12: 1.20141 | X12: 0.86852 | Y12: 0.97555 | Z12: 0.84866 | AA12: 0.76171 | AB12: 1.33081 | AC12: 0.72922 | AD12: 0.60362 | AE12: 1.44461 | AF12: 0.9933 | AH12: 2000 | AI12: 1.14614 | AJ12: 0.91722 | AK12: 1.6259 | AL12: 1.33388 | AM12: 1.42961 | AN12: 1.02378 | AO12: 1.01656 | AP12: 1.52 | AQ12: 0.35589 | AR12: 1.17555
J13: 2001 | K13: 0.99935 | L13: 1.18145 | M13: 1.13906 | N13: 1.23159 | O13: 1.25749 | P13: 0.84899 | Q13: 1.08715 | R13: 1.24181 | S13: 0.88701 | T13: 1.10236 | V13: 2001 | W13: 1.18939 | X13: 0.84986 | Y13: 1.01243 | Z13: 0.84199 | AA13: 0.74617 | AB13: 1.36865 | AC13: 0.73247 | AD13: 0.58225 | AE13: 1.34864 | AF13: 0.97287 | AH13: 2001 | AI13: 1.1405 | AJ13: 0.98293 | AK13: 1.59419 | AL13: 1.35631 | AM13: 1.46805 | AN13: 1.00506 | AO13: 0.97937 | AP13: 1.60039 | AQ13: 0.4189 | AR13: 1.21273
J14: 2002 | K14: 0.97709 | L14: 1.19687 | M14: 1.13241 | N14: 1.26738 | O14: 1.23437 | P14: 0.82675 | Q14: 1.09375 | R14: 1.23783 | S14: 0.87197 | T14: 1.07331 | V14: 2002 | W14: 1.21098 | X14: 0.82226 | Y14: 1.0154 | Z14: 0.76921 | AA14: 0.77711 | AB14: 1.39678 | AC14: 0.74479 | AD14: 0.56942 | AE14: 1.34303 | AF14: 1.00955 | AH14: 2002 | AI14: 1.0967 | AJ14: 1.04521 | AK14: 1.57817 | AL14: 1.53772 | AM14: 1.4294 | AN14: 0.96243 | AO14: 0.95237 | AP14: 1.57339 | AQ14: 0.43237 | AR14: 1.16922
J15: 2003 | K15: 0.97154 | L15: 1.22863 | M15: 1.13175 | N15: 1.29969 | O15: 1.2529 | P15: 0.80748 | Q15: 1.06736 | R15: 1.19105 | S15: 0.87344 | T15: 1.07211 | V15: 2003 | W15: 1.22497 | X15: 0.78229 | Y15: 1.02972 | Z15: 0.72469 | AA15: 0.74934 | AB15: 1.45173 | AC15: 0.74682 | AD15: 0.57864 | AE15: 1.36423 | AF15: 1.02862 | AH15: 2003 | AI15: 1.08225 | AJ15: 1.14829 | AK15: 1.58003 | AL15: 1.61929 | AM15: 1.45623 | AN15: 0.92493 | AO15: 0.92624 | AP15: 1.4073 | AQ15: 0.44372 | AR15: 1.1635
J16: 2004 | K16: 0.95601 | L16: 1.24156 | M16: 1.12691 | N16: 1.29549 | O16: 1.24736 | P16: 0.78096 | Q16: 1.04858 | R16: 1.19488 | S16: 0.81314 | T16: 1.07493 | V16: 2004 | W16: 1.25358 | X16: 0.77205 | Y16: 1.03503 | Z16: 0.72995 | AA16: 0.75491 | AB16: 1.51671 | AC16: 0.74062 | AD16: 0.55679 | AE16: 1.45077 | AF16: 1.02403 | AH16: 2004 | AI16: 1.06981 | AJ16: 1.21277 | AK16: 1.57878 | AL16: 1.64955 | AM16: 1.44821 | AN16: 0.86364 | AO16: 0.91939 | AP16: 1.52271 | AQ16: 0.43064 | AR16: 1.18432
J17: 2005 | K17: 0.97113 | L17: 1.27811 | M17: 1.17136 | N17: 1.32807 | O17: 1.26662 | P17: 0.76967 | Q17: 1.01861 | R17: 1.18676 | S17: 0.80523 | T17: 1.08557 | V17: 2005 | W17: 1.27746 | X17: 0.75055 | Y17: 1.00007 | Z17: 0.71722 | AA17: 0.76286 | AB17: 1.5722 | AC17: 0.74808 | AD17: 0.56504 | AE17: 1.4996 | AF17: 1.04438 | AH17: 2005 | AI17: 1.08299 | AJ17: 1.2985 | AK17: 1.63794 | AL17: 1.69807 | AM17: 1.47892 | AN17: 0.84893 | AO17: 0.90104 | AP17: 1.51841 | AQ17: 0.41499 | AR17: 1.19868
J18: 2006 | K18: 0.97762 | L18: 1.32304 | M18: 1.19431 | N18: 1.34747 | O18: 1.27858 | P18: 0.74827 | Q18: 1.01385 | R18: 1.19396 | S18: 0.81854 | T18: 1.10137 | V18: 2006 | W18: 1.30308 | X18: 0.7032 | Y18: 0.98598 | Z18: 0.70447 | AA18: 0.75873 | AB18: 1.64609 | AC18: 0.78418 | AD18: 0.54711 | AE18: 1.53796 | AF18: 1.04643 | AH18: 2006 | AI18: 1.09179 | AJ18: 1.33477 | AK18: 1.68762 | AL18: 1.72716 | AM18: 1.48283 | AN18: 0.82102 | AO18: 0.90732 | AP18: 1.5605 | AQ18: 0.4197 | AR18: 1.20947
... J27: 2015 | K27: 0.87929 | L27: 1.40424 | M27: 1.09885 | N27: 1.35393 | O27: 1.24009 | P27: 0.74586 | Q27: 0.98888 | R27: 1.30484 | S27: 0.86133 | T27: 1.01374 | V27: 2015 | W27: 1.36598 | X27: 0.51798 | Y27: 1.07285 | Z27: 0.63326 | AA27: 0.76804 | AB27: 1.58182 | AC27: 0.76943 | AD27: 0.51025 | AE27: 1.41366 | AF27: 1.1277 | AH27: 2015 | AI27: 0.90351 | AJ27: 1.42703 | AK27: 1.51849 | AL27: 1.7565 | AM27: 1.50375 | AN27: 0.8326 | AO27: 0.98235 | AP27: 1.76992 | AQ27: 0.58032 | AR27: 1.09524

Sheet Figure 4.5.
J2: Figure 4.5. Largest Trade Flows, 1995 versus 2015
J3: (Billions of US dollars)
J6: Data not available

Sheet Figure 4.6.
J2: Figure 4.6. The Role of Global Value Chains
J4: 1. Participation in GVCs versus Overall Trade Balance, 2015 | M4: 2. Participation in GVCs versus Bilateral Trade Balance, 2015
J6: 2015 | K6: 2015 | M6: 2015 | N6: 2015
J7: Backward and forward participation in GVCs (percent of total gross exports) | K7: Overalll trade balance (absolute sums, percent of GDP) | M7: Backward and forward participation in GVCs (percent of total gross exports) | N7: Bilateral trade balances (absolute sums, percent of GDP)
J8: 43.15 | K8: 13.58 | M8: 43.15 | N8: 19.74
J9: 23.52 | K9: 1 | M9: 23.52 | N9: 6.84
J10: 38.43 | K10: 1.96 | M10: 38.43 | N10: 11.48
J11: 47.81 | K11: 3.73 | M11: 47.81 | N11: 9.41
J12: 54.27 | K12: 1.07 | M12: 54.27 | N12: 11.16
J13: 52.17 | K13: 0.97 | M13: 52.17 | N13: 22.33
J14: 32.11 | K14: 1.37 | M14: 32.11 | N14: 5.59
J16: 36.49 | K16: 3.74 | M16: 36.49 | N16: 8.37
J17: 41.81 | K17: 10.16 | M17: 41.81 | N17: 20.38
J18: 44.02 | K18: 0.27 | M18: 44.02 | N18: 11.22
J19: 34.83 | K19: 2.72 | M19: 34.83 | N19: 8.98
J20: 33.46 | K20: 8.02 | M20: 33.46 | N20: 9.42
... J35: 37.04 | K35: 0.28 | M35: 37.04 | N35: 9.73
J36: 34 | K36: 3.26 | M36: 34
J37: 52.39 | K37: 28.41 | M37: 52.39 | N37: 46.75
J39: 36.52 | K39: 3.32 | M39: 36.52 | N39: 13.15
J40: 40.7 | K40: 2.56 | M40: 40.7 | N40: 10
J41: 37.58 | K41: 0.36 | M41: 37.58 | N41: 5.3
J42: 44.96 | K42: 5.12 | M42: 44.96
J43: 51.66 | K43: 6.69 | M43: 51.66 | N43: 18.57
J44: 48.38 | K44: 0.89 | M44: 48.38 | N44: 28.73
J46: 41.33 | K46: 0.31 | M46: 41.33 | N46: 21
J47: 44.87 | K47: 2.54 | M47: 44.87 | N47: 22.27
J49: 55.66 | K49: 9.25 | M49: 55.66
J50: 49.14 | K50: 5.67 | M50: 49.14 | N50: 16.92
J51: 46.02 | K51: 5.44 | M51: 46.02 | N51: 19.79
J52: 25.52 | K52: 1.08 | M52: 25.52 | N52: 10.46
J53: 39.63 | K53: 2.97 | M53: 39.63 | N53: 7.5
J54: 44.4 | K54: 5.23 | M54: 44.4 | N54: 12.68
J55: 48.13 | K55: 2.52 | M55: 48.13 | N55: 16.96
J56: 43.89 | K56: 0.03 | M56: 43.89 | N56: 17.81
J57: 44.21 | K57: 0.96 | M57: 44.21 | N57: 11.62
J58: 41.03 | K58: 7.2 | M58: 41.03 | N58: 9.65
J59: 41.45 | K59: 4.89 | M59: 41.45
J60: 61.89 | K60: 25.44 | M60: 61.89 | N60: 44.7
J61: 63.6 | K61: 2.67 | M61: 63.6 | N61: 31.58
...

Sheet Figure 4.7.
J2: Figure 4.7. Contributions to Changes in Bilateral Trade Balances, 1995–2015
J3: (Billions of US dollars)
J5: 1. United States: Net Contributions | P5: 2. United States: Disaggregated Contributions | V5: 3. China: Net Contributions | AB5: 4. China: Disaggregated Contributions | AI5: 5. Germany: Net Contributions | AO5: 6. Germany: Disaggragated Contributions
K7: Canada | L7: Japan | M7: Mexico | N7: China (right scale) | Q7: Canada | R7: Japan | S7: Mexico | T7: China (right scale) | W7: Japan | X7: Korea | Y7: Malaysia | Z7: United States (right scale) | AC7: Japan | AD7: Korea | AE7: Malaysia | AF7: United States (right scale) | AJ7: France | AK7: United Kingdom | AL7: Italy | AM7: United States | AP7: France | AQ7: United Kingdom | AR7: Italy | AS7: United States
J8: Tariffs and other trade costs | K8: -13.21 | L8: -38.77 | M8: -18.14 | N8: 12.81 | P8: Partner multilateral tariffs and other trade costs | Q8: -7.73 | R8: -17.45 | S8: -8.85 | T8: 58.19 | V8: Tariffs and other trade costs | W8: 11.84 | X8: 19.33 | Y8: 0.19 | Z8: -12.81 | AB8: Partner multilateral tariffs and other trade costs | AC8: 2.36 | AD8: 2.77 | AE8: 1.27 | AF8: 48.24 | AI8: Tariffs and other trade costs | AJ8: 7.21 | AK8: 9.05 | AL8: 3.7 | AM8: 12.44 | AO8: Partner multilateral tariffs and other trade costs | AP8: 4.62 | AQ8: 6.22 | AR8: 3.7 | AS8: 8.5
J9: Sectoral composition | K9: 9.14 | L9: 10.29 | M9: 5.78 | N9: 29.36 | P9: Country multilateral tariffs and other trade costs | Q9: -8.84 | R9: -20.8 | S9: -12.67 | T9: -48.24 | V9: Sectoral composition | W9: 1.69 | X9: 3.77 | Y9: 7.79 | Z9: -29.36 | AB9: Country multilateral tariffs and other trade costs | AC9: 5.58 | AD9: 13.02 | AE9: 3.79 | AF9: -58.19 | AI9: Sectoral composition | AJ9: -4.98 | AK9: -2.56 | AL9: -0.86 | AM9: 4.82 | AO9: Country multilateral tariffs and other trade costs | AP9: 2.59 | AQ9: 2.83 | AR9: 0 | AS9: 3.77
J10: Macroeconomic factors | K10: -42.63 | L10: 2.02 | M10: -11.33 | N10: -210.65 | P10: Bilateral tariffs | Q10: 3.35 | R10: -0.52 | S10: 3.38 | T10: 2.86 | V10: Macroeconomic factors | W10: -24.15 | X10: -74.58 | Y10: -28.29 | Z10: 210.65 | AB10: Bilateral tariffs | AC10: 3.89 | AD10: 3.55 | AE10: -4.87 | AF10: -2.86 | AI10: Macroeconomic factors | AJ10: 3.76 | AK10: 2.16 | AL10: 1.11 | AM10: 7.07 | AO10: Bilateral tariffs | AP10: 0 | AQ10: 0 | AR10: 0 | AS10: 0.16
J11: Residual | K11: -11.39 | L11: 32.04 | M11: -52.99 | N11: -46.98 | P11: World output | Q11: 68.94 | R11: 43.77 | S11: 31.18 | T11: 102.57 | V11: Residual | W11: 3.38 | X11: -37.85 | Y11: -3.83 | Z11: 46.98 | AB11: World output | AC11: 6.84 | AD11: 24.12 | AE11: 6.71 | AF11: -102.57 | AI11: Residual | AJ11: 20.73 | AK11: 15.02 | AL11: 8.62 | AM11: 8.84 | AO11: World output | AP11: -11.48 | AQ11: -16.37 | AR11: -10.9 | AS11: -26.4
J12: Total | K12: -58.09 | L12: 5.57 | M12: -76.67 | N12: -215.46 | P12: Partner sectoral composition | Q12: 25.14 | R12: 1.67 | S12: 15.12 | T12: 1.83 | V12: Total | W12: -7.24 | X12: -89.33 | Y12: -24.15 | Z12: 215.46 | AB12: Partner sectoral composition | AC12: 0.85 | AD12: -2.63 | AE12: 6.56 | AF12: -27.53 | AI12: Total | AJ12: 26.72 | AK12: 23.67 | AL12: 12.57 | AM12: 33.16 | AO12: Partner sectoral composition | AP12: -8.53 | AQ12: -4.72 | AR12: -6.89 | AS12: -1.25
P13: Country sectoral composition | Q13: -16 | R13: 8.62 | S13: -9.34 | T13: 27.53 | AB13: Country sectoral composition | AC13: 0.84 | AD13: 6.4 | AE13: 1.23 | AF13: -1.83 | AO13: Country sectoral composition | AP13: 3.54 | AQ13: 2.16 | AR13: 6.03 | AS13: 6.07
P14: Partner net demand | Q14: -64.94 | R14: -9 | S14: -22.25 | T14: -255 | AB14: Partner net demand | AC14: -1.73 | AD14: -28.27 | AE14: -15.58 | AF14: 58.22 | AO14: Partner net demand | AP14: 8.25 | AQ14: 9.11 | AR14: 5.1 | AS14: 17.19
P15: Country net supply | Q15: -46.64 | R15: -32.75 | S15: -20.25 | T15: -58.22 | AB15: Country net supply | AC15: -29.26 | AD15: -70.43 | AE15: -19.42 | AF15: 255 | AO15: Country net supply | AP15: 6.99 | AQ15: 9.42 | AR15: 6.91 | AS15: 16.27
P16: Residual | Q16: -11.39 | R16: 32.04 | S16: -52.99 | T16: -46.98 | AB16: Residual | AC16: 3.38 | AD16: -37.85 | AE16: -3.83 | AF16: 46.98 | AO16: Residual | AP16: 20.73 | AQ16: 15.02 | AR16: 8.62 | AS16: 8.84
P17: Total | Q17: -58.09 | R17: 5.57 | S17: -76.67 | T17: -215.46 | AB17: Total | AC17: -7.24 | AD17: -89.33 | AE17: -24.15 | AF17: 215.46 | AO17: Total | AP17: 26.72 | AQ17: 23.67 | AR17: 12.57 | AS17: 33.16

Sheet Figure 4.8.
J2: Figure 4.8. Effect of a Deterioration of Germany’s Aggregate Trade Balance on Selected Bilateral Balances
J3: (Percent of Germany’s GDP)
J5: Year | K5: Country
J6: 2015 | K6: CHN | L6: -0.10635
J7: 2015 | K7: NLD | L7: -0.1001
J8: 2015 | K8: USA | L8: -0.08138
J9: 2015 | K9: GBR | L9: -0.06226
J10: 2015 | K10: FRA | L10: -0.04997

Sheet Figure 4.9.
J2: Figure 4.9. Contributions of Macroeconomic Drivers to the Aggregate Trade Balances, Average 2010–17
J3: (Percent of GDP)
K5: USA | L5: JPN | M5: DEU | N5: CHN
J6: Financial | K6: 0.95 | L6: -0.16 | M6: 0.75 | N6: -2.03
J7: Fundamentals | K7: 0.27 | L7: -3.59 | M7: -1.07 | N7: 1.15
J8: Fiscal | K8: -1.26 | L8: -1.51 | M8: 2.05 | N8: 1.37
J9: Foreign exchange intervention | K9: -0.11 | L9: -0.11 | M9: -0.11 | N9: 0.54
J10: Cyclical | K10: -0.6 | L10: -0.13 | M10: -1.23 | N10: -1.17
J11: Residual | K11: -2.37 | L11: 4.96 | M11: 6.16 | N11: 2.37
J12: Trade balance to GDP ratio | K12: -3.12 | L12: -0.54 | M12: 6.56 | N12: 2.24

Sheet Figure 4.10.
J2: Figure 4.10. Bilateral Trade Deficit Reversal Episodes
J3: (Number of episodes)
K5: During overall trade deficit reversals | L5: Outside overall trade deficit reversals
J6: 2.0 percent | K6: 31 | L6: 77
J7: 2.5 percent | K7: 22 | L7: 47
J8: 3.0 percent | K8: 16 | L8: 33

Sheet Figure 4.11.
J2: Figure 4.11. Tariffs and Global Value Chain Participation
J3: (Value added-weighted average over countries and sectors; percentage points)
K6: Average GVC participation | L6: Average tariffs (right scale)
J7: 1995 | K7: 33.09 | L7: 5.46
J8: 1996 | K8: 33.93 | L8: 5.73
J9: 1997 | K9: 35.2 | L9: 5.37
J10: 1998 | K10: 35.9 | L10: 5.48
J11: 1999 | K11: 36.84 | L11: 4.96
J12: 2000 | K12: 39.93 | L12: 5.28
J13: 2001 | K13: 39.66 | L13: 5.29
J14: 2002 | K14: 39.13 | L14: 4.37
J15: 2003 | K15: 40.24 | L15: 4.62
J16: 2004 | K16: 41.83 | L16: 3.9
J17: 2005 | K17: 42.87 | L17: 3.65
J18: 2006 | K18: 44.83 | L18: 3.58
... J27: 2015 | K27: 41.87 | L27: 3.23

Sheet Figure 4.12.
J2: Figure 4.12. Illustration of the Effect of Tariff Changes on Real Value Added
J3: (Percent of GDP)
J5: 1. Change in Effect of a 1 Percentage Point Generalized Tariff Increase | Q5: 2. Effect of 1 Percentage Point Reciprocal Tariff Increase
Q6: between China and the United States
K8: Upstream tariff | L8: Domestic protection | M8: Downstream tariff | N8: Diversion tariff | O8: Total | R8: Upstream tariff | S8: Domestic protection | T8: Downstream tariff | U8: Diversion tariff | V8: Total
J9: CAN | K9: -0.00849 | L9: 0 | M9: -0.0069 | N9: 0.10155 | O9: 0.08616 | Q9: CAN | R9: -0.0662 | S9: 0 | T9: 0.01752 | U9: 0.00354 | V9: -0.0451
J10: CHN | K10: -0.0715 | L10: 0.00064 | M10: -0.1271 | N10: 0 | O10: -0.198 | Q10: CHN | R10: -0.1787 | S10: 0 | T10: -0.0839 | U10: -0.0032 | V10: -0.2658
J11: DEU | K11: -0.00365 | L11: 0 | M11: -0.0083 | N11: 0.03242 | O11: 0.02045 | Q11: DEU | R11: -0.2829 | S11: 0.00012 | T11: -0.2527 | U11: 0.05762 | V11: -0.4778
J12: FRA | K12: -0.0021 | L12: 0 | M12: -0.0025 | N12: 0.0144 | O12: 0.00986 | Q12: FRA | R12: -0.1112 | S12: 9.5e-05 | T12: -0.072 | U12: 0.0311 | V12: -0.1519
J13: GBR | K13: -0.0028 | L13: 0 | M13: -0.0031 | N13: 0.0206 | O13: 0.01473 | Q13: GBR | R13: -0.1322 | S13: 8e-05 | T13: -0.0814 | U13: 0.02422 | V13: -0.1893
J14: ITA | K14: -0.002 | L14: 0 | M14: -0.0032 | N14: 0.02369 | O14: 0.01849 | Q14: ITA | R14: -0.1236 | S14: 0.00016 | T14: -0.112 | U14: 0.04179 | V14: -0.1936
J15: JPN | K15: -0.0032 | L15: 0 | M15: -0.0114 | N15: 0.06106 | O15: 0.04652 | Q15: JPN | R15: -0.1918 | S15: 0 | T15: -0.1632 | U15: 0.02117 | V15: -0.3338
J16: KOR | K16: -0.0108 | L16: 0 | M16: -0.0376 | N16: 0.08425 | O16: 0.03588 | Q16: KOR | R16: -0.3585 | S16: 0 | T16: -0.324 | U16: 0.02996 | V16: -0.6525
J17: USA | K17: -0.0705 | L17: 0.00054 | M17: -0.0436 | N17: 0 | O17: -0.1135 | Q17: USA | R17: -0.0782 | S17: 0 | T17: -0.0623 | U17: 0.01365 | V17: -0.1268

Sheet Figure 4.13.
J2: Figure 4.13. Sectoral Effects from a 25 Percent Increase in Tariffs Affecting All US-China Trade: World Real Value Added
J3: (Contributions to total percent change from baseline)
K5: Electronics | L5: Other manufacturing | M5: Other sectors | N5: Primary | O5: Services
J6: Asia (excluding CHN) | K6: 0.187 | L6: 0.25 | M6: 0.022 | N6: -0.071 | O6: -0.016
J7: CHN | K7: -0.64 | L7: -1.398 | M7: -0.108 | N7: 0.264 | O7: 0.038
J8: Euro area | K8: 0.068 | L8: 0.143 | M8: 0.016 | N8: -0.014 | O8: -0.009
J9: USA NAFTA partners | K9: 0.111 | L9: 0.292 | M9: 0.027 | N9: -0.164 | O9: -0.007
J10: ROW | K10: 0.052 | L10: 0.176 | M10: 0.032 | N10: -0.027 | O10: -0.009
J11: USA | K11: -0.265 | L11: -0.042 | M11: -0.124 | N11: -0.075 | O11: 0.009
J12: World | K12: -0.488 | L12: -0.58 | M12: -0.135 | N12: -0.088 | O12: 0.007

Sheet Figure 4.1.1
J2: Figure 4.1.1. Gross versus Value Added Trade Balance
J3: (Billions of US dollars)
J5: 1. Bilateral Trade Balances: Top 10 Pairs, 2015 (Absolute values) | O5: 2. United States: Trade Balance, by Partners, 2015 | T5: 3. G20: Sectoral Trade Balances, 2015 | Z5: 4. United States: Sectoral Trade Balances, 2015
K7: Bilateral trade balances | L7: Bilateral trade balances value added | P7: Trade balance | Q7: Trade balance, value added | U7: Surplus value added trade balance | V7: Deficit value added trade balance | W7: Surplus trade balance | X7: Deficit trade balance | AA7: Trade balance | AB7: Trade balance, value added
J8: CHN-USA | K8: 251.4931 | L8: 220.801 | O8: CHN | P8: -251.49 | Q8: -216.12 | T8: Agriculture | U8: 378.6063 | V8: -801.7737 | W8: 504.0921 | X8: -995.9813 | Z8: Agriculture | AA8: -128.5223 | AB8: -187.5922
J9: TWN-CHN | K9: 96.9362 | L9: 48.358 | O9: MEX | P9: -79.01 | Q9: -39.28 | T9: Services | U9: 481.05448 | V9: -225.0635 | W9: 624.6577 | X9: -512.99611 | Z9: Services | AA9: 339.007 | AB9: 132.6777
J10: KOR-CHN | K10: 93.3172 | L10: 44.643 | O10: JPN | P10: -26.43 | Q10: -32.42 | T10: Non-manuf. | U10: 61.9019 | V10: -59.7604 | W10: 13.5146 | X10: -11.8913 | Z10: Non-manuf. | AA10: -6.1468 | AB10: -42.0951
J11: MEX-USA | K11: 79.0142 | L11: 40.468 | O11: IND | P11: -61.17 | Q11: -48.11 | T11: High-tech manuf. | U11: 599.4107 | V11: -482.272 | W11: 1187.943 | X11: -965.259 | Z11: High-tech manuf. | AA11: -417.6657 | AB11: -183.57
J12: CHN-MEX | K12: 66.49909 | L12: 33.999 | O12: ROW | P12: -91.6 | Q12: -173.78 | T12: Medium-tech manuf. | U12: 262.842 | V12: -174.247 | W12: 346.2618 | X12: -211.587 | Z12: Medium-tech manuf. | AA12: -62.4893 | AB12: -75.5057
J13: IND-USA | K13: 61.1661 | L13: 49.262 | O13: Total | P13: -509.71 | Q13: -509.71 | T13: Low-tech manuf. | U13: 240.1604 | V13: -260.034 | W13: 503.6726 | X13: -541.555 | Z13: Low-tech manuf. | AA13: -231.21401 | AB13: -133.9657
J14: DEU-USA | K14: 58.2134 | L14: 60.879 | T14: Manufacturing | U14: 977.1782 | V14: -791.318 | W14: 1652.644 | X14: -1333.17
J15: CHN-IND | K15: 53.5676 | L15: 41.571
J16: CHN-GBR | K16: 34.4615 | L16: 28.303
J17: DEU-CHN | K17: 33.8175 | L17: 31.3

Sheet Figure 4.2.1
J2: Figure 4.2.1. US–China Bilateral and Aggregate Trade Balances
J3: (Percent)
J5: 1. US–China Bilateral Trade Balance | O5: 2. US–China Bilateral Trade Balance
K6: Bilateral TB/GDP_USA | L6: Bilateral TB/(GDP_USA * GDP_CHN share) (right scale) | P6: Actual | Q6: Predicted
J7: 1995 | K7: -0.268 | L7: -11.284 | O7: 1995 | P7: -11.284192 | Q7: -6.8664892
J8: 1996 | K8: -0.336 | L8: -12.333 | O8: 1996 | P8: -12.33299 | Q8: -7.899003
J9: 1997 | K9: -0.445 | L9: -14.659 | O9: 1997 | P9: -14.65922 | Q9: -13.807319
J10: 1998 | K10: -0.464 | L10: -14.23 | O10: 1998 | P10: -14.22956 | Q10: -14.828657
J11: 1999 | K11: -0.476 | L11: -14.223 | O11: 1999 | P11: -14.223065 | Q11: -13.377215
J12: 2000 | K12: -0.543 | L12: -15.111 | O12: 2000 | P12: -15.1114 | Q12: -14.795716
J13: 2001 | K13: -0.505 | L13: -12.628 | O13: 2001 | P13: -12.628138 | Q13: -13.664166
J14: 2002 | K14: -0.7 | L14: -16.442 | O14: 2002 | P14: -16.441646 | Q14: -15.759475
J15: 2003 | K15: -0.853 | L15: -19.888 | O15: 2003 | P15: -19.888311 | Q15: -16.040931
J16: 2004 | K16: -1.038 | L16: -23.151 | O16: 2004 | P16: -23.15146 | Q16: -18.831505
J17: 2005 | K17: -1.286 | L17: -26.479 | O17: 2005 | P17: -26.478778 | Q17: -26.826654
J18: 2006 | K18: -1.498 | L18: -27.801 | O18: 2006 | P18: -27.800707 | Q18: -32.1815
... J26: 2014 | K26: -1.914 | L26: -14.324 | O26: 2014 | P26: -14.323997 | Q26: -13.24658

Sheet Figure 4.3.1
J2: Figure 4.3.1. Improvement in Bilateral Trade Deficits during Overall Trade Deficit Reversal Episodes
J3: (Percent)
K5: Deficit partners ranked by size of deficit (1-5) | L5: Deficit partners ranked by size of deficit (6-10)
J6: Mean | K6: 47.72745 | L6: 52.16535
J7: Median | K7: 41.15355 | L7: 38.96902
J8: 25th/75th percentile | K8: 25.38332 | L8: 13.39334
J9: 75th percentile | K9: 64.21505 | L9: 73.83082

Sheet Figure 4.4.1
J2: Figure 4.4.1. Macro Effects from a 25 Percent Increase in Tariffs Affecting All US–China Trade: Real GDP
J3: (Percentage point change from baseline)
K5: GIMF Year 1 | L5: GIMF LR | M5: GTAP | N5: CFRT
J6: World | K6: -0.11391 | L6: -0.1988079 | M6: -0.1 | N6: -0.1295
J7: China | K7: -1.22 | L7: -0.57 | M7: -0.56 | N7: -0.61
J8: USA | K8: -0.31 | L8: -0.49 | M8: -0.25 | N8: -0.31
J9: Asia | K9: 0.28 | L9: 0.01 | M9: 0.02 | N9: 0.1
J10: NAFTA | K10: 0.69 | L10: 0.04 | M10: 0.05 | N10: 0.23
J11: Euro area | K11: 0.17 | L11: -0.01 | M11: 0.01 | N11: 0.04
J12: ROW | K12: 0.12 | L12: -0.03 | M12: 0.03 | N12: 0.03

Sheet Figure 4.4.2
J2: Figure 4.4.2. Macro Effects from a 25 Percent Increase in Tariffs Affecting All US–China Trade: Real Exports
J3: (Percentage point change from baseline)
K5: GIMF Year 1 | L5: GIMF LR | M5: GTAP | N5: CFRT
J6: CHN | K6: -3.63 | L6: -4.57 | M6: -5.54 | N6: -5.19
J7: USA | K7: -4 | L7: -4.5 | M7: -6.25 | N7: -5.42
J8: Asia | K8: 0.82 | L8: 0.01 | M8: 0.07 | N8: 0.72
J9: JPN | M9: -0.12 | N9: 0.71
J10: KOR | M10: 0.01 | N10: 0.31
J11: VNM | M11: -0.34 | N11: 0.3
J12: THA | M12: -0.02 | N12: 0.53
J13: MYS | M13: 0.09 | N13: 0.49
J14: EA | K14: 0.63 | L14: 0.01 | M14: -0.09 | N14: 0.14
J15: DEU | M15: -0.04 | N15: 0.15
J16: NAFTA | K16: 1.75 | L16: 0.14 | M16: 0.51074896 | N16: 1.59
J17: CAN | M17: 0.46 | N17: 1.11
J18: MEX | M18: 0.58 | N18: 2.26
J19: ROW | K19: 0.45 | L19: -0.1 | M19: 0.06 | N19: 0.34

Sheet Figure 4.4.3
J2: Figure 4.4.3. US Imports of Electronics and Machinery before and after Tariffs

Sheet Figure 4.4.4.
J2: Figure 4.4.4. Mexico’s Imports of Intermediate Inputs for the Electronics and Manufacturing Sectors
J3: (Percent of GDP)
K5: Relative dot size | L5: Change in imports from China | M5: Change in imports from all partners
J6: Mining | K6: 6.186 | L6: 34.116 | M6: 6.299
J7: Food | K7: 1.677 | L7: 5.202 | M7: 0.108
J8: Textile | K8: 1.868 | L8: 2.206 | M8: 1.048
J9: Wood and paper | K9: 1.952 | L9: 6.683 | M9: 2.896
J10: Oil and chemicals | K10: 4.725 | L10: 22.198 | M10: 18.444
J11: Metals | K11: 2.649 | L11: 18.245 | M11: 25.198
J12: Transport | K12: 1.27 | L12: 11.142 | M12: 1.13
J13: Other manufacturing | K13: 0.703 | L13: -1.339 | M13: 2.123
J14: Agriculture | K14: 2.724 | L14: 16.68 | M14: 0.07
