Workbook
Name Chart: "Chart"
Name Heatmap: "Heatmap"
Name Histogram: "Histogram"
Name Map: "Map"
Name PieChart: "PieChart"
Name Series: "Series"
Name Table: "Table"

Sheet October 2022 WEO Chapter 1
I3: 44845
B5: International Monetary Fund
B6: World Economic Outlook
B21: October 2022
B23: Chapter 1. Global Prospects and Policies
B25: This data file includes the tables, charts, and underlying data from the Chapter 1 of the October 2022 World Economic Outlook. When using the data, please refer to the
B26: IMF, World Economic Outlook, October 2022.
B28: Disclaimer: Should there be any discrepancies with the print version, the latter represents the official version.
F30: Please submit any questions using | G30: WEO Data Question Form

Sheet Table of Contents
B5: International Monetary Fund
B6: World Economic Outlook
B9: ='October 2022 WEO Chapter 1'!B23:J23 -> Chapter 1. Global Prospects and Policies
B11: Table of Contents
B13: Figures
B14: ='Figure 1.1.'!J2 -> Figure 1.1. Leading Indicators Show Signs of Slowdown
B15: ='Figure 1.2.'!J2 -> Figure 1.2. Change in Monetary Policy Cycle among G20 Economies
B16: ='Figure 1.3.'!J2 -> Figure 1.3. EMDE Sovereign Spreads
B17: ='Figure 1.4.'!J2 -> Figure 1.4. Wholesale Food and Fuel Prices Expected to Moderate
B18: ='Figure 1.5.'!J2 -> Figure 1.5. Mean Land Temperature
B19: ='Figure 1.6.'!J2 -> Figure 1.6. Core Inflation and Its Distribution across Countries
B20: ='Figure 1.7.'!J2 -> Figure 1.7. Inflation Hits the Poorest Hardest
B21: ='Figure 1.8.'!J2 -> Figure 1.8. Rebalancing of Demand: Goods versus Services
B22: ='Figure 1.9.'!J2 -> Figure 1.9. Inflation Driven by Food and Fuel
B23: ='Figure 1.10.'!J2 -> Figure 1.10. Real Short-Term Rates Are Rising
B24: ='Figure 1.11.'!J2 -> Figure 1.11. A Transatlantic Divergence
B25: ='Figure 1.12.'!J2 -> Figure 1.12. Russian Pipeline Gas Supplies to EU by Route
B26: ='Figure 1.13.'!J2 -> Figure 1.13. New Confirmed COVID-19 Deaths
B27: ='Figure 1.14.'!J2 -> Figure 1.14. Countries in Contraction as a Share of Global GDP, 2022–23
B28: ='Figure 1.15.'!J2 -> Figure 1.15. Global Growth and Inflation Forecasts
B29: ='Figure 1.16.'!J2 -> Figure 1.16. The Shocks of 2022: Persistent Output Losses
B30: ='Figure 1.17.'!J2 -> Figure 1.17. Figure 1.17. Scarring from the Pandemic
B31: ='Figure 1.18.'!J2 -> Figure 1.18. Inflation Likely to Decline Next Year
B32: ='Figure 1.19.'!J2 -> Figure 1.19. Current Account and International Investment Positions
B33: ='Figure 1.20.'!J2 -> Figure 1.20. Corporate Talk of Key Macroeconomic Risks
B34: ='Figure 1.21.'!J2 -> Figure 1.21. Long-Term Inflation Expectations
B35: ='Figure 1.22.'!J2 -> Figure 1.22. Africa Least Vaccinated against COVID-19
B36: ='Figure 1.23.'!J2 -> Figure 1.23. Slowdown in China
B37: ='Figure 1.24.'!J2 -> Figure 1.24. Natural Rate of Interest, United States
B38: ='Figure 1.25.'!J2 -> Figure 1.25. Broad-Based Dollar Appreciation
B39: ='Figure 1.26.'!J2 -> Figure 1.26. Change in Cyclically Adjusted Primary Balance
B40: ='Figure 1.27.'!J2 -> Figure 1.27. Debt in Distress in Emerging Market and Developing Economies
B41: ='Figure 1.1.1.'!J2 -> Figure 1.1.1. Headline Inflation Forecasts
B42: ='Figure 1.1.2.'!J2 -> Figure 1.1.2. WEO Annual Headline Forecast Errors with Respect to Preceding January WEO Updates
B43: ='Figure 1.1.3.'!J2 -> Figure 1.1.3. Core Inflation and Output Forecast Errors
B44: ='Figure 1.1.4.'!J2 -> Figure 1.1.4. Impacts on Core Inflation Forecast Errors
B45: ='Figure 1.2.1.'!J2 -> Figure 1.2.1. Decomposition of GDP Deflator Growth by Income Components
B46: ='Figure 1.2.2.'!J2 -> Figure 1.2.2. Sales-Weighted Markups and CPI for Selected Advanced Economies
B47: ='Figure 1.2.3.'!J2 -> Figure 1.2.3. Coefficient of Production Costs Pass-Through to Prices
B48: ='Figure 1.3.1.'!J2 -> Figure 1.3.1. Distribution of World GDP Growth Forecast
...

Sheet Figure 1.1.
J2: Figure 1.1. Leading Indicators Show Signs of Slowdown
J3: (Indices)
J5: 1. Manufacturing PMIs | S5: 2. Consumer Sentiment | AA5: 3. Business Sentiment
J8: Data not available | T8: United States | U8: Euro area | V8: Japan | W8: United Kingdom | X8: Brazil | AA8: United States | AB8: Euro area | AC8: Japan | AD8: United Kingdom | AE8: Brazil
S9: 44378 | T9: 0.751 | U9: 1.492 | V9: -0.523 | W9: 0.384 | X9: -0.494 | Z9: 44378 | AA9: 0.723 | AB9: 1.74 | AC9: 0.803 | AD9: 0.136 | AE9: 0.588
S10: 44409 | T10: 0.191 | U10: 0.872 | V10: -0.705 | W10: 0.301 | X10: -0.503 | Z10: 44409 | AA10: 0.423 | AB10: 1.688 | AC10: 0.268 | AD10: 0.436 | AE10: 0.561
S11: 44440 | T11: 0.112 | U11: 1.126 | V11: -0.553 | W11: -0.113 | X11: -0.506 | Z11: 44440 | AA11: 0.28 | AB11: 1.699 | AC11: 0.69 | AD11: 0.937 | AE11: 0.472
S12: 44470 | T12: 0.131 | U12: 0.985 | V12: -0.357 | W12: -0.444 | X12: -0.705 | Z12: 44470 | AA12: 0.351 | AB12: 1.75 | AC12: 0.648 | AD12: 0.787 | AE12: 0.321
S13: 44501 | T13: 0.023 | U13: 0.703 | V13: -0.377 | W13: -0.196 | X13: -0.867 | Z13: 44501 | AA13: 0.15 | AB13: 1.688 | AC13: 0.55 | AD13: 0.637 | AE13: 0.179
S14: 44531 | T14: 0.199 | U14: 0.506 | V14: -0.408 | W14: -0.279 | X14: -0.863 | Z14: 44531 | AA14: -0.255 | AB14: 1.74 | AC14: 0.535 | AD14: 0.637 | AE14: 0.073
S15: 44562 | T15: -0.004 | U15: 0.731 | V15: -0.717 | W15: -0.61 | X15: -1.147 | Z15: 44562 | AA15: -0.253 | AB15: 1.668 | AC15: 0.296 | AD15: 0.587 | AE15: -0.105
S16: 44593 | T16: -0.268 | U16: 0.59 | V16: -1.083 | W16: -1.19 | X16: -1.52 | Z16: 44593 | AA16: 0.237 | AB16: 1.699 | AC16: -0.338 | AD16: 0.837 | AE16: -0.3
S17: 44621 | T17: -0.308 | U17: -0.368 | V17: -1.449 | W17: -1.604 | X17: -1.184 | Z17: 44621 | AA17: -0.131 | AB17: 1.233 | AC17: -0.267 | AD17: 0.286 | AE17: -0.486
S18: 44652 | T18: -0.125 | U18: -0.762 | V18: -1.425 | W18: -2.183 | X18: -0.994 | Z18: 44652 | AA18: -1.699 | AB18: 1.099 | AC18: -0.028 | AD18: 0.286 | AE18: -0.202
S19: 44682 | T19: -0.454 | U19: -0.593 | V19: -1.315 | W19: -2.349 | X19: -0.769 | Z19: 44682 | AA19: -1.842 | AB19: 0.944 | AC19: 0.55 | AD19: 0.537 | AE19: 0.064
S20: 44713 | T20: -0.81 | U20: -1.072 | V20: -1.548 | W20: -2.432 | X20: -0.749 | Z20: 44713 | AA20: -3.043 | AB20: 1.027 | AC20: -0.69 | AD20: 0.036 | AE20: 0.17
S21: 44743 | T21: -0.853 | U21: -1.439 | V21: -1.884 | W21: -2.432 | X21: -0.772 | Z21: 44743 | AA21: -2.83 | AB21: 0.655 | AC21: -0.253 | AD21: -0.115 | AE21: -0.06
S22: 44774 | T22: -0.459 | U22: -1.213 | V22: -1.572 | W22: -2.68 | Z22: 44774 | AA22: -2.764 | AB22: 0.427 | AC22: 0.211 | AD22: -0.565 | AE22: -0.034
L94: 43950 | M94: 1945.286 | N94: 1551.999 | O94: 1031.143 | P94: 61.857
L95: 43951 | M95: 1907.143 | N95: 1399.144 | O95: 980.429 | P95: 63.286
L96: 44336 | M96: 1908.714 | N96: 1368.284 | O96: 936.717 | P96: 71.143
L97: 43953 | M97: 1878.143 | N97: 1300.858 | O97: 920.715 | P97: 72.857
L98: 43954 | M98: 1861.286 | N98: 1227.43 | O98: 921.572 | P98: 89.571
L99: 43955 | M99: 1858.286 | N99: 1149.999 | O99: 879.859 | P99: 97.857
L100: 43956 | M100: 1847.286 | N100: 1127.287 | O100: 844.429 | P100: 100.857
L101: 43957 | M101: 1809.857 | N101: 1091.573 | O101: 806.143 | P101: 105
L102: 43958 | M102: 1788.143 | N102: 1117.858 | O102: 788.855 | P102: 108.857
L103: 43959 | M103: 1750.143 | N103: 995.572 | O103: 747.715 | P103: 111.143
L104: 43960 | M104: 1720.429 | N104: 965.145 | O104: 736.143 | P104: 117.286
L105: 43961 | M105: 1671.857 | N105: 936.429 | O105: 698.858 | P105: 104
... L605: 44461 | M605: 2047 | N605: 360.715 | O605: 286.715 | P605: 303.143

Sheet Figure 1.2.
J2: Figure 1.2. Change in Monetary Policy Cycle among G20 Economies
J3: (Number of increases and cuts in policy rates)
K8: Tightening AEs | L8: Easing AEs | M8: Tightening EMs | N8: Easing EMs
J9: 39113 | K9: 1 | L9: 0 | M9: 0 | N9: -1
J10: 39141 | K10: 0 | L10: 0 | M10: 1 | N10: 0
J11: 39171 | K11: 3 | L11: 0 | M11: 1 | N11: -1
J12: 39202 | K12: 0 | L12: 0 | M12: 0 | N12: -1
J13: 39233 | K13: 1 | L13: 0 | M13: 0 | N13: 0
J14: 39262 | K14: 3 | L14: 0 | M14: 1 | N14: -1
J15: 39294 | K15: 2 | L15: 0 | M15: 0 | N15: -1
J16: 39325 | K16: 1 | L16: 0 | M16: 1 | N16: 0
J17: 39353 | K17: 0 | L17: -1 | M17: 0 | N17: -1
J18: 39386 | K18: 0 | L18: -1 | M18: 1 | N18: 0
J19: 39416 | K19: 1 | L19: 0 | M19: 0 | N19: 0
J20: 39447 | K20: 0 | L20: -3 | M20: 1 | N20: 0
... J196: 44804 | K196: 3 | L196: 0 | M196: 5 | N196: -2

Sheet Figure 1.3.
J2: Figure 1.3. EMDE Sovereign Spreads
J3: (Basis points)
L8: Top whisker | M8: Upper quartile | N8: Median | O8: Lower quartile | P8: Bottom whisker
J9: EMDE Asia | K9: August 2021 | L9: 717.68 | M9: 717.68 | N9: 119.67 | O9: 80.07 | P9: 21.38
K10: August 2022 | L10: 912.41 | M10: 912.41 | N10: 137.55 | O10: 102.85 | P10: 18.23
J11: EMDE Europe | K11: August 2021 | L11: 685.73 | M11: 406.39 | N11: 187.28 | O11: 111.82 | P11: 47.7
K12: August 2022 | L12: 3405.54 | M12: 2044.24 | N12: 488.04 | O12: 224.66 | P12: 139.2
J13: LAC | K13: August 2021 | L13: 884.62 | M13: 547.11 | N13: 285.34 | O13: 181.84 | P13: 86.69
K14: August 2022 | L14: 1587.86 | M14: 1080.17 | N14: 400.22 | O14: 216.6 | P14: 121.89
J15: ME&CA | K15: August 2021 | L15: 1119.36 | M15: 545.27 | N15: 279.56 | O15: 109.62 | P15: 42.14
K16: August 2022 | L16: 1887.92 | M16: 968.35 | N16: 403.88 | O16: 186.7 | P16: 23.6
J17: SSA | K17: August 2021 | L17: 1008.18 | M17: 696.02 | N17: 520.23 | O17: 382.16 | P17: 261.01
K18: August 2022 | L18: 1188.57 | M18: 1188.57 | N18: 811.94 | O18: 657.45 | P18: 354.97

Sheet Figure 1.4.
J2: Figure 1.4. Wholesale Food and Fuel Prices Expected to Moderate
J3: (Index, January 2019 = 100)
K8: Natural gas index | L8: Brent crude oil | M8: Wheat | N8: Natural gas index—July 2022 WEO Update | O8: Brent crude oil—July 2022 WEO Update | P8: Wheat—July 2022 WEO Update
J9: 2019Q1 | K9: 100 | L9: 100 | M9: 100 | N9: 100 | O9: 100 | P9: 100
J10: 2019Q2 | K10: 76.27 | L10: 107.22 | M10: 92.61 | N10: 76.57 | O10: 108.01 | P10: 92.61
J11: 2019Q3 | K11: 66.89 | L11: 97.44 | M11: 86.55 | N11: 67.36 | O11: 97.77 | P11: 86.55
J12: 2019Q4 | K12: 77.6 | L12: 98.12 | M12: 89.6 | N12: 76.97 | O12: 99.03 | P12: 89.6
J13: 2020Q1 | K13: 56.99 | L13: 80.27 | M13: 98.13 | N13: 57.22 | O13: 79.86 | P13: 98.13
J14: 2020Q2 | K14: 39.85 | L14: 52.35 | M14: 98.71 | N14: 39.11 | O14: 49.67 | P14: 98.71
J15: 2020Q3 | K15: 56.27 | L15: 68.13 | M15: 103.32 | N15: 54.46 | O15: 67.52 | P15: 103.32
J16: 2020Q4 | K16: 98.22 | L16: 71.12 | M16: 118.87 | N16: 94 | O16: 70.36 | P16: 118.87
J17: 2021Q1 | K17: 119.76 | L17: 95.88 | M17: 133.39 | N17: 126.91 | O17: 95.72 | P17: 133.39
J18: 2021Q2 | K18: 132.68 | L18: 108.44 | M18: 142.52 | N18: 130.99 | O18: 108.46 | P18: 142.52
J19: 2021Q3 | K19: 232.95 | L19: 114.88 | M19: 148.37 | N19: 230.93 | O19: 115.38 | P19: 148.37
J20: 2021Q4 | K20: 403.62 | L20: 125.18 | M20: 176.09 | N20: 398.84 | O20: 125.77 | P20: 176.09
... J28: 2023Q4 | K28: 687.97 | L28: 135.59 | M28: 181.39 | N28: 331.95 | O28: 142.96 | P28: 206.2

Sheet Figure 1.5.
J2: Figure 1.5. Mean Land Temperature
J3: (Degrees Celsius, departures from 1960–91 normal)
K8: Country | L8: Temperature Deviation
J9: April 2022 | K9: Israel | L9: 2.547
K10: Armenia | L10: 2.673
K11: Kuwait | L11: 3.336
K12: Turkmenistan | L12: 3.451
K13: Saudi Arabia | L13: 3.664
K14: Kyrgyz Republic | L14: 3.756
K15: Pakistan | L15: 4.298
K16: Kazakhstan | L16: 4.402
K17: Jordan | L17: 4.73
K18: Uzbekistan | L18: 5.13
J20: May 2022 | K20: Ethiopia | L20: 2.816
K21: Tunisia | L21: 2.889
K22: Austria | L22: 2.954
K23: Croatia | L23: 3.067
K24: Bosnia and Herzegovina | L24: 3.314
K25: Portugal | L25: 3.376
K26: Slovenia | L26: 3.518 | P26: t
K27: Spain | L27: 3.552
K28: Morocco | L28: 3.637
K29: France | L29: 3.912

Sheet Figure 1.6.
J2: Figure 1.6. Core Inflation and Its Distribution across Countries
J3: (Annualized percent)
K8: Mean | L8: Median | M8: 75th percentile | N8: 25th percentile
J9: 2000M01 | K9: 3.504 | L9: 3.258 | M9: 5.621 | N9: 1.277
J10: 2000M02 | K10: 3.512 | L10: 2.584 | M10: 7.05 | N10: 0.204
J11: 2000M03 | K11: 1.48 | L11: 0.361 | M11: 2.674 | N11: -0.43
J12: 2000M04 | K12: 1.482 | L12: 0.808 | M12: 3.82 | N12: -0.38
J13: 2000M05 | K13: 2.499 | L13: 1.782 | M13: 3.643 | N13: 0.663
J14: 2000M06 | K14: 3.256 | L14: 2.651 | M14: 4.288 | N14: 1.487
J15: 2000M07 | K15: 3.593 | L15: 2.905 | M15: 5.241 | N15: 1.047
J16: 2000M08 | K16: 2.656 | L16: 2.37 | M16: 4.753 | N16: 0.028
J17: 2000M09 | K17: 2.847 | L17: 2.985 | M17: 4.921 | N17: 0.081
J18: 2000M10 | K18: 2.694 | L18: 2.053 | M18: 3.032 | N18: 1.306
J19: 2000M11 | K19: 3.233 | L19: 2.745 | M19: 3.777 | N19: 1.919
J20: 2000M12 | K20: -0.128 | L20: 1.897 | M20: 3.145 | N20: 1.187
... J279: 2022M07 | K279: 10.911 | L279: 6.731 | M279: 9.701 | N279: 3.577

Sheet Figure 1.7.
J2: Figure 1.7. Inflation Hits the Poorest Hardest
J3: (Percent, 2022)
K8: Import share of wheat consumption | L8: Wheat stores as a share of annual consumption
J9: Low-income developing countries | K9: 86.460675 | L9: 10.460384
J10: Afghanistan | K10: 43 | L10: 7.6
J11: Bangladesh | K11: 86.2 | L11: 24.9
J12: Benin | K12: 100 | L12: -
J13: Bhutan | K13: 90.9 | L13: -
J14: Burkina Faso | K14: 100 | L14: 1.7
J15: Cameroon | K15: 100 | L15: 0.5
J16: Chad | K16: 99.2 | L16: -
J17: Cote d'Ivoire | K17: 139.4 | L17: 39.4
J18: Eritrea | K18: 87.5 | L18: -
J19: Ethiopia | K19: 20.8 | L19: 13.5
J20: Ghana | K20: 108.8 | L20: 25.8
J21: Guinea | K21: 100 | L21: 16.2
J22: Haiti | K22: 102.2 | L22: 10.9
J23: Honduras | K23: 111.1 | L23: 7.2
J24: Kenya | K24: 89.8 | L24: 12.1
J25: Kyrgyzstan | K25: 26.1 | L25: 14.2
J26: Lesotho | K26: 144.6 | L26: -
J27: Liberia | K27: 100 | L27: -
J28: Madagascar | K28: 100 | L28: -
J29: Malawi | K29: 100 | L29: 10
J30: Mali | K30: 93.3 | L30: 4
J31: Mauritania | K31: 100 | L31: 8
J32: Moldova | K32: 9.1 | L32: 14.7
J33: Mozambique | K33: 100 | L33: 26.5
J34: Nepal | K34: 16.1 | L34: -
J35: Nicaragua | K35: 105.3 | L35: 18.9
J36: Niger | K36: 100 | L36: -
J37: Nigeria | K37: 108.3 | L37: 10.7
J38: Papua New Guinea | K38: 98.5 | L38: 18.8
J39: Rwanda | K39: 100 | L39: 32.1
J40: Senegal | K40: 108.3 | L40: 4.8
J41: Sierra Leone | K41: 100 | L41: -
J42: Somalia | K42: 100 | L42: -
J43: Sudan | K43: 73.1 | L43: 10.5
J44: Tajikistan | K44: 57.8 | L44: 15.8
J45: Tanzania | K45: 91.7 | L45: 5.4
...

Sheet Figure 1.8.
J2: Figure 1.8. Rebalancing of Demand: Goods versus Services
J3: (Percent deviation from pre–COVID-19 averages)
K8: Core goods: Advanced economies | L8: Core goods: Emerging markets | M8: Services: Advanced economies | N8: Services: Emerging markets
J9: 43496 | K9: 0.01376 | L9: 0.04996 | M9: 0.02205 | N9: 0.37534
J10: 43524 | K10: 0.01715 | L10: 0.12112 | M10: -0.0823 | N10: 0.31528
J11: 43555 | K11: -0.01866 | L11: 0.14391 | M11: -0.19095 | N11: 0.30193
J12: 43585 | K12: -0.02678 | L12: 0.07137 | M12: 0.12468 | N12: 0.41659
J13: 43616 | K13: 0.00153 | L13: 0.02935 | M13: -0.22327 | N13: 0.40363
J14: 43646 | K14: 0.08211 | L14: 0.30654 | M14: 0.00595 | N14: 0.29163
J15: 43677 | K15: 0.20817 | L15: 0.37367 | M15: -0.14986 | N15: 0.24482
J16: 43708 | K16: 0.42213 | L16: 0.47176 | M16: -0.07274 | N16: 0.23701
J17: 43738 | K17: 0.39378 | L17: 0.46046 | M17: -0.0227 | N17: -0.0175
J18: 43769 | K18: 0.36136 | L18: 0.31646 | M18: 0.0006 | N18: -0.1332
J19: 43799 | K19: 0.32239 | L19: 0.27694 | M19: 0.11613 | N19: -0.24324
J20: 43830 | K20: 0.26696 | L20: 0.07576 | M20: 0.08413 | N20: -0.34234
... J52: 44804 | K52: 5.17667 | L52: 8.80849 | M52: 2.42082 | N52: 3.31805

Sheet Figure 1.9.
J2: Figure 1.9. Inflation Driven by Food and Fuel
J3: (Annualized percent)
K8: Year | L8: Food | M8: Energy, transport, and housing | N8: Other | O8: Consumer price index, all items
J9: Sub-Saharan Africa | K9: 2020 | L9: 1.66297 | M9: 0.50724 | N9: 0.86208 | O9: 3.0323
K10: 2021 | L10: 3.41483 | M10: 1.05978 | N10: 2.11856 | O10: 6.59316
K11: 2022 | L11: 4.07053 | M11: 1.94831 | N11: 4.57096 | O11: 10.5898
J13: Asia and Pacific | K13: 2020 | L13: 0.9386 | M13: -0.27361 | N13: -0.24976 | O13: 0.41523
K14: 2021 | L14: 1.87967 | M14: 1.99097 | N14: 1.05383 | O14: 4.92447
K15: 2022 | L15: 1.27843 | M15: 3.63421 | N15: 1.82626 | O15: 6.7389
J17: Europe | K17: 2020 | L17: 0.20622 | M17: -0.3882 | N17: 0.39692 | O17: 0.21494
K18: 2021 | L18: 0.87934 | M18: 2.50908 | N18: 1.92279 | O18: 5.31121
K19: 2022 | L19: 4.15406 | M19: 5.59523 | N19: 5.56224 | O19: 15.31153
J21: Middle East and Central Asia | K21: 2020 | L21: 1.13167 | M21: 0.1694 | N21: 1.61288 | O21: 2.91394
K22: 2021 | L22: 1.94493 | M22: 1.03965 | N22: 3.32051 | O22: 6.30509
K23: 2022 | L23: 4.01587 | M23: 2.0975 | N23: 3.60201 | O23: 9.71538
J25: Western Hemisphere | K25: 2020 | L25: 1.23904 | M25: 0.06711 | N25: 1.60023 | O25: 2.90639
K26: 2021 | L26: 1.65313 | M26: 2.10808 | N26: 2.19281 | O26: 5.95401
K27: 2022 | L27: 3.42631 | M27: 2.42019 | N27: 4.28069 | O27: 10.1272

Sheet Figure 1.10.
J2: Figure 1.10. Real Short-Term Rates Are Rising
J3: (Percent)
J5: 1. Advanced Economies | Q5: 2. Emerging Market and Developing Economies
K8: United States | L8: Euro area | M8: Japan | N8: United Kingdom | O8: Canada | R8: Brazil | S8: China | T8: Russia | U8: South Africa
J9: 2019Q1 | K9: -0.14621 | L9: -1.78069 | M9: -0.83103 | N9: -0.87042 | O9: -0.12273 | Q9: 2019Q1 | R9: 2.9428 | S9: -0.85766 | T9: 2.77265 | U9: 2.67465
J10: 2019Q2 | K10: 0.80327 | L10: -1.60912 | M10: -0.51462 | N10: -0.58509 | O10: 0.57981 | Q10: 2019Q2 | R10: 3.83045 | S10: -0.57914 | T10: 2.50819 | U10: 3.29755
J11: 2019Q3 | K11: 0.44401 | L11: -1.24332 | M11: -0.17231 | N11: -0.48604 | O11: 0.96705 | Q11: 2019Q3 | R11: 4.56546 | S11: -0.05535 | T11: 2.28305 | U11: 3.10723
J12: 2019Q4 | K12: 0.48276 | L12: -0.87504 | M12: 0.22729 | N12: -0.48245 | O12: 0.61338 | Q12: 2019Q4 | R12: 3.88171 | S12: -0.05099 | T12: 1.52011 | U12: 3.08331
J13: 2020Q1 | K13: -1.075 | L13: -1.6821 | M13: -0.07365 | N13: -0.80787 | O13: -0.60925 | Q13: 2020Q1 | R13: 0.22135 | S13: 0.08335 | T13: 0.64239 | U13: 0.61831
J14: 2020Q2 | K14: -3.37198 | L14: -1.4136 | M14: 0.7725 | N14: -1.5408 | O14: -1.64723 | Q14: 2020Q2 | R14: -1.12796 | S14: -0.51388 | T14: -0.34343 | U14: 0.32092
J15: 2020Q3 | K15: -3.6966 | L15: -1.96933 | M15: 0.44081 | N15: -2.26536 | O15: -2.55459 | Q15: 2020Q3 | R15: -3.25229 | S15: -0.78106 | T15: -1.47548 | U15: 0.31615
J16: 2020Q4 | K16: -4.63808 | L16: -2.87168 | M16: 0.61372 | N16: -3.53457 | O16: -2.76258 | Q16: 2020Q4 | R16: -4.51946 | S16: -0.69506 | T16: -2.8637 | U16: 0.08623
J17: 2021Q1 | K17: -6.25363 | L17: -3.30953 | M17: 0.78762 | N17: -4.99658 | O17: -3.93175 | Q17: 2021Q1 | R17: -4.09155 | S17: -0.62733 | T17: -7.33518 | U17: 0.05288
J18: 2021Q2 | K18: -5.9744 | L18: -4.75725 | M18: -1.00174 | N18: -5.85625 | O18: -4.80874 | Q18: 2021Q2 | R18: -4.96703 | S18: -0.35106 | T18: -14.5511 | U18: -0.45726
J19: 2021Q3 | K19: -6.02458 | L19: -5.36647 | M19: -2.42141 | N19: -6.1403 | O19: -5.04263 | Q19: 2021Q3 | R19: -4.34712 | S19: -0.19766 | T19: -11.75 | U19: -0.96681
J20: 2021Q4 | K20: -5.81031 | L20: -5.50383 | M20: -2.61497 | N20: -6.9103 | O20: -5.37442 | Q20: 2021Q4 | R20: -2.88776 | S20: -0.65699 | T20: -9.75 | U20: -1.08341
... J24: 2022Q4 | K24: -1.08341 | L24: -3.58335 | M24: -1.30468 | N24: -3.5225 | O24: -1.80592 | Q24: 2022Q4 | R24: 8.28035 | S24: -1.54998 | T24: 2.35 | U24: -1.21653

Sheet Figure 1.11.
J2: Figure 1.11. A Transatlantic Divergence
J3: (Percent, unless noted otherwise)
J5: 1. Core Inflation | N5: 2. Unemployment Rate | R5: 3. Vacancies to Unemployment | V5: 4. Output Gap
R6: (Ratio)
K8: United States | L8: Euro area | O8: United States | P8: Euro Area | S8: United States | T8: Euro area | W8: United States | X8: Euro Area
J9: 2021Q1 | K9: 1.445 | L9: 1.182 | N9: 2021Q1 | O9: 6.2 | P9: 8.233 | R9: 2020Q4 | S9: 0.643 | T9: 0.168 | V9: 2021 | W9: 0.521 | X9: -1.918
J10: 2021Q2 | K10: 3.742 | L10: 0.914 | N10: 2021Q2 | O10: 5.9 | P10: 8.067 | R10: 2021Q1 | S10: 0.875 | T10: 0.181 | V10: 2022 | W10: 0.028 | X10: -0.252
J11: 2021Q3 | K11: 4.067 | L11: 1.469 | N11: 2021Q3 | O11: 5.1 | P11: 7.5 | R11: 2021Q2 | S11: 1.037 | T11: 0.213 | V11: 2023 | W11: -0.824 | X11: -0.782
J12: 2021Q4 | K12: 5.008 | L12: 2.372 | N12: 2021Q4 | O12: 4.233 | P12: 7.133 | R12: 2021Q3 | S12: 1.392 | T12: 0.255
J13: 2022Q1 | K13: 6.298 | L13: 2.81 | N13: 2022Q1 | O13: 3.8 | P13: 6.833 | R13: 2021Q4 | S13: 1.812 | T13: 0.297
J14: 2022Q2 | K14: 6.019 | L14: 4.257 | N14: 2022Q2 | O14: 3.6 | P14: 6.7 | R14: 2022Q1 | S14: 1.992 | T14: 0.339
J15: 2022Q3 | K15: 6.069 | L15: 4.866 | N15: 2022Q3 | O15: 3.6 | P15: 6.742 | R15: 2022Q2 | S15: 1.867
J16: 2022Q4 | K16: 5.854 | L16: 5.004 | N16: 2022Q4 | O16: 3.681 | P16: 6.987
J17: 2023Q1 | K17: 5.093 | L17: 4.665 | N17: 2023Q1 | O17: 4.136 | P17: 7.127
J18: 2023Q2 | K18: 4.175 | L18: 4.279 | N18: 2023Q2 | O18: 4.456 | P18: 7.031
J19: 2023Q3 | K19: 3.507 | L19: 3.884 | N19: 2023Q3 | O19: 4.707 | P19: 6.971
J20: 2023Q4 | K20: 3.007 | L20: 3.719 | N20: 2023Q4 | O20: 4.93 | P20: 6.994

Sheet Figure 1.12.
J2: Figure 1.12. Russian Pipeline Gas Supplies to EU by Route
J3: (Million cubic meters a day)
J8: Data not available

Sheet Figure 1.13.
J2: Figure 1.13. New Confirmed COVID-19 Deaths
J3: (Persons, seven-day moving average)
K8: Rest of the world | L8: United States | M8: Euro area | N8: Other AEs | O8: India | P8: EMDE Asia ex. IND | Q8: LAC | R8: Russia, Türkiye, South Africa
J9: 43891 | K9: 6.571 | L9: 0 | M9: 4.572 | N9: 2.142 | O9: 0 | P9: 61 | Q9: 0 | R9: 0
J10: 43892 | K10: 7.714 | L10: 0 | M10: 6.715 | N10: 3.571 | O10: 0 | P10: 45.571 | Q10: 0 | R10: 0
J11: 43893 | K11: 8.714 | L11: 0 | M11: 10.286 | N11: 3.143 | O11: 0 | P11: 40.286 | Q11: 0 | R11: 0
J12: 43894 | K12: 10.429 | L12: 0 | M12: 13.857 | N12: 4.143 | O12: 0 | P12: 38 | Q12: 0 | R12: 0
J13: 43895 | K13: 11.571 | L13: 1.714 | M13: 19.428 | N13: 4.286 | O13: 0 | P13: 38.429 | Q13: 0 | R13: 0
J14: 43896 | K14: 12.857 | L14: 2 | M14: 26.143 | N14: 5.715 | O14: 0 | P14: 36.429 | Q14: 0 | R14: 0
J15: 43897 | K15: 14.571 | L15: 2.286 | M15: 31.143 | N15: 5.286 | O15: 0 | P15: 33.714 | Q15: 0 | R15: 0
J16: 43898 | K16: 20 | L16: 2.857 | M16: 52.287 | N16: 6.572 | O16: 0 | P16: 32.429 | Q16: 0 | R16: 0
J17: 43899 | K17: 25.286 | L17: 2.286 | M17: 65.857 | N17: 6.285 | O17: 0 | P17: 29.714 | Q17: 0 | R17: 0
J18: 43900 | K18: 31.571 | L18: 3 | M18: 87.857 | N18: 7.429 | O18: 0 | P18: 27.286 | Q18: 0 | R18: 0
J19: 43901 | K19: 38.143 | L19: 3.143 | M19: 117.286 | N19: 9.143 | O19: 0 | P19: 25.286 | Q19: 0.286 | R19: 0
J20: 43902 | K20: 46.857 | L20: 4.429 | M20: 138.143 | N20: 12.572 | O20: 0 | P20: 22.429 | Q20: 0.429 | R20: 0
... J934: 44816 | K934: 91.57 | L934: 438.714 | M934: 180.858 | N934: 407.286 | O934: 22.143 | P934: 85.572 | Q934: 159.285 | R934: 123.285

Sheet Figure 1.14.
J2: Figure 1.14. Countries in Contraction as a Share of Global GDP, 2022–23
J3: (Percent)
J8: January 2022 Weo Updated | K8: April 2022 WEO | L8: July 2022 WEO Update | M8: October 2022 WEO
J9: 4.2 | K9: 4.9 | L9: 11.2 | M9: 34.3

Sheet Figure 1.15.
J2: Figure 1.15. Global Growth and Inflation Forecasts
J3: (Percent)
J5: 1. GDP Growth Rate | S5: 2. Inflation Rate
K8: October 2022 World Economic Outlook | O8: April 2022 World Economic Outlook | T8: October 2022 World Economic Outlook | X8: April 2022 World Economic Outlook
K9: World | L9: Advanced economies | M9: Emerging market and developing economies | O9: World | P9: Advanced Economies | Q9: Emerging Market and Developing Economies | T9: World | U9: Advanced economies | V9: Emerging market and developing economies | X9: World | Y9: Advanced Economies | Z9: Emerging Market and Developing Economies
J10: 2021 | K10: 6.021 | L10: 5.197 | M10: 6.617 | O10: 6.108 | P10: 5.186 | Q10: 6.777 | S10: 2021 | T10: 4.704 | U10: 3.105 | V10: 5.887 | X10: 4.708 | Y10: 3.099 | Z10: 5.903
J11: 2022 | K11: 3.192 | L11: 2.427 | M11: 3.738 | O11: 3.585 | P11: 3.259 | Q11: 3.821 | S11: 2022 | T11: 8.751 | U11: 7.223 | V11: 9.881 | X11: 7.399 | Y11: 5.685 | Z11: 8.683
J12: 2023 | K12: 2.655 | L12: 1.107 | M12: 3.734 | O12: 3.551 | P12: 2.358 | Q12: 4.397 | S12: 2023 | T12: 6.52 | U12: 4.377 | V12: 8.056 | X12: 4.847 | Y12: 2.536 | Z12: 6.533
J13: 2024 | K13: 3.183 | L13: 1.595 | M13: 4.262 | O13: 3.404 | P13: 1.698 | Q13: 4.581 | S13: 2024 | T13: 4.132 | U13: 2.382 | V13: 5.342 | X13: 3.761 | Y13: 1.966 | Z13: 5.027

Sheet Figure 1.16.
J2: Figure 1.16. The Shocks of 2022: Persistent Output Losses
J3: (Percentage point deviation from preshock growth forecast)
K8: 2022 | L8: 2026
J9: Total | K9: -1.257 | L9: -3.032
J10: United States | K10: -0.372 | L10: -0.679
J11: Euro area | K11: -0.105 | L11: -0.273
J12: Other AEs | K12: -0.145 | L12: -0.197
J13: China | K13: -0.294 | L13: -0.824
J14: India | K14: -0.16 | L14: -0.37
J15: Russia | K15: -0.189 | L15: -0.397
J16: Other EMDEs | K16: 0.004 | L16: -0.3

Sheet Figure 1.17.
J2: Figure 1.17. Figure 1.17. Scarring from the Pandemic
J3: (Percent deviation from pre-pandemic trend)
J5: 1. Output Losses Relative to Pre-Pandemic Trend, 2024 | N5: 2. Employment Losses Relative to Pre-Pandemic Trend, 2024
K8: October 2022 World Economic Outlook | L8: January 2022 World Economic Outlook Update | O8: October 2022 World Economic Outlook | P8: January 2022 World Economic Outlook Update
J9: EMDEs Asia ex. CHN | K9: -10.589 | L9: -8.856 | N9: World | O9: -2.21 | P9: -1.826
J10: EMDEs | K10: -6.23 | L10: -4.325 | N10: EMDEs | O10: -2.898 | P10: -2.578
J11: EMDEs Europe | K11: -4.559 | L11: 0.902 | N11: AEs ex. US | O11: 0.025 | P11: -0.022
J12: China | K12: -5.747 | L12: -2.946 | N12: US | O12: -2.47 | P12: -0.591
J13: LAC | K13: -4.78 | L13: -5.027
J14: World | K14: -4.621 | L14: -2.41
J15: SSA | K15: -4.765 | L15: -4.955
J16: US | K16: -2.556 | L16: 1.814
J17: ME&CA | K17: -2.292 | L17: -3.126
J18: AEs ex. US | K18: -1.954 | L18: -0.161

Sheet Figure 1.18.
J2: Figure 1.18. Inflation Likely to Decline Next Year
J3: (Percent)
L8: 2022 inflation forecast | M8: 2023 inflation forecast
J9: Advanced economies | K9: Estonia | L9: 21 | M9: 9.5
K10: Lithuania | L10: 17.607 | M10: 8.36
K11: Latvia | L11: 16.451 | M11: 7.977
K12: Czech Republic | L12: 16.343 | M12: 8.577
K13: Netherlands | L13: 11.979 | M13: 7.999
K14: Slovak Republic | L14: 11.941 | M14: 10.128
K15: Belgium | L15: 9.471 | M15: 4.914
K16: Greece | L16: 9.17 | M16: 3.199
K17: United Kingdom | L17: 9.119 | M17: 8.99
K18: Slovenia | L18: 8.921 | M18: 5.067
K19: Spain | L19: 8.833 | M19: 4.853
K20: Italy | L20: 8.744 | M20: 5.212
K21: Germany | L21: 8.455 | M21: 7.187
... K48: Hong Kong SAR | L48: 1.9 | M48: 2.4
J50: Emerging market and middle-income economies | K50: Turkmenistan | L50: 17.5 | M50: 10.5
K51: Belarus | L51: 16.508 | M51: 13.124
K52: Pakistan | L52: 16.044 | M52: 14.993
K53: Mongolia | L53: 14.831 | M53: 12.15
K54: Kazakhstan | L54: 13.969 | M54: 11.28
K55: Hungary | L55: 13.88 | M55: 13.316
K56: Poland | L56: 13.813 | M56: 14.292
K57: Russia | L57: 13.774 | M57: 5.041
K58: Romania | L58: 13.341 | M58: 10.999
K59: Montenegro, Rep. of | L59: 12.755 | M59: 9.2
K60: Bulgaria | L60: 12.4 | M60: 5.24
K61: Azerbaijan | L61: 12.241 | M61: 10.75
K62: Kosovo | L62: 12.003 | M62: 5.029
... K136: Nauru | L136: 2 | M136: 2
J138: Low-income developing countries | K138: Nigeria | L138: 18.914 | M138: 17.323
K139: Malawi | L139: 18.448 | M139: 16.509
K140: South Sudan | L140: 17.6 | M140: 21.679
K141: Burundi | L141: 17.344 | M141: 8.5
K142: Myanmar | L142: 15.453 | M142: 11.956
K143: São Tomé and Príncipe | L143: 15.046 | M143: 11.172
K144: Lao P.D.R. | L144: 15 | M144: 9
K145: Burkina Faso | L145: 14.2 | M145: 1.5
K146: Kyrgyz Republic | L146: 13.549 | M146: 12.404
...

Sheet Figure 1.19.
J2: Figure 1.19. Current Account and International Investment Positions
J3: (Percent of global GDP)
J5: 1. Global Current Account Balance | T5: 2. Global International Investment Position
K8: European creditors | L8: China | M8: Japan | N8: Oil exporters | O8: United States | P8: Euro area debtors | Q8: Others | R8: Discrepancy | U8: European creditors | V8: Japan | W8: China | X8: Oil exporters | Y8: United States | Z8: Euro area debtors | AA8: Others
J9: 2005 | K9: 0.706 | L9: 0.277 | M9: 0.356 | N9: 0.708 | O9: -1.567 | P9: -0.306 | Q9: -0.154 | R9: 0.116 | T9: 2005 | U9: 1.981 | V9: 3.186 | W9: 0.747 | X9: 0.086 | Y9: -3.886 | Z9: -2.804 | AA9: -3.206
J10: 2006 | K10: 0.822 | L10: 0.448 | M10: 0.337 | N10: 0.781 | O10: -1.577 | P10: -0.398 | Q10: -0.204 | R10: 0.353 | T10: 2006 | U10: 2.153 | V10: 3.546 | W10: 1.002 | X10: 0.284 | Y10: -3.491 | Z10: -3.479 | AA10: -2.794
J11: 2007 | K11: 0.794 | L11: 0.604 | M11: 0.363 | N11: 0.592 | O11: -1.26 | P11: -0.443 | Q11: -0.37 | R11: 0.372 | T11: 2007 | U11: 2.007 | V11: 3.813 | W11: 1.629 | X11: 0.775 | Y11: -2.188 | Z11: -4.161 | AA11: -4.012
J12: 2008 | K12: 0.648 | L12: 0.655 | M12: 0.222 | N12: 0.764 | O12: -1.086 | P12: -0.498 | Q12: -0.662 | R12: 0.14 | T12: 2008 | U12: 2.189 | V12: 3.856 | W12: 2.17 | X12: 1.686 | Y12: -6.226 | Z12: -3.874 | AA12: -1.754
J13: 2009 | K13: 0.632 | L13: 0.4 | M13: 0.239 | N13: 0.236 | O13: -0.625 | P13: -0.291 | Q13: -0.334 | R13: 0.266 | T13: 2009 | U13: 3.303 | V13: 4.928 | W13: 2.146 | X13: 1.387 | Y13: -4.322 | Z13: -4.745 | AA13: -5.07
J14: 2010 | K14: 0.689 | L14: 0.358 | M14: 0.332 | N14: 0.431 | O14: -0.65 | P14: -0.275 | Q14: -0.506 | R14: 0.435 | T14: 2010 | U14: 3.306 | V14: 4.614 | W14: 2.232 | X14: 1.23 | Y14: -3.777 | Z14: -3.769 | AA14: -5.47
J15: 2011 | K15: 0.639 | L15: 0.184 | M15: 0.176 | N15: 0.758 | O15: -0.617 | P15: -0.208 | Q15: -0.561 | R15: 0.424 | T15: 2011 | U15: 3.263 | V15: 4.627 | W15: 2.08 | X15: 1.489 | Y15: -6.038 | Z15: -3.397 | AA15: -4.681
J16: 2012 | K16: 0.693 | L16: 0.286 | M16: 0.079 | N16: 0.706 | O16: -0.556 | P16: -0.028 | Q16: -0.713 | R16: 0.493 | T16: 2012 | U16: 3.379 | V16: 4.762 | W16: 2.232 | X16: 1.581 | Y16: -6.077 | Z16: -3.475 | AA16: -6.069
J17: 2013 | K17: 0.68 | L17: 0.192 | M17: 0.059 | N17: 0.571 | O17: -0.439 | P17: 0.07 | Q17: -0.605 | R17: 0.51 | T17: 2013 | U17: 3.627 | V17: 4.071 | W17: 2.35 | X17: 1.624 | Y17: -7.036 | Z17: -3.616 | AA17: -4.92
J18: 2014 | K18: 0.671 | L18: 0.297 | M18: 0.046 | N18: 0.403 | O18: -0.466 | P18: 0.08 | Q18: -0.514 | R18: 0.487 | T18: 2014 | U18: 3.862 | V18: 3.705 | W18: 2.027 | X18: 1.765 | Y18: -8.84 | Z18: -3.359 | AA18: -4.469
J19: 2015 | K19: 0.654 | L19: 0.391 | M19: 0.182 | N19: -0.038 | O19: -0.545 | P19: 0.083 | Q19: -0.376 | R19: 0.263 | T19: 2015 | U19: 4.053 | V19: 3.581 | W19: 2.267 | X19: 1.654 | Y19: -10.128 | Z19: -3.34 | AA19: -2.625
J20: 2016 | K20: 0.628 | L20: 0.251 | M20: 0.26 | N20: -0.044 | O20: -0.52 | P20: 0.098 | Q20: -0.254 | R20: 0.354 | T20: 2016 | U20: 4.669 | V20: 3.807 | W20: 2.605 | X20: 1.353 | Y20: -10.836 | Z20: -2.937 | AA20: -1.529
... J31: 2027 | K31: 0.428 | L31: 0.112 | M31: 0.124 | N31: 0.15 | O31: -0.526 | P31: 0.09 | Q31: -0.272 | R31: 0.096 | T31: 2027 | U31: 7.036 | V31: 3.268 | W31: 2.589 | X31: 2.216 | Y31: -17.064 | Z31: -1.106 | AA31: -0.462

Sheet Figure 1.20.
J2: Figure 1.20. Corporate Talk of Key Macroeconomic Risks
J3: (Cumulative percent)
J5: 1. Advanced Economies | P5: 2. Emerging Market and Developing Economies
J8: Data not available | P8: Data not available

Sheet Figure 1.21.
J2: Figure 1.21. Long-Term Inflation Expectations
J3: (Percent, five years ahead)
J5: 1. United States | R5: 2. United Kingdom
J8: June 2021 | N8: June 2022 | R8: 2021Q2 | V8: 2022Q2
J9: Mean of distribution | K9: Density | L9: Five−year inflation expectations | N9: Mean of distribution | O9: Density | P9: Five−year inflation expectations | R9: Mean of distribution | S9: Density | T9: Five−year inflation expectations | V9: Mean of distribution | W9: Density | X9: Five−year inflation expectations
J10: 3.41547 | K10: 0.00305 | L10: -10 | N10: 3.916591 | O10: 0.00103 | P10: -10 | R10: 3.222412 | S10: 0.000463 | T10: -10 | V10: 3.996366 | W10: 2.39e-05 | X10: -10
K11: 0.00311 | L11: -9.94129 | O11: 0.00104 | P11: -9.94129 | S11: 0.000487 | T11: -9.9412916 | W11: 2.6e-05 | X11: -9.9412916
K12: 0.00317 | L12: -9.88258 | O12: 0.00106 | P12: -9.88258 | S12: 0.000513 | T12: -9.8825832 | W12: 2.82e-05 | X12: -9.8825832
K13: 0.00324 | L13: -9.82387 | O13: 0.00107 | P13: -9.82387 | S13: 0.000539 | T13: -9.8238748 | W13: 3.05e-05 | X13: -9.8238748
K14: 0.00331 | L14: -9.76517 | O14: 0.00109 | P14: -9.76517 | S14: 0.000566 | T14: -9.7651663 | W14: 3.31e-05 | X14: -9.7651663
K15: 0.00338 | L15: -9.70646 | O15: 0.00111 | P15: -9.70646 | S15: 0.000595 | T15: -9.7064579 | W15: 3.58e-05 | X15: -9.7064579
K16: 0.00345 | L16: -9.64775 | O16: 0.00112 | P16: -9.64775 | S16: 0.000624 | T16: -9.6477495 | W16: 3.86e-05 | X16: -9.6477495
K17: 0.00353 | L17: -9.58904 | O17: 0.00114 | P17: -9.58904 | S17: 0.000655 | T17: -9.5890411 | W17: 4.17e-05 | X17: -9.5890411
K18: 0.0036 | L18: -9.53033 | O18: 0.00115 | P18: -9.53033 | S18: 0.000687 | T18: -9.5303327 | W18: 4.49e-05 | X18: -9.5303327
K19: 0.00368 | L19: -9.47162 | O19: 0.00117 | P19: -9.47162 | S19: 0.00072 | T19: -9.4716243 | W19: 4.83e-05 | X19: -9.4716243
K20: 0.00376 | L20: -9.41292 | O20: 0.00119 | P20: -9.41292 | S20: 0.000755 | T20: -9.4129159 | W20: 5.2e-05 | X20: -9.4129159
K21: 0.00384 | L21: -9.35421 | O21: 0.0012 | P21: -9.35421 | S21: 0.00079 | T21: -9.3542074 | W21: 5.59e-05 | X21: -9.3542074
K22: 0.00392 | L22: -9.2955 | O22: 0.00122 | P22: -9.2955 | S22: 0.000828 | T22: -9.295499 | W22: 6e-05 | X22: -9.295499
... K521: 0.004122109 | L521: 20 | O521: 0.002562137 | P521: 20 | S521: 1.02e-05 | T521: 20 | W521: 1.53e-08 | X521: 20

Sheet Figure 1.22.
J2: Figure 1.22. Africa Least Vaccinated against COVID-19
J3: (Percent, unless noted otherwise)
K8: Total doses administered per 100 people | L8: Share of people with at least one dose | M8: Share of people who are fully vaccinated
J9: Africa | K9: 44.45 | L9: 28.03 | M9: 22.03
J10: Asia | K10: 183.15 | L10: 76.66 | M10: 71.85
J11: Europe | K11: 176.39 | L11: 69.18 | M11: 66.24
J12: North America | K12: 175.95 | L12: 74.76 | M12: 64.42
J13: Oceania | K13: 168.55 | L13: 65.28 | M13: 62.69
J14: South America | K14: 212.25 | L14: 85.44 | M14: 76.8

Sheet Figure 1.23.
J2: Figure 1.23. Slowdown in China
J5: 1. 2022 Growth Forecast | N5: 2. 2023 Growth Forecast | R5: 3. Real Estate Indicators
J6: (Percent) | N6: (Percent) | R6: (Index)
K8: Consensus Forecasts | L8: WEO | O8: Consensus Forecasts | P8: WEO
J9: 44197 | K9: Data not available | L9: 5.5801 | N9: 44197 | O9: Data not available | P9: 5.412 | R9: Data not available
J10: 44228 | N10: 44228
J11: 44256 | N11: 44256
J12: 44287 | L12: 5.5736 | N12: 44287 | P12: 5.439
J13: 44317 | N13: 44317
J14: 44348 | N14: 44348
J15: 44378 | L15: 5.7277 | N15: 44378 | P15: 5.437
J16: 44409 | N16: 44409
J17: 44440 | N17: 44440
J18: 44470 | L18: 5.6016 | N18: 44470 | P18: 5.277
J19: 44501 | N19: 44501
J20: 44531 | N20: 44531
J21: 44562 | L21: 4.7695 | N21: 44562 | P21: 5.246
J22: 44593 | N22: 44593
J23: 44621 | N23: 44621
J24: 44652 | L24: 4.3734 | N24: 44652 | P24: 5.074
J25: 44682 | N25: 44682
J26: 44713 | N26: 44713
J27: 44743 | L27: 3.2557 | N27: 44743 | P27: 4.57
J28: 44774 | N28: 44774
J29: 44805 | L29: 3.2052 | N29: 44805 | P29: 4.4414
J31: September 2022 WEO numbers are from October 2022 WEO publication

Sheet Figure 1.24.
J2: Figure 1.24. Natural Rate of Interest, United States
J3: (Percent)
K8: Natural rate of interest, Kalman filter estimate | L8: 95 percent confidence interval - bottom | M8: 95 percent confidence interval - top | N8: Real interest rate
J9: 1960Q1
J10: 1960Q2
J11: 1960Q3
J12: 1960Q4 | K12: 4.64267 | L12: 0.93176 | M12: 8.35357
J13: 1961Q1 | K13: 5.18174 | L13: 1.73108 | M13: 8.63239
J14: 1961Q2 | K14: 5.68068 | L14: 2.70419 | M14: 8.65717
J15: 1961Q3 | K15: 5.35377 | L15: 2.80003 | M15: 7.9075
J16: 1961Q4 | K16: 5.1943 | L16: 2.93129 | M16: 7.4573
J17: 1962Q1 | K17: 4.86906 | L17: 2.79457 | M17: 6.94355
J18: 1962Q2 | K18: 4.29858 | L18: 2.34611 | M18: 6.25104
J19: 1962Q3 | K19: 4.16425 | L19: 2.29108 | M19: 6.03742
J20: 1962Q4 | K20: 3.72449 | L20: 1.90239 | M20: 5.54659
J21: 1963Q1 | K21: 3.72428 | L21: 1.93398 | M21: 5.51458
J22: 1963Q2 | K22: 3.72219 | L22: 1.95013 | M22: 5.49425
J23: 1963Q3 | K23: 4.04327 | L23: 2.27968 | M23: 5.80686
... J94: 1981Q2 | K94: 2.35032 | L94: -0.27301 | M94: 4.97365
J95: 1981Q3 | K95: 2.90839 | L95: 0.28009 | M95: 5.53669 | N95: 9.6519
J96: 1981Q4 | K96: 1.97747 | L96: -0.65565 | M96: 4.61059 | N96: 5.831
J97: 1982Q1 | K97: 1.044 | L97: -1.5938 | M97: 3.6818 | N97: 8.1519
J98: 1982Q2 | K98: 1.29698 | L98: -1.34536 | M98: 3.93932 | N98: 8.7414
J99: 1982Q3 | K99: 1.3544 | L99: -1.29235 | M99: 4.00116 | N99: 5.6127
J100: 1982Q4 | K100: 0.57278 | L100: -2.07826 | M100: 3.22382 | N100: 4.0061
J101: 1983Q1 | K101: 0.45764 | L101: -2.19756 | M101: 3.11283 | N101: 4.7929
J102: 1983Q2 | K102: 1.28758 | L102: -1.37166 | M102: 3.94681 | N102: 4.6286
J103: 1983Q3 | K103: 1.49851 | L103: -1.16464 | M103: 4.16165 | N103: 5.06
J104: 1983Q4 | K104: 1.85296 | L104: -0.81399 | M104: 4.51991 | N104: 4.6719
J105: 1984Q1 | K105: 2.38649 | L105: -0.28415 | M105: 5.05712 | N105: 5.6967
J106: 1984Q2 | K106: 2.31085 | L106: -0.36337 | M106: 4.98507 | N106: 5.9163
... J258: 2022Q2 | K258: 1.67562 | L258: -1.12619 | M258: 4.47743 | N258: -3.896

Sheet Figure 1.25.
J2: Figure 1.25. Broad-Based Dollar Appreciation
J3: (Index, base year = 2010)
K8: Index
J9: 1980M1 | K9: 105.004
J10: 1980M2 | K10: 105.993
J11: 1980M3 | K11: 109.677
J12: 1980M4 | K12: 110.646
J13: 1980M5 | K13: 106.113
J14: 1980M6 | K14: 104.112
J15: 1980M7 | K15: 102.866
J16: 1980M8 | K16: 104.219
J17: 1980M9 | K17: 103.093
J18: 1980M10 | K18: 103.747
J19: 1980M11 | K19: 105.819
J20: 1980M12 | K20: 107.189
... J519: 2022M7 | K519: 128.04

Sheet Figure 1.26.
J2: Figure 1.26. Change in Cyclically Adjusted Primary Balance
J3: (Percentage points)
K8: United States | L8: Euro area | M8: Japan | N8: Other AEs | O8: China | P8: Other EMDEs
J9: 2019 | K9: -0.481 | L9: -0.568 | M9: -0.241 | N9: -0.831 | O9: -1.567 | P9: -0.308
J10: 2020 | K10: -5.437 | L10: -3.841 | M10: -5.626 | N10: -6.439 | O10: -2.358 | P10: -3.458
J11: 2021 | K11: 1.819 | L11: 0.51 | M11: 1.817 | N11: 3.382 | O11: 2.576 | P11: 2.124
J12: 2022 | K12: 4.787 | L12: 0.414 | M12: -1.286 | N12: 2.026 | O12: -2.385 | P12: -0.237
J13: 2023 | K13: -0.953 | L13: 0.668 | M13: 3.918 | N13: 1.255 | O13: 1.6 | P13: 0.447

Sheet Figure 1.27.
J2: Figure 1.27. Debt in Distress in Emerging Market and Developing Economies
J3: (Percent)
J5: 1. Weighted Average Debt-to-GDP Ratio | M5: 2. Country Share of World GDP | P5: 3. Debt in Percent of EMDEs’ GDP | S5: 4. Debt in Percent of EMDEs’ Total Debt
J8: Distressed | K8: 44.212 | M8: Distressed | N8: 3.768 | P8: Distressed | Q8: 3.734 | S8: Distressed | T8: 5.776
J9: Stressed | K9: 57.252 | M9: Stressed | N9: 1.58 | P9: Stressed | Q9: 2.028 | S9: Stressed | T9: 3.137

Sheet Figure 1.1.1.
J2: Figure 1.1.1. Headline Inflation Forecasts
J3: (Percent)
J5: 1. Advanced Economies | T5: 2. Emerging Market and Developing Economies
K8: Jan. 2021 WEO Update | L8: Apr. 2021 WEO | M8: Jul. 2021 WEO Update | N8: Oct. 2021 WEO | O8: Jan. 2022 WEO Update | P8: Apr. 2022 WEO | Q8: Jul. 2022 WEO Update | R8: Oct. 2022 WEO | U8: Jan. 2021 WEO Update | V8: Apr. 2021 WEO | W8: Jul. 2021 WEO Update | X8: Oct. 2021 WEO | Y8: Jan. 2022 WEO Update | Z8: Apr. 2022 WEO | AA8: Jul. 2022 WEO Update | AB8: Oct. 2022 WEO
J9: 2020Q1 | K9: 1.5 | L9: 1.5 | M9: 1.5 | N9: 1.5 | O9: 1.5 | P9: 1.5 | Q9: 1.5 | R9: 1.5 | T9: 2020Q1 | U9: 5.5 | V9: 5.4 | W9: 5.5 | X9: 5.5 | Y9: 5.5 | Z9: 5.5 | AA9: 5.6 | AB9: 5.6
J10: 2020Q2 | K10: 0.3 | L10: 0.3 | M10: 0.3 | N10: 0.3 | O10: 0.3 | P10: 0.3 | Q10: 0.3 | R10: 0.3 | T10: 2020Q2 | U10: 4.2 | V10: 4.3 | W10: 4.3 | X10: 4.3 | Y10: 4.3 | Z10: 4.2 | AA10: 4.3 | AB10: 4.3
J11: 2020Q3 | K11: 0.6 | L11: 0.6 | M11: 0.6 | N11: 0.6 | O11: 0.6 | P11: 0.6 | Q11: 0.6 | R11: 0.6 | T11: 2020Q3 | U11: 4.1 | V11: 4.1 | W11: 4.1 | X11: 4.2 | Y11: 4.2 | Z11: 4.2 | AA11: 4.2 | AB11: 4.2
J12: 2020Q4 | K12: 0.5 | L12: 0.4 | M12: 0.4 | N12: 0.4 | O12: 0.4 | P12: 0.4 | Q12: 0.4 | R12: 0.4 | T12: 2020Q4 | U12: 3.2 | V12: 3.2 | W12: 3.2 | X12: 3.2 | Y12: 3.2 | Z12: 3.3 | AA12: 3.3 | AB12: 3.3
J13: 2021Q1 | K13: 0.7 | L13: 1 | M13: 1.2 | N13: 1.2 | O13: 1.2 | P13: 1.2 | Q13: 1.2 | R13: 1.2 | T13: 2021Q1 | U13: 2.8 | V13: 3.4 | W13: 3.6 | X13: 3.7 | Y13: 3.7 | Z13: 3.7 | AA13: 3.8 | AB13: 3.8
J14: 2021Q2 | K14: 1.7 | L14: 1.8 | M14: 2.7 | N14: 2.9 | O14: 2.9 | P14: 2.9 | Q14: 2.9 | R14: 2.9 | T14: 2021Q2 | U14: 3.5 | V14: 4.1 | W14: 4.8 | X14: 4.9 | Y14: 4.9 | Z14: 4.8 | AA14: 4.9 | AB14: 4.9
J15: 2021Q3 | K15: 1.4 | L15: 1.7 | M15: 2.8 | N15: 3.3 | O15: 3.4 | P15: 3.5 | Q15: 3.5 | R15: 3.5 | T15: 2021Q3 | U15: 3.7 | V15: 4.3 | W15: 5 | X15: 5.1 | Y15: 5.1 | Z15: 4.8 | AA15: 4.9 | AB15: 4.9
J16: 2021Q4 | K16: 1.5 | L16: 1.9 | M16: 3 | N16: 3.6 | O16: 4.8 | P16: 4.9 | Q16: 4.9 | R16: 4.9 | T16: 2021Q4 | U16: 3.8 | V16: 4.4 | W16: 5.1 | X16: 5.2 | Y16: 5.9 | Z16: 6 | AA16: 6.1 | AB16: 6.2
J17: 2022Q1 | K17: 1.4 | L17: 1.6 | M17: 2.6 | N17: 3.1 | O17: 4.8 | P17: 5.8 | Q17: 6 | R17: 6.1 | T17: 2022Q1 | U17: 4 | V17: 4.1 | W17: 4.7 | X17: 4.8 | Y17: 5.9 | Z17: 7.4 | AA17: 7.8 | AB17: 7.6
J18: 2022Q2 | K18: 1.5 | L18: 1.7 | M18: 2.1 | N18: 2.5 | O18: 4.4 | P18: 6.4 | Q18: 7.1 | R18: 7.4 | T18: 2022Q2 | U18: 3.8 | V18: 4 | W18: 4.3 | X18: 4.4 | Y18: 5.6 | Z18: 9 | AA18: 9.8 | AB18: 10.1
J19: 2022Q3 | K19: 1.5 | L19: 1.7 | M19: 1.9 | N19: 1.9 | O19: 3.8 | P19: 5.8 | Q19: 7.1 | R19: 7.9 | T19: 2022Q3 | U19: 3.6 | V19: 3.7 | W19: 4 | X19: 4.3 | Y19: 5.5 | Z19: 9.5 | AA19: 10.6 | AB19: 11
J20: 2022Q4 | K20: 1.6 | L20: 1.7 | M20: 1.9 | N20: 1.9 | O20: 2.8 | P20: 4.8 | Q20: 6.3 | R20: 7.5 | T20: 2022Q4 | U20: 3.7 | V20: 3.8 | W20: 4.1 | X20: 4.3 | Y20: 5.1 | Z20: 8.8 | AA20: 10 | AB20: 10.9
J21: 2023Q1 | O21: 2.3 | P21: 3.5 | Q21: 4.9 | R21: 6.2 | T21: 2023Q1 | Y21: 4.7 | Z21: 7.4 | AA21: 8.7 | AB21: 9.7
J22: 2023Q2 | O22: 2.1 | P22: 2.3 | Q22: 3.4 | R22: 4.6 | T22: 2023Q2 | Y22: 4.3 | Z22: 6.3 | AA22: 6.8 | AB22: 7.9
J23: 2023Q3 | O23: 2 | P23: 2.2 | Q23: 2.7 | R23: 3.7 | T23: 2023Q3 | Y23: 4.2 | Z23: 5.8 | AA23: 6.1 | AB23: 7
J24: 2023Q4 | O24: 2 | P24: 2.2 | Q24: 2.3 | R24: 3.1 | T24: 2023Q4 | Y24: 4.3 | Z24: 5.3 | AA24: 5.7 | AB24: 6.1

Sheet Figure 1.1.2.
J2: Figure 1.1.2. WEO Annual Headline Forecast Errors with Respect to Preceding January WEO Updates
J3: (Percentage points)
K8: 2010–19 | L8: 2021 | M8: 2022
J9: Emerging Europe | K9: 0.14 | L9: 3.44 | M9: 7.81
J10: Advanced Europe | K10: 0 | L10: 1.52 | M10: 4.03
J11: World | K11: -0.12 | L11: 1.7 | M11: 3.22
J12: LAC | K12: 0.22 | L12: 2.53 | M12: 2.97
J13: AEs | K13: -0.03 | L13: 1.77 | M13: 2.69
J14: SSA | K14: -0.13 | L14: 1.3 | M14: 2.57
J15: LIDCs | K15: -0.13 | L15: 0.16 | M15: 2.05
J16: EMMIEs | K16: -0.28 | L16: 1.19 | M16: 1.98
J17: ME&CA | K17: -0.88 | L17: 0.07 | M17: 1.84
J18: US | K18: 0.1 | L18: 2.54 | M18: 1.82
J19: Dev. Asia ex. China | K19: -0.48 | L19: 0.33 | M19: 1.57
J20: China | K20: -0.28 | L20: 0.52 | M20: 0.34

Sheet Figure 1.1.3.
J2: Figure 1.1.3. Core Inflation and Output Forecast Errors
J3: (Percentage points)
J5: 1. 2021 | T5: 2. 2022
J8: 2021 Forecast Error | O8: Confidence interval shade | T8: 2022 Forecast Error | Y8: Confidence interval shade
K9: Output growth forecast error | L9: Core inflation forecast error | M9: PPP-GDP | O9: X | P9: Fit | Q9: Upper | R9: Lower | U9: Output growth forecast error | V9: Core inflation forecast error | W9: PPP-GDP | Y9: X | Z9: Fit | AA9: Upper | AB9: Lower
J10: United States | K10: 0.556 | L10: 1.532 | M10: 22416.932 | O10: -4.12 | P10: -1.048 | Q10: -0.178 | R10: -1.917 | T10: United States | U10: 0.7984 | V10: -1.730929 | W10: 24979.546 | Y10: -3.32 | Z10: 0.22 | AA10: 0.994881 | AB10: -0.54773
J11: United Kingdom | K11: 2.99 | L11: 1.012 | M11: 3143.666 | O11: -3.12 | P11: -0.649 | Q11: -0.026 | R11: -1.272 | T11: United Kingdom | U11: 1.917982 | V11: -1.449744 | W11: 3705.3424 | Y11: -2.82 | Z11: 0.35 | AA11: 0.921518 | AB11: -0.21227
J12: Austria | K12: 1.306 | L12: 0.715 | M12: 512.266 | O12: -2.12 | P12: -0.25 | Q12: 0.199 | R12: -0.7 | T12: Austria | U12: 1.654499 | V12: -0.435023 | W12: 582.80092 | Y12: -2.32 | Z12: 0.49 | AA12: 0.910066 | AB12: 0.061282
J13: Belgium | K13: 1.923 | L13: 0.003 | M13: 619.076 | O13: -1.12 | P13: 0.148 | Q13: 0.49 | R13: -0.194 | T13: Belgium | U13: 1.017301 | V13: -0.381968 | W13: 705.21135 | Y13: -1.82 | Z13: 0.62 | AA13: 0.954524 | AB13: 0.278924
J14: Denmark | K14: 1.128 | L14: 0.186 | M14: 360.427 | O14: -0.12 | P14: 0.547 | Q14: 0.838 | R14: 0.255 | T14: Denmark | U14: 0.35 | V14: -0.7 | W14: 400.6982 | Y14: -1.32 | Z14: 0.75 | AA14: 1.048892 | AB14: 0.446655
J15: France | K15: 1.245 | L15: 0.439 | M15: 3191.986 | O15: 0.88 | P15: 0.945 | Q15: 1.238 | R15: 0.653 | T15: France | U15: 1.629707 | V15: -1.199225 | W15: 3625.8639 | Y15: -0.82 | Z15: 0.88 | AA15: 1.187171 | AB15: 0.570476
J16: Germany | K16: -0.567 | L16: 1.122 | M16: 4712.756 | O16: 1.88 | P16: 1.344 | Q16: 1.681 | R16: 1.007 | T16: Germany | U16: 1.687734 | V16: -2.526501 | W16: 5260.8388 | Y16: -0.32 | Z16: 1.01 | AA16: 1.36336 | AB16: 0.656387
J17: Italy | K17: 3.684 | L17: 0.17 | M17: 2570.503 | O17: 2.88 | P17: 1.743 | Q17: 2.16 | R17: 1.325 | T17: Italy | U17: 1.795638 | V17: -0.81615 | W17: 2953.8607 | Y17: 0.18 | Z17: 1.14 | AA17: 1.57146 | AB17: 0.710387
J18: Luxembourg | K18: 1.031 | L18: -0.082 | M18: 75.98 | O18: 3.88 | P18: 2.141 | Q18: 2.669 | R18: 1.613 | T18: Luxembourg | U18: 1.097084 | V18: -1.988817 | W18: 90.537609 | Y18: 0.68 | Z18: 1.27 | AA18: 1.80547 | AB18: 0.738477
J19: Netherlands | K19: 1.851 | L19: 0.408 | M19: 1046.618 | O19: 4.88 | P19: 2.54 | Q19: 3.2 | R19: 1.879 | T19: Netherlands | U19: 1.308285 | V19: -0.753416 | W19: 1179.727 | Y19: 1.18 | Z19: 1.4 | AA19: 2.059391 | AB19: 0.746657
J20: Norway | K20: 0.476 | L20: -0.815 | M20: 370.283 | O20: 5.88 | P20: 2.938 | Q20: 3.746 | R20: 2.131 | T20: Norway | U20: 0.5 | V20: -0.074384 | W20: 413.72752 | Y20: 1.68 | Z20: 1.53 | AA20: 2.327222 | AB20: 0.740926
J21: Sweden | K21: 1.903 | L21: 0.331 | M21: 583.959 | O21: 6.88 | P21: 3.337 | Q21: 4.299 | R21: 2.375 | T21: Sweden | U21: 1.073994 | V21: -0.431203 | W21: 661.93588 | Y21: 2.18 | Z21: 1.67 | AA21: 2.602963 | AB21: 0.727284
J22: Switzerland | K22: 0.425 | L22: -0.184 | M22: 655.94 | O22: 7.88 | P22: 3.736 | Q22: 4.853 | R22: 2.618 | T22: Switzerland | U22: 1.2 | V22: -0.401838 | W22: 729.24923 | Y22: 2.68 | Z22: 1.8 | AA22: 2.880615 | AB22: 0.711732
J23: Canada | K23: 0.923 | L23: 1.705 | M23: 1949.032 | O23: 8.88 | P23: 4.134 | Q23: 5.4 | R23: 2.868 | T23: Canada | U23: 1.416919 | V23: -0.646387 | W23: 2205.7784
J24: Japan | K24: -1.454 | L24: -0.298 | M24: 5558.897 | O24: 9.88 | P24: 4.533 | Q24: 5.933 | R24: 3.132 | T24: Japan | U24: 0.629979 | V24: -1.630135 | W24: 6060.6312
J25: Finland | K25: -0.543 | L25: 0.637 | M25: 286.898 | T25: Finland | U25: 0.45447 | V25: -0.9751 | W25: 317.85059
J26: Greece | K26: 2.672 | L26: 0.275 | M26: 333.482 | T26: Greece | U26: 1.521858 | V26: -0.699548 | W26: 373.95589
J27: Iceland | K27: 0.436 | L27: 1.01 | M27: 21.017 | T27: Iceland | U27: 3.15478 | V27: -0.583718 | W27: 24.361093
J28: Ireland | K28: 8.965 | L28: 1.107 | M28: 500.908 | T28: Ireland | U28: 3.052972 | V28: 1.166719 | W28: 635.54036
J29: Malta | K29: 5.77 | L29: -0.372 | M29: 22.96 | T29: Malta | U29: 2.893762 | V29: 0.327855 | W29: 27.528584
J30: Portugal | K30: 0.884 | L30: -0.355 | M30: 366.126 | T30: Portugal | U30: 3.475976 | V30: 1.6 | W30: 417.08143
J31: Spain | K31: -0.746 | L31: 0.138 | M31: 1945.107 | T31: Spain | U31: 2.554699 | V31: -1.841228 | W31: 2187.6153
J32: Türkiye | K32: 4.983 | L32: 7.393 | M32: 2732.332 | T32: Australia | U32: 2.618003 | V32: -0.29204 | W32: 1571.1194
J33: Australia | K33: 1.361 | L33: 1.567 | M33: 1394.033 | T33: New Zealand | U33: 2.878327 | V33: -0.606216 | W33: 255.09284
J34: New Zealand | K34: 2.158 | L34: 3.049 | M34: 233.279 | T34: South Africa | U34: 0.322943 | V34: 0.42274 | W34: 919.20683
J35: South Africa | K35: 2.066 | L35: -0.51 | M35: 746.582 | T35: Brazil | U35: 2.161102 | V35: 1.477735 | W35: 3602.6965
J36: Brazil | K36: 1.017 | L36: 2.072 | M36: 3309.231 | T36: Chile | U36: 0.879878 | V36: -0.089405 | W36: 564.56574
... J99: Romania | K99: 1.307 | L99: 2.429 | M99: 621.247 | T99: North Macedonia | U99: 1.026308 | V99: -1 | W99: 40.921097
T100: Poland | U100: 3.26589 | V100: -0.060148 | W100: 1558.8003
T101: Romania | U101: 6.110089 | V101: -0.830094 | W101: 720.15694

Sheet Figure 1.1.4.
J2: Figure 1.1.4. Impacts on Core Inflation Forecast Errors
J3: (Percent)
J5: 1. Core Inflation Forecast Errors versus COVID-19 Fiscal Impulse, 2021 | O5: 2. Core Inflation Forecast Errors versus Labor Market Tightness, 2021 | S5: 3. Core Inflation Forecast Errors versus Relative Goods Inflation, 2021
L8: Core inflation forecast error | M8: Fiscal impulse (percent of GDP) | P8: Core inflation forecast error | Q8: Vacancies/unemployment, 2021 versus 2020 | T8: Core inflation forecast error | U8: Ratio of year-over-year core goods to services inflation in 2021
J9: Advanced economies | K9: United States | L9: 1.531718 | M9: 16.719 | O9: United States | P9: 1.5317 | Q9: 2.0786 | S9: United States | T9: 1.5317 | U9: 2.4191
K10: United Kingdom | L10: 1.011679 | M10: 16.258 | O10: United Kingdom | P10: 1.0117 | Q10: 1.7923 | S10: United Kingdom | T10: 1.0117 | U10: 1.122
K11: Austria | L11: 0.714597 | M11: 8.555 | O11: Austria | P11: 0.7146 | Q11: 1.3787 | S11: France | T11: 0.4394 | U11: 0.5597
K12: Belgium | L12: 0.002524 | M12: 7.22 | O12: Belgium | P12: 0.0025 | Q12: 1.2701 | S12: Germany | T12: 1.1215 | U12: 1.302
K13: Denmark | L13: 0.18582 | M13: 1.773 | O13: Germany | P13: 1.1215 | Q13: 1.2964 | S13: Italy | T13: 0.1703 | U13: 0.8025
K14: France | L14: 0.439393 | M14: 7.71 | O14: Luxembourg | P14: -0.0824 | Q14: 1.6467 | S14: Canada | T14: 1.7051 | U14: 1.1546
K15: Germany | L15: 1.121515 | M15: 11.034 | O15: Netherlands | P15: 0.408 | Q15: 1.8021 | S15: Japan | T15: -0.298 | U15: -0.1682
K16: Italy | L16: 0.170341 | M16: 6.825 | O16: Norway | P16: -0.8153 | Q16: 1.4053 | S16: Spain | T16: 0.1375 | U16: 1.1541
K17: Luxembourg | L17: -0.08237 | M17: 4.159 | O17: Sweden | P17: 0.3315 | Q17: 1.3072 | S17: Australia | T17: 1.5669 | U17: 0.8184
K18: Netherlands | L18: 0.407964 | M18: 4.519 | O18: Canada | P18: 1.7051 | Q18: 1.9113 | S18: South Africa | T18: -0.5102 | U18: 0.635
K19: Norway | L19: -0.81532 | M19: 4.237 | O19: Japan | P19: -0.298 | Q19: 0.9921 | S19: Brazil | T19: 2.0725 | U19: 2.3925
K20: Sweden | L20: 0.33148 | M20: 4.201 | O20: Finland | P20: 0.6373 | Q20: 1.3196 | S20: Chile | T20: 1.2396 | U20: 2.0255
K21: Switzerland | L21: -0.18405 | M21: 5.288 | O21: Greece | P21: 0.2746 | Q21: 1.5895 | S21: Mexico | T21: 1.3549 | U21: 1.7934
... K25: Greece | L25: 0.274648 | M25: 11.029 | O25: Spain | P25: 0.1375 | Q25: 1.3562 | S25: Russia | T25: 3.1904 | U25: 1.8814
K26: Iceland | L26: 1.009773 | M26: 4.34 | O26: Australia | P26: 1.5669 | Q26: 2.1294
K27: Ireland | L27: 1.10748 | M27: 5.387 | O27: Cyprus | P27: 0.6585 | Q27: 1.3286
K28: Malta | L28: -0.37221 | M28: 6.571 | O28: Czech Republic | P28: 1.0009 | Q28: 0.8392
K29: Portugal | L29: -0.35478 | M29: 4.726 | O29: Slovak Republic | P29: 2.1253 | Q29: 1.0628
K30: Spain | L30: 0.137505 | M30: 4.13 | O30: Latvia | P30: 0.8617 | Q30: 1.4025
K31: Australia | L31: 1.566868 | M31: 16.178 | O31: Lithuania | P31: 1.5273 | Q31: 1.7594
K32: New Zealand | L32: 3.04882 | M32: 19.063 | O32: Croatia | P32: 0 | Q32: 1.4313
K33: Cyprus | L33: 0.658464 | M33: 6.38 | O33: Slovenia | P33: 0.3149 | Q33: 1.5764
K34: Israel | L34: 1.103622 | M34: 6.937 | O34: Poland | P34: 1.1199 | Q34: 1.5239
K35: Hong Kong SAR | L35: -1.54157 | M35: 11.7 | O35: Romania | P35: 2.4293 | Q35: 1.2081
K36: Korea | L36: 0.872652 | M36: 3.442
K37: Singapore | L37: 2.866117 | M37: 16.258
K38: Czech Republic | L38: 1.000939 | M38: 5.444
K39: Slovak Republic | L39: 2.12534 | M39: 3.795
K40: Estonia | L40: 1.56091 | M40: 3.49
K41: Latvia | L41: 0.861732 | M41: 7.928
K42: Lithuania | L42: 1.527305 | M42: 4.681
K43: Slovenia | L43: 0.314942 | M43: 5.346
J45: Emerging market developing economies | K45: Türkiye | L45: 7.392686 | M45: 1.071
K46: South Africa | L46: -0.51018 | M46: 5.477
K47: Brazil | L47: 2.072464 | M47: 8.257
K48: Chile | L48: 1.23962 | M48: 8.245
...

Sheet Figure 1.2.1.
J2: Figure 1.2.1. Decomposition of GDP Deflator Growth by Income Components
J3: (Percent)
K8: Gross operating surplus | L8: Net tax change | M8: Compensation of employees | N8: GDP deflator cumulative growth
J9: Canada | K9: 5.52 | L9: 0.68 | M9: 4.57 | N9: 10.78
J10: United States | K10: 3.47 | L10: -0.93 | M10: 4.73 | N10: 7.27
J11: United Kingdom | K11: 1.82 | L11: -0.56 | M11: 4.7 | N11: 5.96
J12: Euro area | K12: 1.24 | L12: -1.28 | M12: 4.36 | N12: 4.32

Sheet Figure 1.2.2.
J2: Figure 1.2.2. Sales-Weighted Markups and CPI for Selected Advanced Economies
J3: (Index, 2000 = 100)
J5: 1. United States | N5: 2. Canada | R5: 3. EA4 | V5: 4. United Kingdom
K8: Sales-weighted average markup (exluding financial sector) | L8: Consumer price index | O8: Sales-weighted average markup (exluding financial sector) | P8: Consumer price index | S8: Sales-weighted average markup (exluding financial sector) | T8: Consumer price index | W8: Sales-weighted average markup (exluding financial sector) | X8: Consumer price index
J9: 2000 | K9: 100 | L9: 100 | N9: 2000 | O9: 100 | P9: 100 | R9: 2000 | S9: 100 | T9: 100 | V9: 2000 | W9: 100 | X9: 100
J10: 2001 | K10: 100.7059 | L10: 102.8166 | N10: 2001 | O10: 94.88475 | P10: 102.5248 | R10: 2001 | S10: 100.4838 | T10: 102.343 | V10: 2001 | W10: 96.76297 | X10: 101.2341
J11: 2002 | K11: 105.3024 | L11: 104.4572 | N11: 2002 | O11: 100.3262 | P11: 104.8409 | R11: 2002 | S11: 103.6783 | T11: 104.6467 | V11: 2002 | W11: 99.17698 | X11: 102.5081
J12: 2003 | K12: 105.9373 | L12: 106.8575 | N12: 2003 | O12: 107.8704 | P12: 107.7326 | R12: 2003 | S12: 104.6871 | T12: 106.8244 | V12: 2003 | W12: 98.95677 | X12: 103.9045
J13: 2004 | K13: 104.8894 | L13: 109.7078 | N13: 2004 | O13: 110.8755 | P13: 109.7332 | R13: 2004 | S13: 103.476 | T13: 109.1158 | V13: 2004 | W13: 100.4279 | X13: 105.301
J14: 2005 | K14: 104.5726 | L14: 113.4007 | N14: 2005 | O14: 113.3219 | P14: 112.1625 | R14: 2005 | S14: 106.0173 | T14: 111.4935 | V14: 2005 | W14: 100.937 | X14: 107.4665
J15: 2006 | K15: 105.4719 | L15: 117.0542 | N15: 2006 | O15: 110.987 | P15: 114.4084 | R15: 2006 | S15: 106.55 | T15: 113.9262 | V15: 2006 | W15: 104.956 | X15: 109.969
J16: 2007 | K16: 105.6873 | L16: 120.4144 | N16: 2007 | O16: 110.4505 | P16: 116.8545 | R16: 2007 | S16: 107.9378 | T16: 116.3586 | V16: 2007 | W16: 107.9156 | X16: 112.5239
J17: 2008 | K17: 105.0069 | L17: 125.0081 | N17: 2008 | O17: 113.1785 | P17: 119.6246 | R17: 2008 | S17: 105.623 | T17: 120.167 | V17: 2008 | W17: 106.3749 | X17: 116.5756
J18: 2009 | K18: 106.6663 | L18: 124.608 | N18: 2009 | O18: 106.5969 | P18: 119.9822 | R18: 2009 | S18: 106.8008 | T18: 120.5167 | V18: 2009 | W18: 108.6028 | X18: 119.1002
J19: 2010 | K19: 108.0492 | L19: 126.647 | N19: 2010 | O19: 112.9377 | P19: 122.1148 | R19: 2010 | S19: 105.4042 | T19: 122.4702 | V19: 2010 | W19: 114.2537 | X19: 123.0281
J20: 2011 | K20: 107.1497 | L20: 130.6234 | N20: 2011 | O20: 114.6587 | P20: 125.6702 | R20: 2011 | S20: 104.7948 | T20: 125.7941 | V20: 2011 | W20: 117.0558 | X20: 128.5203
... J30: 2021 | K30: 118.706 | L30: 157.3621 | N30: 2021 | O30: 134.5527 | P30: 148.475 | R30: 2021 | S30: 128.57 | T30: 141.7326 | V30: 2021 | W30: 115.5639 | X30: 153.4718

Sheet Figure 1.2.3.
J2: Figure 1.2.3. Coefficient of Production Costs Pass-Through to Prices
J3: (percent)
K8: Pass-through coefficient | L8: Upper bound | M8: Lower bound
J9: Bottom 20 percent | K9: 0.9433 | L9: 0.9855 | M9: 0.9011
J10: 20th-40th | K10: 1.0262 | L10: 1.122 | M10: 0.9304
J11: 40th-60th | K11: 0.984 | L11: 1.1758 | M11: 0.7922
J12: 60th-80th | K12: 0.7913 | L12: 0.8742 | M12: 0.7084
J13: Top 20 percent | K13: 0.6111 | L13: 0.7109 | M13: 0.5112

Sheet Figure 1.3.1.
J2: Figure 1.3.1. Distribution of World GDP Growth Forecast
J3: (Percent)
J5: 1. Forecast Uncertainty without Judgment | AF5: 2. Forecast Uncertainty with Judgment
K8: WEO baseline projection | L8: 95th percentile | M8: 90th percentile | N8: 85th percentile | O8: 80th percentile | P8: 75th percentile | Q8: 70th percentile | R8: 65th percentile | S8: 60th percentile | T8: 55th percentile | U8: 50th percentile | V8: 45th percentile | W8: 40th percentile | X8: 35th percentile | Y8: 30th percentile | Z8: 25th percentile | AA8: 20th percentile | AB8: 15th percentile | AC8: 10th percentile | AD8: 5th percentile | AG8: WEO baseline projection | AH8: 95th percentile | AI8: 90th percentile | AJ8: 85th percentile | AK8: 80th percentile | AL8: 75th percentile | AM8: 70th percentile | AN8: 65th percentile | AO8: 60th percentile | AP8: 55th percentile | AQ8: 50th percentile | AR8: 45th percentile | AS8: 40th percentile | AT8: 35th percentile | AU8: 30th percentile | AV8: 25th percentile | AW8: 20th percentile | AX8: 15th percentile | AY8: 10th percentile | AZ8: 5th percentile
J9: 2021 | K9: 6.02 | L9: 6.02 | M9: 6.02 | N9: 6.02 | O9: 6.02 | P9: 6.02 | Q9: 6.02 | R9: 6.02 | S9: 6.02 | T9: 6.02 | U9: 6.02 | V9: 6.02 | W9: 6.02 | X9: 6.02 | Y9: 6.02 | Z9: 6.02 | AA9: 6.02 | AB9: 6.02 | AC9: 6.02 | AD9: 6.02 | AF9: 2021 | AG9: 6.02 | AH9: 6.02 | AI9: 6.02 | AJ9: 6.02 | AK9: 6.02 | AL9: 6.02 | AM9: 6.02 | AN9: 6.02 | AO9: 6.02 | AP9: 6.02 | AQ9: 6.02 | AR9: 6.02 | AS9: 6.02 | AT9: 6.02 | AU9: 6.02 | AV9: 6.02 | AW9: 6.02 | AX9: 6.02 | AY9: 6.02 | AZ9: 6.02
J10: 2022 | K10: 3.19 | L10: 3.84 | M10: 3.69 | N10: 3.54 | O10: 3.42 | P10: 3.35 | Q10: 3.3 | R10: 3.27 | S10: 3.24 | T10: 3.22 | U10: 3.2 | V10: 3.18 | W10: 3.16 | X10: 3.13 | Y10: 3.11 | Z10: 3.07 | AA10: 3.03 | AB10: 2.96 | AC10: 2.85 | AD10: 2.61 | AF10: 2022 | AG10: 3.19 | AH10: 3.82 | AI10: 3.65 | AJ10: 3.49 | AK10: 3.38 | AL10: 3.32 | AM10: 3.27 | AN10: 3.24 | AO10: 3.22 | AP10: 3.19 | AQ10: 3.17 | AR10: 3.14 | AS10: 3.11 | AT10: 3.08 | AU10: 3.03 | AV10: 2.96 | AW10: 2.81 | AX10: 2.26 | AY10: 2.17 | AZ10: 2.11
J11: 2023 | K11: 2.66 | L11: 4.08 | M11: 3.74 | N11: 3.48 | O11: 3.25 | P11: 3.09 | Q11: 2.98 | R11: 2.88 | S11: 2.8 | T11: 2.73 | U11: 2.66 | V11: 2.6 | W11: 2.53 | X11: 2.46 | Y11: 2.37 | Z11: 2.28 | AA11: 2.15 | AB11: 1.99 | AC11: 1.78 | AD11: 1.06 | AF11: 2023 | AG11: 2.66 | AH11: 4.19 | AI11: 3.85 | AJ11: 3.65 | AK11: 3.47 | AL11: 3.23 | AM11: 3.04 | AN11: 2.91 | AO11: 2.81 | AP11: 2.72 | AQ11: 2.64 | AR11: 2.55 | AS11: 2.45 | AT11: 2.35 | AU11: 2.2 | AV11: 2.01 | AW11: 1.74 | AX11: 1.14 | AY11: 0.73 | AZ11: 0.39
J12: 2024 | K12: 3.18 | L12: 4.65 | M12: 4.31 | N12: 4.04 | O12: 3.81 | P12: 3.65 | Q12: 3.52 | R12: 3.42 | S12: 3.33 | T12: 3.25 | U12: 3.17 | V12: 3.11 | W12: 3.03 | X12: 2.95 | Y12: 2.86 | Z12: 2.76 | AA12: 2.64 | AB12: 2.48 | AC12: 2.26 | AD12: 1.64 | AF12: 2024 | AG12: 3.18 | AH12: 4.83 | AI12: 4.46 | AJ12: 4.23 | AK12: 4.03 | AL12: 3.84 | AM12: 3.67 | AN12: 3.53 | AO12: 3.4 | AP12: 3.29 | AQ12: 3.18 | AR12: 3.09 | AS12: 2.99 | AT12: 2.87 | AU12: 2.72 | AV12: 2.52 | AW12: 2.23 | AX12: 1.7 | AY12: 1.25 | AZ12: 0.88
J13: 2025 | K13: 3.35 | L13: 4.82 | M13: 4.47 | N13: 4.2 | O13: 4 | P13: 3.84 | Q13: 3.71 | R13: 3.6 | S13: 3.51 | T13: 3.44 | U13: 3.36 | V13: 3.29 | W13: 3.21 | X13: 3.13 | Y13: 3.04 | Z13: 2.94 | AA13: 2.81 | AB13: 2.65 | AC13: 2.43 | AD13: 1.88 | AF13: 2025 | AG13: 3.35 | AH13: 5.06 | AI13: 4.68 | AJ13: 4.44 | AK13: 4.25 | AL13: 4.07 | AM13: 3.91 | AN13: 3.76 | AO13: 3.64 | AP13: 3.53 | AQ13: 3.42 | AR13: 3.31 | AS13: 3.21 | AT13: 3.08 | AU13: 2.94 | AV13: 2.74 | AW13: 2.43 | AX13: 1.93 | AY13: 1.45 | AZ13: 1.07

Sheet Figure 1.3.2.
J2: Figure 1.3.2. Impact of Downside Scenario on GDP and Inflation
J5: 1. Impact on GDP Level | U5: 2. Impact on Headline Inflation | AF5: 3. Baseline Growth Projection, Confidence Bands and Downside Scenario
J6: (Percent deviation from baseline) | U6: (Percentage point deviation from baseline) | AF6: (Percent)
